From mboxrd@z Thu Jan  1 00:00:00 1970
Return-Path: <test-report-bounces@dpdk.org>
Received: from mails.dpdk.org (mails.dpdk.org [217.70.189.124])
	by inbox.dpdk.org (Postfix) with ESMTP id 138944659A
	for <public@inbox.dpdk.org>; Tue, 15 Apr 2025 16:30:17 +0200 (CEST)
Received: from mails.dpdk.org (localhost [127.0.0.1])
	by mails.dpdk.org (Postfix) with ESMTP id 1074F40289;
	Tue, 15 Apr 2025 16:30:17 +0200 (CEST)
Received: from mail-il1-f225.google.com (mail-il1-f225.google.com
 [209.85.166.225])
 by mails.dpdk.org (Postfix) with ESMTP id EB66E40263
 for <test-report@dpdk.org>; Tue, 15 Apr 2025 16:30:15 +0200 (CEST)
Received: by mail-il1-f225.google.com with SMTP id
 e9e14a558f8ab-3d439dc0548so19087385ab.3
 for <test-report@dpdk.org>; Tue, 15 Apr 2025 07:30:15 -0700 (PDT)
DKIM-Signature: v=1; a=rsa-sha256; c=relaxed/relaxed;
 d=iol.unh.edu; s=unh-iol; t=1744727415; x=1745332215; darn=dpdk.org;
 h=references:in-reply-to:cc:to:from:subject:message-id:date:from:to
 :cc:subject:date:message-id:reply-to;
 bh=tdCJcK6e9oiGgGtTG0Y2ykxD9MPgeN/HrCaVkNNEOeo=;
 b=QsXYUdNMybPh/e6ig+JCkfxaqr0pgm1NmPPG1o6bDm54/Ekso5XcjdOaE8WfjPAl62
 hklS3lnkMMNrtQEOuQkldeyYpeLrp1fRBc0/XbqHPoeLb2UBcNmBfDGqthm/TsDIpixL
 Pg6yAghbnK9RTEdlmXQuX9LHUS9dkuZdKF140=
X-Google-DKIM-Signature: v=1; a=rsa-sha256; c=relaxed/relaxed;
 d=1e100.net; s=20230601; t=1744727415; x=1745332215;
 h=references:in-reply-to:cc:to:from:subject:message-id:date
 :x-gm-message-state:from:to:cc:subject:date:message-id:reply-to;
 bh=tdCJcK6e9oiGgGtTG0Y2ykxD9MPgeN/HrCaVkNNEOeo=;
 b=sw3DOlUgiVutwv5JqEaxH1H0nOX2kd3wp0l27SHLkLaVpCfqkI6DZaWiyn/hIQDU3t
 ohNqYfefbtT9651O6cSYaAN8EhLiTDMn6L1VNbaOsLVOxruM66GL7X2kQN15hubjmhEO
 /bRZRsO6uJ6vkkec+9dapGPtvFCqtCdiUkdLnmQRJvP5MY7wSKr9iIkP8Zl5wVnJt4Rz
 uIzrC/79bwiB2+Q5uZPTOjdcXy0zYDmC7Sd0DbE932n2qFdmIt/HxH0oV6v6AAN5zcbi
 LWYonBWjEImCWYdzreKUWQmRCEXeh9S2DcUZQy+upTtySa/jezAmd2PoS1X9QIzad2dL
 +QyQ==
X-Gm-Message-State: AOJu0YxwvhL6cvbZL6EVZr+F0JbjMLONf8hDTWHMEiRSOSvE6wxyOKhq
 5X9KA1q+aF97RFUTpOC+f8j6ihLdpVx9nKT+CJoz4THF4X3PA8NNgbtNH04H4a744XEpk2ZeFXG
 0eE+7p68s8AestOgDjZ5PIBouJOURvJg+SA+6skL4
X-Gm-Gg: ASbGncusRlpqCw0jwXK5rDT+NUeSiSOUqAOw7nencZSNTGOuzE0CEddJxyXNlYef6W0
 NsHRNxkdVXRLtsfGoc0UzRC/t/+GRFob4Vy4HdP20M/Gxe531YwTiw/xXoPqRqqZN9WPvu1CrLB
 ODnm7ZA8hJyUG6IOPqxAYTEkDki/I1WjvyGre4plEVSP+68uEikXy7sSvzNY4V+GPSR4G/+bkcS
 0cdckmhmNy9lGi76EnzIXwFROs24w2wP3aI4+a/ffDGKjfIIxqBUeube9yjHi9/Mn/1qmvz81rM
 yjfDctZxlNGEvNqFaoM2JZgiTW4S9ZDps5Cy
X-Google-Smtp-Source: AGHT+IEWc27yMNfgqwYWatKcKQ+B6gVvRVWNm8MVddugAH13FW2tupbobcRJiGkY0L9EyhiLD8vVfmumv1wn
X-Received: by 2002:a05:6e02:248f:b0:3d3:f775:cec0 with SMTP id
 e9e14a558f8ab-3d7ec278027mr185391475ab.22.1744727415217; 
 Tue, 15 Apr 2025 07:30:15 -0700 (PDT)
Received: from postal.iol.unh.edu (postal.iol.unh.edu. [132.177.123.84])
 by smtp-relay.gmail.com with ESMTPS id
 e9e14a558f8ab-3d7dbaa4124sm7653875ab.36.2025.04.15.07.30.15
 (version=TLS1_2 cipher=ECDHE-ECDSA-AES128-GCM-SHA256 bits=128/128);
 Tue, 15 Apr 2025 07:30:15 -0700 (PDT)
X-Relaying-Domain: iol.unh.edu
Date: Tue, 15 Apr 2025 07:30:15 -0700 (PDT)
Message-ID: <67fe6d77.050a0220.d8edc.5d4eSMTPIN_ADDED_MISSING@mx.google.com>
Received: from [172.21.0.5] (unknown [172.18.0.240])
 by postal.iol.unh.edu (Postfix) with ESMTP id 9B6756052471;
 Tue, 15 Apr 2025 10:30:14 -0400 (EDT)
Subject: |SUCCESS| pw152917 [PATCH] [v1] net/zxdh: add support E31X series de
From: dpdklab@iol.unh.edu
To: Test Report <test-report@dpdk.org>
Cc: dpdk-test-reports@iol.unh.edu
In-Reply-To: <20250415084227.443617-1-wang.junlong1@zte.com.cn>
References: <20250415084227.443617-1-wang.junlong1@zte.com.cn>
Content-Type: text/plain
X-BeenThere: test-report@dpdk.org
X-Mailman-Version: 2.1.29
Precedence: list
List-Id: automatic DPDK test reports <test-report.dpdk.org>
List-Unsubscribe: <https://mails.dpdk.org/options/test-report>,
 <mailto:test-report-request@dpdk.org?subject=unsubscribe>
List-Archive: <http://mails.dpdk.org/archives/test-report/>
List-Post: <mailto:test-report@dpdk.org>
List-Help: <mailto:test-report-request@dpdk.org?subject=help>
List-Subscribe: <https://mails.dpdk.org/listinfo/test-report>,
 <mailto:test-report-request@dpdk.org?subject=subscribe>
Errors-To: test-report-bounces@dpdk.org

Test-Label: iol-unit-amd64-testing
Test-Status: SUCCESS
http://dpdk.org/patch/152917

_Testing PASS_

Submitter: Junlong Wang <wang.junlong1@zte.com.cn>
Date: Tuesday, April 15 2025 08:42:26 
DPDK git baseline: Repo:dpdk
  Branch: master
  CommitID:076c6f28ae606d6d2059b8903208fd728187cbff

152917 --> testing pass

Upstream job id: Generic-Unit-Test-DPDK#331146

Test environment and result as below:

+-------------------+----------------+
|    Environment    | dpdk_unit_test |
+===================+================+
| Debian 12         | PASS           |
+-------------------+----------------+
| CentOS Stream 9   | PASS           |
+-------------------+----------------+
| Fedora 40 (Clang) | PASS           |
+-------------------+----------------+
| RHEL9             | PASS           |
+-------------------+----------------+
| CentOS Stream 10  | PASS           |
+-------------------+----------------+
| Fedora 40         | PASS           |
+-------------------+----------------+
| Fedora 41 (Clang) | PASS           |
+-------------------+----------------+
| Fedora 41         | PASS           |
+-------------------+----------------+
| Ubuntu 24.04      | PASS           |
+-------------------+----------------+
| RHEL8             | PASS           |
+-------------------+----------------+
| Ubuntu 20.04      | PASS           |
+-------------------+----------------+
| Ubuntu 22.04      | PASS           |
+-------------------+----------------+


Debian 12
	Kernel: Depends on container host
	Compiler: gcc (Debian 12.2.0-14) 12.2.0

CentOS Stream 9
	Kernel: Depends on container host
	Compiler: gcc 11.5.0 20240719 (Red Hat 11.5.0-2)

Fedora 40 (Clang)
	Kernel: Depends on container host
	Compiler: clang 18.1.8 (Fedora 18.1.8-1.fc40)

RHEL9
	Kernel: Depends on container host
	Compiler: gcc 11.5.0 20240719 (Red Hat 11.5.0-2)

CentOS Stream 10
	Kernel: Depends on container host
	Compiler: gcc 14.2.1 20241104 (Red Hat 14.2.1-6)

Fedora 40
	Kernel: Depends on container host
	Compiler: gcc 14.2.1 20240912 (Red Hat 14.2.1-3)

Fedora 41 (Clang)
	Kernel: Depends on container host
	Compiler: clang 19.1.5 (Fedora 19.1.5-1.fc41)

Fedora 41
	Kernel: Depends on container host
	Compiler: gcc 14.2.1 20240912 (Red Hat 14.2.1-3)

Ubuntu 24.04
	Kernel: Depends on container host
	Compiler: gcc (Ubuntu 13.3.0-6ubuntu2~24.04) 13.3.0

RHEL8
	Kernel: Depends on container host
	Compiler: gcc 8.5.0 20210514 (Red Hat 8.5.0-22)

Ubuntu 20.04
	Kernel: Depends on container host
	Compiler: gcc (Ubuntu 9.4.0-1ubuntu1~20.04.2) 9.4.0

Ubuntu 22.04
	Kernel: Depends on container host
	Compiler: gcc (Ubuntu 11.4.0-1ubuntu1~22.04) 11.4.0

To view detailed results, visit:
https://lab.dpdk.org/results/dashboard/patchsets/33008/

UNH-IOL DPDK Community Lab

To manage your email subscriptions, visit: 
https://lab.dpdk.org/results/dashboard/preferences/subscriptions/