From mboxrd@z Thu Jan 1 00:00:00 1970 Return-Path: Received: from mails.dpdk.org (mails.dpdk.org [217.70.189.124]) by inbox.dpdk.org (Postfix) with ESMTP id 780D44659F for ; Tue, 15 Apr 2025 21:23:53 +0200 (CEST) Received: from mails.dpdk.org (localhost [127.0.0.1]) by mails.dpdk.org (Postfix) with ESMTP id 55C5040289; Tue, 15 Apr 2025 21:23:53 +0200 (CEST) Received: from mail-qv1-f99.google.com (mail-qv1-f99.google.com [209.85.219.99]) by mails.dpdk.org (Postfix) with ESMTP id A911140263 for ; Tue, 15 Apr 2025 21:23:52 +0200 (CEST) Received: by mail-qv1-f99.google.com with SMTP id 6a1803df08f44-6e904f53151so51322336d6.3 for ; Tue, 15 Apr 2025 12:23:52 -0700 (PDT) DKIM-Signature: v=1; a=rsa-sha256; c=relaxed/relaxed; d=iol.unh.edu; s=unh-iol; t=1744745032; x=1745349832; darn=dpdk.org; h=references:in-reply-to:cc:to:from:subject:message-id:date:from:to :cc:subject:date:message-id:reply-to; bh=k0dd+ypXqpim0HS7VZD218IbWg/rh0unIaMmtUvSt5c=; b=KglZHnaFhkoa7gVVoRuBTgGCIL4cux9xG0hH3LTCACQvvtbgw4X7Uvv4cGfc6W2C/o vfKXSDNsxblZ/5Wbe6vcalP0Nk8LJiFoz2XIl85keDrqOqoiQ7jk2Po4OAAdJRDJpPpx d/mhsenxpQ2/ghAfyDt3gQcYBunX5M+1RJg6I= X-Google-DKIM-Signature: v=1; a=rsa-sha256; c=relaxed/relaxed; d=1e100.net; s=20230601; t=1744745032; x=1745349832; h=references:in-reply-to:cc:to:from:subject:message-id:date :x-gm-message-state:from:to:cc:subject:date:message-id:reply-to; bh=k0dd+ypXqpim0HS7VZD218IbWg/rh0unIaMmtUvSt5c=; b=hx15AhdgDfuSpY0XJD2zrpM7Og38ZuYBr77LdZDtGbQloVV20GKVaWWWUuQJO2WDyg 1AI8jkvmQaC+sxv2tqml05ZR2GbpkTZmXwW64AH1OEuh564dw6+6d+0FhsGseCQFNNBp D5iBksixnf9p63g+wtNxlXEh1MoIyiGCfSTxYAjJU3r/M6lRAhuwmKzzBKLnLZAst5so clD2RAPnk1Y4JYDhtUlklgn4/dHmN/EOCB/ENmcxaPf4L9zmzvbihfl1T3iKE7yT3YLi wvMRUwSWIRamJXnGKdmeKkvp7jnPkKqOEHoMSA+lRjFc2gA7TOwdLp8Sbg1710yNW+jy IjIA== X-Gm-Message-State: AOJu0YwRkJm+IM62IA06OhT6on4gSvGFFWRZDFmuGqeRwJOLvgpqyiYw /++uWTh2h74jzJM/FZKIAQQ3zX3kYFkoiOzjIdes643v5DqIiFjXt22RMo6/rdeW8+a4oIOWP/3 zJ7UFnHqZCs+9TsragNp0FiuijQAr6Sxpgi9iPvpC X-Gm-Gg: ASbGncv26H/bUnmO8k6yJqvbXjSQ4u4RSTiSg7dvQIT0b72aXssXOQgFjeEPEhEehdY fBFaWzmBRHGnT0yqm3RRV7/p7fap4DciQbytLnBFdOcCNgNn/e96yDFJPb6l++Ok5wXoYs23Bk0 834wx+hoOZR1EkGAFs8VTyOq7r5JO+BquPA+MV9S3g9oECOTdmIZ/egsxh7+OKxAX6AnPMX4O7B M7DY6WjLQvVci9pSG6ZgGLbnSnuPZ1R4xQCIn30T+TGf+kXO+k+zm8ZFcXEvfwfNhotqUiZEt5Q 761VjzsAfb4sLy7zN3qtzgauh4uGVnevxBHd X-Google-Smtp-Source: AGHT+IET7p5xynKyQCdrwpb3GsfUvfWBnoZoEMHhjp4z8tf+lZWHWDnnA+X6/h4lvzWmY2OhTwhxU7Rw3E+I X-Received: by 2002:a05:6214:20ea:b0:6e8:9d00:3d71 with SMTP id 6a1803df08f44-6f2ad8d1c32mr10371766d6.21.1744745031826; Tue, 15 Apr 2025 12:23:51 -0700 (PDT) Received: from postal.iol.unh.edu (postal.iol.unh.edu. [132.177.123.84]) by smtp-relay.gmail.com with ESMTPS id 6a1803df08f44-6f0de96e48asm8060606d6.25.2025.04.15.12.23.51 (version=TLS1_2 cipher=ECDHE-ECDSA-AES128-GCM-SHA256 bits=128/128); Tue, 15 Apr 2025 12:23:51 -0700 (PDT) X-Relaying-Domain: iol.unh.edu Date: Tue, 15 Apr 2025 12:23:51 -0700 (PDT) Message-ID: <67feb247.050a0220.b6436.8629SMTPIN_ADDED_MISSING@mx.google.com> Received: from [172.17.0.3] (unknown [172.18.0.217]) by postal.iol.unh.edu (Postfix) with ESMTP id 7A43F6052471; Tue, 15 Apr 2025 15:23:51 -0400 (EDT) Subject: |SUCCESS| pw152908 [PATCH] eal: simplify code to avoid Coverity fals From: dpdklab@iol.unh.edu To: Test Report Cc: dpdk-test-reports@iol.unh.edu In-Reply-To: <1744662518-5433-1-git-send-email-andremue@linux.microsoft.com> References: <1744662518-5433-1-git-send-email-andremue@linux.microsoft.com> Content-Type: text/plain X-BeenThere: test-report@dpdk.org X-Mailman-Version: 2.1.29 Precedence: list List-Id: automatic DPDK test reports List-Unsubscribe: , List-Archive: List-Post: List-Help: List-Subscribe: , Errors-To: test-report-bounces@dpdk.org Test-Label: iol-sample-apps-testing Test-Status: SUCCESS http://dpdk.org/patch/152908 _Testing PASS_ Submitter: Andre Muezerie Date: Monday, April 14 2025 20:28:38 DPDK git baseline: Repo:dpdk Branch: master CommitID:ca1690ebd224f148268285b15b97441ccdbdd07e 152908 --> testing pass Upstream job id: Template-DTS-Pipeline#221521 Test environment and result as below: +--------------------+----------------------+----------------------+ | Environment | compressdev_zlib_pmd | dpdk_fips_validation | +====================+======================+======================+ | Ubuntu 22.04 (ARM) | PASS | SKIPPED | +--------------------+----------------------+----------------------+ | Ubuntu 22.04 | PASS | SKIPPED | +--------------------+----------------------+----------------------+ | Ubuntu 20.04 | SKIPPED | PASS | +--------------------+----------------------+----------------------+ Ubuntu 22.04 (ARM) Kernel: 5.15.0-97-generic Compiler: gcc gcc (Ubuntu 11.4.0-1ubuntu1~22.04) 11.4.0 Ubuntu 22.04 Kernel: 5.15.0-100-generic Compiler: gcc gcc (Ubuntu 11.4.0-1ubuntu1~22.04) 11.4.0 Ubuntu 20.04 Kernel: Depends on container host Compiler: gcc (Ubuntu 9.4.0-1ubuntu1~20.04.2) 9.4.0 To view detailed results, visit: https://lab.dpdk.org/results/dashboard/patchsets/33004/ UNH-IOL DPDK Community Lab To manage your email subscriptions, visit: https://lab.dpdk.org/results/dashboard/preferences/subscriptions/