From mboxrd@z Thu Jan 1 00:00:00 1970 Return-Path: Received: from mails.dpdk.org (mails.dpdk.org [217.70.189.124]) by inbox.dpdk.org (Postfix) with ESMTP id 2F508465A0 for ; Tue, 15 Apr 2025 22:11:07 +0200 (CEST) Received: from mails.dpdk.org (localhost [127.0.0.1]) by mails.dpdk.org (Postfix) with ESMTP id 2C18A40289; Tue, 15 Apr 2025 22:11:07 +0200 (CEST) Received: from mail-il1-f227.google.com (mail-il1-f227.google.com [209.85.166.227]) by mails.dpdk.org (Postfix) with ESMTP id 8E6F340263 for ; Tue, 15 Apr 2025 22:11:05 +0200 (CEST) Received: by mail-il1-f227.google.com with SMTP id e9e14a558f8ab-3d589227978so117245ab.1 for ; Tue, 15 Apr 2025 13:11:05 -0700 (PDT) DKIM-Signature: v=1; a=rsa-sha256; c=relaxed/relaxed; d=iol.unh.edu; s=unh-iol; t=1744747865; x=1745352665; darn=dpdk.org; h=references:in-reply-to:cc:to:from:subject:message-id:date:from:to :cc:subject:date:message-id:reply-to; bh=uO7/OulVCrLOzMVZ9TVU9u7VOEicN0LySfSqRfS5guk=; b=QnhmhHvjLACiD+tIzLuV11Ok45ShE1oJm1E5yJsgzEommXtWKAn1VztV6O1Tg/OadC ZwqIWtwooyC5Ayi8PQdV7AvHsGoE08gjRc0FEjl6hlSqc9AMgokP3KwuZI3WElDd4mw8 nL6jGWN17Xbhvx/pw0cgYsrn40Gnup3ZeflVs= X-Google-DKIM-Signature: v=1; a=rsa-sha256; c=relaxed/relaxed; d=1e100.net; s=20230601; t=1744747865; x=1745352665; h=references:in-reply-to:cc:to:from:subject:message-id:date :x-gm-message-state:from:to:cc:subject:date:message-id:reply-to; bh=uO7/OulVCrLOzMVZ9TVU9u7VOEicN0LySfSqRfS5guk=; b=rFFj2XkxMs739Aq5/Q+j+tnR0KpJZHmCOXt63Md+EvJzO4PgBhg1Wn4VM75X6VhFz9 /EqybwUby0O49qJKRYKCwNlDWPJjj1TLYvJz7jHZ4KUm+MoIYchmswb6R6AT9j8X76mz jMoM1dT3BhqmqGD3FgHbGDGJMeuP3EJ+9lOg1ylnCLPUgwBklWVphTmOy3cGkxxJknXm 2XmunxQpQlIWe4N4EMLlOvEanJt+8k/UeP5H+1Gf4lNlGtO6fjIGhNNvXEss6oDrLeFO tmStM+qtpebRiWFYzPB+IeTYP/iv4CXaP6LNxKxlZf5BDx4ExYgGcjdl/NwzeccJnvy9 yiVw== X-Gm-Message-State: AOJu0YziDMKSffcX+wMKMO7HRGBs2JbjBZ98sojk3teZvUAWdAsB37VO esmDPMyAg2bJ1K4wBTi4nq2PxYf3B8E7dO6tkWyCEBn0j3KmVVL92BF/vbLaiH3NarvPKnlwP2Q 7gS67nwNd+IBxbyCSRlvxqDtphW3tS0YfPkTeqCac X-Gm-Gg: ASbGnctl4rAlDPgRvsB09KQPIhrrK12bA10z6qlBRiuYWJbvsLu4JZA8p45TAx0mtPZ IGu3/E+QEFNVI1H7pOiJiWl8Y46RsXIscNU3vUGAYzBhX3s/xkHlwIQ6ehr4aiIsgM4VNXywpVb HtKqQmK4iC7tGQ8N4A5NeXCx6TIvtnk46+xL1N5fhLxYjXxWiV2y9q5iOxVGEQCFJv3w5mwfxCR q6jR2szdVow7quZpTnwPyvBfEUFbf3kdkoZyCChdXkmKXQEGbjfVnV97Q/P/UKLK1xp1bYRusDr mMjhO7m95AFXLS2mEFDZvhXttUTA6MKROXO+ X-Google-Smtp-Source: AGHT+IHe44PCjafRW5jtWxP7Cjt2j0aIArxzcW6VNo1V16wgmpm54+pphRDKCDACetVkSICsGOLbGaVKyxeQ X-Received: by 2002:a05:6e02:1565:b0:3d4:2acc:81fa with SMTP id e9e14a558f8ab-3d8120f9dbamr11610075ab.2.1744747864866; Tue, 15 Apr 2025 13:11:04 -0700 (PDT) Received: from postal.iol.unh.edu (postal.iol.unh.edu. [132.177.123.84]) by smtp-relay.gmail.com with ESMTPS id e9e14a558f8ab-3d7dba8d9casm7816445ab.19.2025.04.15.13.11.04 (version=TLS1_2 cipher=ECDHE-ECDSA-AES128-GCM-SHA256 bits=128/128); Tue, 15 Apr 2025 13:11:04 -0700 (PDT) X-Relaying-Domain: iol.unh.edu Date: Tue, 15 Apr 2025 13:11:04 -0700 (PDT) Message-ID: <67febd58.050a0220.e00e4.6789SMTPIN_ADDED_MISSING@mx.google.com> Received: from [172.21.0.5] (unknown [172.18.0.240]) by postal.iol.unh.edu (Postfix) with ESMTP id 48A2D6052471; Tue, 15 Apr 2025 16:11:04 -0400 (EDT) Subject: |SUCCESS| pw152907 [PATCH] net/intel: fix igb tx queue offloads capa From: dpdklab@iol.unh.edu To: Test Report Cc: dpdk-test-reports@iol.unh.edu In-Reply-To: <20250414085353.848901-1-kaiwenx.deng@intel.com> References: <20250414085353.848901-1-kaiwenx.deng@intel.com> Content-Type: text/plain X-BeenThere: test-report@dpdk.org X-Mailman-Version: 2.1.29 Precedence: list List-Id: automatic DPDK test reports List-Unsubscribe: , List-Archive: List-Post: List-Help: List-Subscribe: , Errors-To: test-report-bounces@dpdk.org Test-Label: iol-sample-apps-testing Test-Status: SUCCESS http://dpdk.org/patch/152907 _Testing PASS_ Submitter: Kaiwen Deng Date: Monday, April 14 2025 08:53:52 DPDK git baseline: Repo:dpdk Branch: master CommitID:d7817c378fecd07c59360667f93c25dff4b1a145 152907 --> testing pass Upstream job id: Template-DTS-Pipeline#221536 Test environment and result as below: +--------------------+----------------------+----------------------+ | Environment | compressdev_zlib_pmd | dpdk_fips_validation | +====================+======================+======================+ | Ubuntu 22.04 (ARM) | PASS | SKIPPED | +--------------------+----------------------+----------------------+ | Ubuntu 22.04 | PASS | SKIPPED | +--------------------+----------------------+----------------------+ | Ubuntu 20.04 | SKIPPED | PASS | +--------------------+----------------------+----------------------+ Ubuntu 22.04 (ARM) Kernel: 5.15.0-97-generic Compiler: gcc gcc (Ubuntu 11.4.0-1ubuntu1~22.04) 11.4.0 Ubuntu 22.04 Kernel: 5.15.0-100-generic Compiler: gcc gcc (Ubuntu 11.4.0-1ubuntu1~22.04) 11.4.0 Ubuntu 20.04 Kernel: Depends on container host Compiler: gcc (Ubuntu 9.4.0-1ubuntu1~20.04.2) 9.4.0 To view detailed results, visit: https://lab.dpdk.org/results/dashboard/patchsets/33003/ UNH-IOL DPDK Community Lab To manage your email subscriptions, visit: https://lab.dpdk.org/results/dashboard/preferences/subscriptions/