From mboxrd@z Thu Jan 1 00:00:00 1970 Return-Path: Received: from mails.dpdk.org (mails.dpdk.org [217.70.189.124]) by inbox.dpdk.org (Postfix) with ESMTP id 5F372465A0 for ; Tue, 15 Apr 2025 23:06:44 +0200 (CEST) Received: from mails.dpdk.org (localhost [127.0.0.1]) by mails.dpdk.org (Postfix) with ESMTP id 3AE8F40289; Tue, 15 Apr 2025 23:06:44 +0200 (CEST) Received: from mail-qk1-f228.google.com (mail-qk1-f228.google.com [209.85.222.228]) by mails.dpdk.org (Postfix) with ESMTP id 296BB40263 for ; Tue, 15 Apr 2025 23:06:43 +0200 (CEST) Received: by mail-qk1-f228.google.com with SMTP id af79cd13be357-7c58974ed57so562216685a.2 for ; Tue, 15 Apr 2025 14:06:43 -0700 (PDT) DKIM-Signature: v=1; a=rsa-sha256; c=relaxed/relaxed; d=iol.unh.edu; s=unh-iol; t=1744751202; x=1745356002; darn=dpdk.org; h=cc:to:from:subject:message-id:date:from:to:cc:subject:date :message-id:reply-to; bh=WQ74o0iZnOxFOlieilEeHRCGttOnFhcuYmHjH7eNkVU=; b=MXu0clg/JehgfgYRaVpZlEUnn8TlWA3V4JdqQGWf6SKZI5w1ER6O1wGqYzcwh8c/OX BG8JZS7f6KBMQISlMBv9A7rmoeAXS6i3p0WYtflQYSIR/s9MX1O18hDWoPcF3EOwm7VY vT8Mew9ID1kLW6gHEJqVDfDkzomfb9AW0FdNM= X-Google-DKIM-Signature: v=1; a=rsa-sha256; c=relaxed/relaxed; d=1e100.net; s=20230601; t=1744751202; x=1745356002; h=cc:to:from:subject:message-id:date:x-gm-message-state:from:to:cc :subject:date:message-id:reply-to; bh=WQ74o0iZnOxFOlieilEeHRCGttOnFhcuYmHjH7eNkVU=; b=rme6HI/iFPNipLgwYAvgbFHDT4up+yBq/JLhKLEjoqRx36yG1E0gjpKAzbk2mYQxez iF8o+A5XymIuCtB/0Ki+ITW6bSyKK/9lUZOACu2kelzwiMcsaQ2/6/DF4fD3y3jRmB0n Kizt8mIVUdoHS9iGPjlLovkOxiZPSy3COgfowC/24a8mvLjf2ftpaUJZ5CFCphy+Lldx U0r+vesvXk+ZqlcNWdcRJUECXEC2DW0wR218Okp2gktjJ/WEexOkj8JhcQIpllh2GijK erD3QzLeqCfw34BCsaI+goxnlcYKpqcPWexx5lFy+qkpVSD/kDTd6Jq8WL8wpIEBsIt8 XyqA== X-Gm-Message-State: AOJu0YxYqNPIBLZT6aBwkwpoABsrT+N+YziEAMZ0UuMBDba910sAPq5L V7YfZMr0tW5O++nYTxL4rlBslHe6A9ZiaC3N8qhljnCG8pkYNX8kPdfsI+Wgxb1b9GRWglsatLk 0yFV6sYE8HWJK4OiualLrqp9V3fLlX7Kfkw1PIA7wGACOcgDq6AcmhN1A X-Gm-Gg: ASbGncu2NkUnfzY7GgtVDc8oaEacvwYA41u23wkD0twEHYn1zOTJjrL6D7ar/mFwJVw r3U+Get+U1C4+/H0vTiRIVWScQ8ETPFjSYVb+P4cGcMOnKlb0ixTLJ5iZ9XfIazRjbcxmFim2c3 DIwZDWxc6WyZGGkGboLJ93D5Is2a+76yQi0qomyT/W1EWJ0A+B3ppr0JQmGeMtAMOvG9v/0Up+d v5RKCihcMSVp1CwwaWz9saxJaLb6BSPGlFHIUb9z3mFtmvw3+7M+9wDLP/24dGkk1Wu1WMNCzaM gy2VG+VOg+BMJOT8BEId559LX0audXRWfQMnm/9/XDM9mnq8 X-Google-Smtp-Source: AGHT+IHEyQ6I+T/gQq5bgLQsfjCF87MufiOT1pMSjgqCIFgAehH0ZTHp6QsliP7qwC/5Z6Wh4DSKpIfOCED9 X-Received: by 2002:a05:620a:2695:b0:7c0:be39:1a34 with SMTP id af79cd13be357-7c91427a343mr169624885a.43.1744751202446; Tue, 15 Apr 2025 14:06:42 -0700 (PDT) Received: from postal.iol.unh.edu (postal.iol.unh.edu. [2606:4100:3880:1234::84]) by smtp-relay.gmail.com with ESMTPS id a1e0cc1a2514c-875572a3d2asm292008241.11.2025.04.15.14.06.42 (version=TLS1_2 cipher=ECDHE-ECDSA-AES128-GCM-SHA256 bits=128/128); Tue, 15 Apr 2025 14:06:42 -0700 (PDT) X-Relaying-Domain: iol.unh.edu Date: Tue, 15 Apr 2025 14:06:42 -0700 (PDT) Message-ID: <67feca62.050a0220.38c289.d3b7SMTPIN_ADDED_MISSING@mx.google.com> Received: from [172.17.0.3] (unknown [172.18.0.217]) by postal.iol.unh.edu (Postfix) with ESMTP id EC8586052472; Tue, 15 Apr 2025 17:06:41 -0400 (EDT) Subject: |SUCCESS| [GIT MASTER] ca1690ebd224f148268285b15b97441ccdbdd07e From: dpdklab@iol.unh.edu To: Test Report Cc: dpdk-test-reports@iol.unh.edu, Akhil Goyal Content-Type: text/plain X-BeenThere: test-report@dpdk.org X-Mailman-Version: 2.1.29 Precedence: list List-Id: automatic DPDK test reports List-Unsubscribe: , List-Archive: List-Post: List-Help: List-Subscribe: , Errors-To: test-report-bounces@dpdk.org _Testing PASS_ Branch: dpdk-next-crypto ca1690ebd224f148268285b15b97441ccdbdd07e --> testing pass Upstream job id: Generic-Unit-Test-DPDK#331178 Test environment and result as below: +-----------------------------+----------------+---------------------------+------------------------------+--------------+ | Environment | dpdk_unit_test | cryptodev_sw_zuc_autotest | cryptodev_sw_snow3g_autotest | lpm_autotest | +=============================+================+===========================+==============================+==============+ | 32-bit Ubuntu 22.04.4 (ARM) | PASS | SKIPPED | SKIPPED | SKIPPED | +-----------------------------+----------------+---------------------------+------------------------------+--------------+ | Fedora 40 (ARM) | PASS | SKIPPED | SKIPPED | SKIPPED | +-----------------------------+----------------+---------------------------+------------------------------+--------------+ | Fedora 41 (ARM) | PASS | SKIPPED | SKIPPED | SKIPPED | +-----------------------------+----------------+---------------------------+------------------------------+--------------+ | Debian 12 (arm) | PASS | PASS | PASS | SKIPPED | +-----------------------------+----------------+---------------------------+------------------------------+--------------+ | Ubuntu 22.04 (ARM) | PASS | SKIPPED | SKIPPED | SKIPPED | +-----------------------------+----------------+---------------------------+------------------------------+--------------+ | Fedora 40 (ARM Clang) | PASS | SKIPPED | SKIPPED | SKIPPED | +-----------------------------+----------------+---------------------------+------------------------------+--------------+ | CentOS Stream 9 (ARM) | PASS | SKIPPED | SKIPPED | SKIPPED | +-----------------------------+----------------+---------------------------+------------------------------+--------------+ | RHEL9 (ARM) | PASS | SKIPPED | SKIPPED | SKIPPED | +-----------------------------+----------------+---------------------------+------------------------------+--------------+ | CentOS Stream 10 (ARM) | PASS | SKIPPED | SKIPPED | SKIPPED | +-----------------------------+----------------+---------------------------+------------------------------+--------------+ | Fedora 41 (ARM Clang) | PASS | SKIPPED | SKIPPED | SKIPPED | +-----------------------------+----------------+---------------------------+------------------------------+--------------+ | Ubuntu 20.04 (ARM) | PASS | SKIPPED | SKIPPED | SKIPPED | +-----------------------------+----------------+---------------------------+------------------------------+--------------+ | Ubuntu 24.04 (ARM) | PASS | SKIPPED | SKIPPED | SKIPPED | +-----------------------------+----------------+---------------------------+------------------------------+--------------+ | Ubuntu 20.04 ARM SVE | SKIPPED | SKIPPED | SKIPPED | PASS | +-----------------------------+----------------+---------------------------+------------------------------+--------------+ 32-bit Ubuntu 22.04.4 (ARM) Kernel: 5.15.83+ aarch64 Compiler: gcc (Ubuntu 11.4.0-1ubuntu1~22.04) 11.4.0 Fedora 40 (ARM) Kernel: Depends on container host Compiler: gcc 14.2.1 20240912 (Red Hat 14.2.1-3) Fedora 41 (ARM) Kernel: Depends on container host Compiler: gcc 14.2.1 20240912 (Red Hat 14.2.1-3) Debian 12 (arm) Kernel: Depends on container host Compiler: gcc (Debian 12.2.0-14) 12.2.0 Ubuntu 22.04 (ARM) Kernel: Depends on container host Compiler: gcc (Ubuntu 11.4.0-1ubuntu1~22.04) 11.4.0 Fedora 40 (ARM Clang) Kernel: Depends on container host Compiler: clang 18.1.8 (Fedora 18.1.8-1.fc40) CentOS Stream 9 (ARM) Kernel: Depends on container host Compiler: gcc 11.5.0 20240719 (Red Hat 11.5.0-2) RHEL9 (ARM) Kernel: Depends on container host Compiler: gcc 11.5.0 20240719 (Red Hat 11.5.0-2) CentOS Stream 10 (ARM) Kernel: Depends on container host Compiler: gcc 14.2.1 20241104 (Red Hat 14.2.1-6) Fedora 41 (ARM Clang) Kernel: Depends on container host Compiler: clang 19.1.5 (Fedora 19.1.5-1.fc41) Ubuntu 20.04 (ARM) Kernel: Depends on container host Compiler: gcc (Ubuntu 9.4.0-1ubuntu1~20.04.2) 9.4.0 Ubuntu 24.04 (ARM) Kernel: Depends on container host Compiler: gcc (Ubuntu 13.3.0-6ubuntu2~24.04) 13.3.0 Ubuntu 20.04 ARM SVE Kernel: Depends on container host Compiler: gcc (Ubuntu 10.5.0-1ubuntu1~20.04) 10.5.0 To view detailed results, visit: https://lab.dpdk.org/results/dashboard/tarballs/33261/ UNH-IOL DPDK Community Lab To manage your email subscriptions, visit: https://lab.dpdk.org/results/dashboard/preferences/subscriptions/