From mboxrd@z Thu Jan 1 00:00:00 1970 Return-Path: Received: from mails.dpdk.org (mails.dpdk.org [217.70.189.124]) by inbox.dpdk.org (Postfix) with ESMTP id 837D6465A0 for ; Tue, 15 Apr 2025 23:08:16 +0200 (CEST) Received: from mails.dpdk.org (localhost [127.0.0.1]) by mails.dpdk.org (Postfix) with ESMTP id 7B0B840289; Tue, 15 Apr 2025 23:08:16 +0200 (CEST) Received: from mail-pg1-f225.google.com (mail-pg1-f225.google.com [209.85.215.225]) by mails.dpdk.org (Postfix) with ESMTP id BD8A940263 for ; Tue, 15 Apr 2025 23:08:15 +0200 (CEST) Received: by mail-pg1-f225.google.com with SMTP id 41be03b00d2f7-af50f56b862so4152825a12.1 for ; Tue, 15 Apr 2025 14:08:15 -0700 (PDT) DKIM-Signature: v=1; a=rsa-sha256; c=relaxed/relaxed; d=iol.unh.edu; s=unh-iol; t=1744751295; x=1745356095; darn=dpdk.org; h=cc:to:from:subject:message-id:date:from:to:cc:subject:date :message-id:reply-to; bh=mcfNKRPdxNE0imCqEUTTFzhH33/V97qeFKwUHn5fC0E=; b=b0RiZrq1H7FnIMQeI2446lMkHo54ZBq3P7QUHV/C3/cMFWTqJCoReZMjvthAXotTiM ubvSSSgFNB8M3ZK8h11JAILAvzT9RlEPpAVQy6PZgT/ggGgLGZEETOTKcLO0/bD0g0P3 /vOd+yZ1pqPMDBFOo7eM0+RbgEj28eymXiIGo= X-Google-DKIM-Signature: v=1; a=rsa-sha256; c=relaxed/relaxed; d=1e100.net; s=20230601; t=1744751295; x=1745356095; h=cc:to:from:subject:message-id:date:x-gm-message-state:from:to:cc :subject:date:message-id:reply-to; bh=mcfNKRPdxNE0imCqEUTTFzhH33/V97qeFKwUHn5fC0E=; b=GjbpUOEJez3FF51ZXVOfZ3QSbXQJmfASQcoS0PydrtKcRZwaja+dJzeEr9DH+eELyV kfJGj36ynI5elJBLdlErxy490ow+dxbLuR9dyzmLqUkttBtlIKk1ZYKT45rHU0+DXadS 96ugmBmyrJLbZXfpEWHLjLqZf5jVMd2XJKARXAc2TocN4xISIvIud7qM2SBo7fkULxt7 jlK969VKVtdctcqKID/w20pGhglF4sucuqzo+jqB7m8oew81vvGHM+Rsnwjgxin5bxTz VvmVxn2tA/USnoXEoQtD10i3f2CPLUw3y8OwcBfg3lcdWYDs+5DwsQ3uO2tRUsusA1pv cfvA== X-Gm-Message-State: AOJu0Yw5CEZ/L2P5bUfkHbdKY5RvrnUqGaJMYO+/Db85wzgh2Ir5KNbx R6rtsnKz9h+ja/ZFEUkZS1bgfJOtka9dviNK1Z1ffhWhbnpRUy8MFQX33WeRUnctto/wu34GmvR taXMZi53wybZDdvlh42CurtA4GU0Y8JNNSJAhsRQb X-Gm-Gg: ASbGncvXYbZjTsQK9sOVjHOeqwFh2RFrKTGUYJjbp7Zixz2uF10YTrYvjUwLGEjfMl8 eDhFuomzDk21dNMdM3aoWJTKr64vRoBiE4X7X+5Ejxy8So5rKSpnqBEA33xdd86HzgAJz+LW5AH kWtQSsDQC7aQ7M6gvIETDoPkY8yLGzxvGeHHSQS0vhkjd0SB+0TAvmaZ3Fuowb66Y1IdlkaJ1xF hRhD7ULbRhnWZ0D1m/ylHYhjQ0qJLC7mRgJwj6sFTXCgU34VfHz+z+stGCNYQi/MIwYuW/A/9cd t6dL37zYGfJDdFCtHqKfeHd7hSxNXR4tiCQf X-Google-Smtp-Source: AGHT+IGmXqMzE+tray6n1P+gWiHZTGqpfNlpOebJgKhg4Z83RK3VDKKWG2MBJQyUiOS8ukhRXLP3zxeefX4W X-Received: by 2002:a17:90b:1f8d:b0:301:cba1:7ada with SMTP id 98e67ed59e1d1-3085ee9775amr949128a91.1.1744751294998; Tue, 15 Apr 2025 14:08:14 -0700 (PDT) Received: from postal.iol.unh.edu (postal.iol.unh.edu. [132.177.123.84]) by smtp-relay.gmail.com with ESMTPS id 98e67ed59e1d1-308611f3e46sm4891a91.5.2025.04.15.14.08.14 (version=TLS1_2 cipher=ECDHE-ECDSA-AES128-GCM-SHA256 bits=128/128); Tue, 15 Apr 2025 14:08:14 -0700 (PDT) X-Relaying-Domain: iol.unh.edu Date: Tue, 15 Apr 2025 14:08:14 -0700 (PDT) Message-ID: <67fecabe.170a0220.3c49c9.046eSMTPIN_ADDED_MISSING@mx.google.com> Received: from [172.17.0.3] (unknown [172.18.0.217]) by postal.iol.unh.edu (Postfix) with ESMTP id 1E7186052471; Tue, 15 Apr 2025 17:08:14 -0400 (EDT) Subject: |SUCCESS| [GIT MASTER] ca1690ebd224f148268285b15b97441ccdbdd07e From: dpdklab@iol.unh.edu To: Test Report Cc: dpdk-test-reports@iol.unh.edu, Akhil Goyal Content-Type: text/plain X-BeenThere: test-report@dpdk.org X-Mailman-Version: 2.1.29 Precedence: list List-Id: automatic DPDK test reports List-Unsubscribe: , List-Archive: List-Post: List-Help: List-Subscribe: , Errors-To: test-report-bounces@dpdk.org _Testing PASS_ Branch: dpdk-next-crypto ca1690ebd224f148268285b15b97441ccdbdd07e --> testing pass Upstream job id: Generic-Unit-Test-DPDK#331183 Test environment and result as below: +---------------------+----------------+ | Environment | dpdk_unit_test | +=====================+================+ | Fedora 40 | PASS | +---------------------+----------------+ | Fedora 40 (Clang) | PASS | +---------------------+----------------+ | Debian 12 | PASS | +---------------------+----------------+ | Ubuntu 20.04 | PASS | +---------------------+----------------+ | RHEL8 | PASS | +---------------------+----------------+ | RHEL9 | PASS | +---------------------+----------------+ | Fedora 41 (Clang) | PASS | +---------------------+----------------+ | CentOS Stream 9 | PASS | +---------------------+----------------+ | Fedora 41 | PASS | +---------------------+----------------+ | CentOS Stream 10 | PASS | +---------------------+----------------+ | Ubuntu 24.04 | PASS | +---------------------+----------------+ | Ubuntu 22.04 | PASS | +---------------------+----------------+ | Windows Server 2022 | PASS | +---------------------+----------------+ Fedora 40 Kernel: Depends on container host Compiler: gcc 14.2.1 20240912 (Red Hat 14.2.1-3) Fedora 40 (Clang) Kernel: Depends on container host Compiler: clang 18.1.8 (Fedora 18.1.8-1.fc40) Debian 12 Kernel: Depends on container host Compiler: gcc (Debian 12.2.0-14) 12.2.0 Ubuntu 20.04 Kernel: Depends on container host Compiler: gcc (Ubuntu 9.4.0-1ubuntu1~20.04.2) 9.4.0 RHEL8 Kernel: Depends on container host Compiler: gcc 8.5.0 20210514 (Red Hat 8.5.0-22) RHEL9 Kernel: Depends on container host Compiler: gcc 11.5.0 20240719 (Red Hat 11.5.0-2) Fedora 41 (Clang) Kernel: Depends on container host Compiler: clang 19.1.5 (Fedora 19.1.5-1.fc41) CentOS Stream 9 Kernel: Depends on container host Compiler: gcc 11.5.0 20240719 (Red Hat 11.5.0-2) Fedora 41 Kernel: Depends on container host Compiler: gcc 14.2.1 20240912 (Red Hat 14.2.1-3) CentOS Stream 10 Kernel: Depends on container host Compiler: gcc 14.2.1 20241104 (Red Hat 14.2.1-6) Ubuntu 24.04 Kernel: Depends on container host Compiler: gcc (Ubuntu 13.3.0-6ubuntu2~24.04) 13.3.0 Ubuntu 22.04 Kernel: Depends on container host Compiler: gcc (Ubuntu 11.4.0-1ubuntu1~22.04) 11.4.0 Windows Server 2022 Kernel: 10.0.20348.2031 Compiler: clang 15.0.7, gcc 14.1.0 (MinGW), and MSVC VS 19.39.33521 To view detailed results, visit: https://lab.dpdk.org/results/dashboard/tarballs/33261/ UNH-IOL DPDK Community Lab To manage your email subscriptions, visit: https://lab.dpdk.org/results/dashboard/preferences/subscriptions/