From mboxrd@z Thu Jan  1 00:00:00 1970
Return-Path: <test-report-bounces@dpdk.org>
Received: from mails.dpdk.org (mails.dpdk.org [217.70.189.124])
	by inbox.dpdk.org (Postfix) with ESMTP id 8EF24465A0
	for <public@inbox.dpdk.org>; Tue, 15 Apr 2025 23:41:41 +0200 (CEST)
Received: from mails.dpdk.org (localhost [127.0.0.1])
	by mails.dpdk.org (Postfix) with ESMTP id 75C0040289;
	Tue, 15 Apr 2025 23:41:41 +0200 (CEST)
Received: from mail-yb1-f225.google.com (mail-yb1-f225.google.com
 [209.85.219.225])
 by mails.dpdk.org (Postfix) with ESMTP id 12C3E40263
 for <test-report@dpdk.org>; Tue, 15 Apr 2025 23:41:40 +0200 (CEST)
Received: by mail-yb1-f225.google.com with SMTP id
 3f1490d57ef6-e60b75f87aaso4210907276.2
 for <test-report@dpdk.org>; Tue, 15 Apr 2025 14:41:39 -0700 (PDT)
DKIM-Signature: v=1; a=rsa-sha256; c=relaxed/relaxed;
 d=iol.unh.edu; s=unh-iol; t=1744753299; x=1745358099; darn=dpdk.org;
 h=cc:to:from:subject:message-id:date:from:to:cc:subject:date
 :message-id:reply-to;
 bh=ouTr/l0i2GPqWj7PSJE2ibDeJlvGwwx/N6p7JjNUxTQ=;
 b=UAyMJ0GrdTGOCcrfaT/tvoX9Y0slgecIaifdbZdzo8W1aWvJBke/uBYLfM0bcJBKEk
 kAILy57bW2BN7O6BxXCtEgBrSQ2d9n5kEy02Z060baSGyKuiZbrXNKYsudkUYit5XHJN
 yfosedBJqbHPo5gE9RXUcBz9IVemjXvKHLd0o=
X-Google-DKIM-Signature: v=1; a=rsa-sha256; c=relaxed/relaxed;
 d=1e100.net; s=20230601; t=1744753299; x=1745358099;
 h=cc:to:from:subject:message-id:date:x-gm-message-state:from:to:cc
 :subject:date:message-id:reply-to;
 bh=ouTr/l0i2GPqWj7PSJE2ibDeJlvGwwx/N6p7JjNUxTQ=;
 b=PWw1Rh9jmnU/Wsq+tq0nVEpD1iG5N0WoXYb3tgotLx8kT3bAQZ8Ky8iUe+AK0pYQRS
 ZenwdZ9o5ujIVj+Ifh8UnSMuOek8uAlerGY63/1+ZrvjKMDhdr3pFJ1jJGBXZcTv+Dc7
 A1qaKK1cHisfSpvJoeitsqP+FRqWFG+otHs2PYwnHtIlYaATgpXRUm+sVyPTM8vtpm2X
 YgqtgN+OVubIIKSWZ/F7elL62s0wXog5hX6iKlBV8sf+rWkgzKqlvF7dqd47AHRkaunN
 GvC4ZlHp/vWDwWuVq+Ojcm5XPnmcjZ7T7I7XRFOxuwuYuYmHRH3XGpA7b6MEuzSboziL
 qCNQ==
X-Gm-Message-State: AOJu0YwvOb1xEWaJFjhC+4PhZUYBVC6KPrtCbFVyTyl/l6Hv52kETjQy
 kbExFbNMqWNql8MnNqbb+YxCzOdSMQvPd1xjkARu6eVnHAYb0DHXzf6LoTiVUYBSzxwTNwRSbtX
 2vUZscVo6dLSfUbq+AZOzgWcF/b0AMJjg9QPA7/pp4cQdFhLW
X-Gm-Gg: ASbGncsbTjyFgxYicGnmVpRMSKlcbXou2jiVarHHRnbbnHzrp1raMC0Ibeo7ol96S84
 X/xThQ0+kdaUk7WITUB5AjotJEsJk1WgjDK+QV+zsNQzGvBaVLU+y49LKpMfuuLE94zH/FGtnJU
 X8thSJ5gJWbC0hIR1kHQniIXrk9I8UBBoImVFKYnFlbTc/TyxQVyjEM7yDKo2xvcgayB9qUqm/4
 MY1MYzbHpNXXkQsl/ZJU57pNLHCuVcFLwowT+w1g9Du7fzVKMFzm4phh5YKRfXgdMRAG9GbZfN+
 PRFQj4DLaUtuc07hn27/IrqJrY+K9mQCb565xv1K7bvlAoei
X-Google-Smtp-Source: AGHT+IEjdKFKgDJY/uYkVK31RmWgZrOQwUVJHEBW5OMr8nPVnhCWeKrJDat3u1LKQwOqH0kcy6PnWFdVKFWA
X-Received: by 2002:a05:6902:e07:b0:e6b:7d64:fbff with SMTP id
 3f1490d57ef6-e726e9e8eddmr1427370276.47.1744753299293; 
 Tue, 15 Apr 2025 14:41:39 -0700 (PDT)
Received: from postal.iol.unh.edu (postal.iol.unh.edu.
 [2606:4100:3880:1234::84]) by smtp-relay.gmail.com with ESMTPS id
 3f1490d57ef6-e7032459c60sm395184276.7.2025.04.15.14.41.39
 (version=TLS1_2 cipher=ECDHE-ECDSA-AES128-GCM-SHA256 bits=128/128);
 Tue, 15 Apr 2025 14:41:39 -0700 (PDT)
X-Relaying-Domain: iol.unh.edu
Date: Tue, 15 Apr 2025 14:41:39 -0700 (PDT)
Message-ID: <67fed293.050a0220.e407a.07d6SMTPIN_ADDED_MISSING@mx.google.com>
Received: from [172.17.0.3] (unknown [172.18.0.217])
 by postal.iol.unh.edu (Postfix) with ESMTP id C1FD56052471;
 Tue, 15 Apr 2025 17:41:38 -0400 (EDT)
Subject: |SUCCESS| [GIT MASTER] 03f2ed63a5f4e4b57365e358b49095ef4a82cf7d
From: dpdklab@iol.unh.edu
To: Test Report <test-report@dpdk.org>
Cc: dpdk-test-reports@iol.unh.edu, Xueming Li <xuemingl@nvidia.com>,
 Christian Ehrhardt <christian.ehrhardt@canonical.com>,
 Kevin Traynor <ktraynor@redhat.com>, Luca Boccassi <bluca@debian.org>
Content-Type: text/plain
X-BeenThere: test-report@dpdk.org
X-Mailman-Version: 2.1.29
Precedence: list
List-Id: automatic DPDK test reports <test-report.dpdk.org>
List-Unsubscribe: <https://mails.dpdk.org/options/test-report>,
 <mailto:test-report-request@dpdk.org?subject=unsubscribe>
List-Archive: <http://mails.dpdk.org/archives/test-report/>
List-Post: <mailto:test-report@dpdk.org>
List-Help: <mailto:test-report-request@dpdk.org?subject=help>
List-Subscribe: <https://mails.dpdk.org/listinfo/test-report>,
 <mailto:test-report-request@dpdk.org?subject=subscribe>
Errors-To: test-report-bounces@dpdk.org

_Testing PASS_

Branch: tags/v24.11

03f2ed63a5f4e4b57365e358b49095ef4a82cf7d --> testing pass

Upstream job id: Template-DTS-Pipeline#221563

Test environment and result as below:

+--------------------+----------------------+----------------------+
|    Environment     | dpdk_fips_validation | compressdev_zlib_pmd |
+====================+======================+======================+
| Ubuntu 20.04       | PASS                 | SKIPPED              |
+--------------------+----------------------+----------------------+
| Ubuntu 22.04 (ARM) | SKIPPED              | PASS                 |
+--------------------+----------------------+----------------------+
| Ubuntu 22.04       | SKIPPED              | PASS                 |
+--------------------+----------------------+----------------------+


Ubuntu 20.04
	Kernel: Depends on container host
	Compiler: gcc (Ubuntu 9.4.0-1ubuntu1~20.04.2) 9.4.0

Ubuntu 22.04 (ARM)
	Kernel: 5.15.0-97-generic
	Compiler: gcc gcc (Ubuntu 11.4.0-1ubuntu1~22.04) 11.4.0

Ubuntu 22.04
	Kernel: 5.15.0-100-generic
	Compiler: gcc gcc (Ubuntu 11.4.0-1ubuntu1~22.04) 11.4.0

To view detailed results, visit:
https://lab.dpdk.org/results/dashboard/tarballs/33251/

UNH-IOL DPDK Community Lab

To manage your email subscriptions, visit: 
https://lab.dpdk.org/results/dashboard/preferences/subscriptions/