From mboxrd@z Thu Jan 1 00:00:00 1970 Return-Path: Received: from mails.dpdk.org (mails.dpdk.org [217.70.189.124]) by inbox.dpdk.org (Postfix) with ESMTP id 52D27465A0 for ; Tue, 15 Apr 2025 23:50:50 +0200 (CEST) Received: from mails.dpdk.org (localhost [127.0.0.1]) by mails.dpdk.org (Postfix) with ESMTP id 4ECEC40289; Tue, 15 Apr 2025 23:50:50 +0200 (CEST) Received: from mail-pj1-f98.google.com (mail-pj1-f98.google.com [209.85.216.98]) by mails.dpdk.org (Postfix) with ESMTP id AB5C540263 for ; Tue, 15 Apr 2025 23:50:48 +0200 (CEST) Received: by mail-pj1-f98.google.com with SMTP id 98e67ed59e1d1-30820167b47so113102a91.0 for ; Tue, 15 Apr 2025 14:50:48 -0700 (PDT) DKIM-Signature: v=1; a=rsa-sha256; c=relaxed/relaxed; d=iol.unh.edu; s=unh-iol; t=1744753848; x=1745358648; darn=dpdk.org; h=cc:to:from:subject:message-id:date:from:to:cc:subject:date :message-id:reply-to; bh=N9WF35d6BguXwSFP8IpIjp7xIrM8MW7C7qlU5SVee4U=; b=TU5Mo8fNzJp0XE5pQOAD+UR1KpZrPRzo961cNEtfeUoY2LHcQLd4YN55AoU9MQ15ur OvO2XNbaxyksRDvhS36hgXjmUBp+JsEQ4TgTgc4WK2+oQh0k1jK5sHnrbP1Itc0j2iUW 6Ekb9na4Ttp5T1wI5/wKCDfTvrL72uAboGLPE= X-Google-DKIM-Signature: v=1; a=rsa-sha256; c=relaxed/relaxed; d=1e100.net; s=20230601; t=1744753848; x=1745358648; h=cc:to:from:subject:message-id:date:x-gm-message-state:from:to:cc :subject:date:message-id:reply-to; bh=N9WF35d6BguXwSFP8IpIjp7xIrM8MW7C7qlU5SVee4U=; b=HeGYaHc9TElWXdRGrR070plLVGO3gX4vIOQtUc6MQkRpxr77Q9ZppfXYkbEmSx3dAo 3nhVRmhO5T9VG1muSwp98cvg2LBmQNGJ/Ts4CCiQRHXVqVo2Fvj2XCPf63MWVVOCKEkQ K4SnOVu1JPNJkuQ6GWtoZBlL+5oheM/wTJmEP1399JGtaBGHnhPiBJ49A96sN3FA/oSr 01+XIWPM4k+JTaH4KNZfdeCslG1ed1ijkHzLb3USq42up6ARgbSu5/vpa+LHa05NCk8S D3mNdQo4QdoHf/hMBuZy17ySHr94ziHNZkvsy4E43PkqBLy5OMgLQf1ectKOP0kwZEaN ow4Q== X-Gm-Message-State: AOJu0YzsGDsI6lRFQ9qUfwESwBus/XCboHIVVrzipH0aOUW+A1jtAcrr ilj47nWoBC7zY+W644o3y8VitdJu0m28LyKGP+gCkqfCd6tsuOIYg4MovfRXDvL24T1bIXz2iyA VSYrwqEz8sJCdtw6//P5+QArHIHevXeVxv1IUkbv3JP0S0x9gi6EAgBfL X-Gm-Gg: ASbGnctAqpcV4oGVm+Lr0VTDV5/gOSQUcfknWfu+8qWvECnlZU+ftP+Pciwax9Hqg3j fIx4b3Haff1lkTNm11quU8op4EtOXCAVKeLproezx1hGh48tdJmcZjF2TaeVLJHpQfOC9toi93o muD/bUI/jbyc8xEl7LjIuViSmdWtRTkLAqZoQ2DuVvfnoj+nqxhpBZkKVxGxM+aMLlGQyV0MEnn Q0/bbTktCGfh7DGNsxpSvQgVcmEFNSeCYHbcBa+Ltf/OSF+LEs27b7sSnq/xf0n5j7roOgSB6mh Z+ZdSLYNg2ZKbeT9mfxaBJjdIg/afJOtD7HDoDAYjtRuhelM X-Google-Smtp-Source: AGHT+IGr3NyadmTodEn/PsOtCrtYcggutPdQnaMIitZAzpLByWojGx0lFJSYTS1G3KfFru8ZX1RT7a5NwvcH X-Received: by 2002:a17:90b:53d0:b0:2fa:17e4:b1cf with SMTP id 98e67ed59e1d1-3085dea2f82mr1697663a91.2.1744753847820; Tue, 15 Apr 2025 14:50:47 -0700 (PDT) Received: from postal.iol.unh.edu (postal.iol.unh.edu. [2606:4100:3880:1234::84]) by smtp-relay.gmail.com with ESMTPS id 98e67ed59e1d1-308611d612csm8690a91.2.2025.04.15.14.50.47 (version=TLS1_2 cipher=ECDHE-ECDSA-AES128-GCM-SHA256 bits=128/128); Tue, 15 Apr 2025 14:50:47 -0700 (PDT) X-Relaying-Domain: iol.unh.edu Date: Tue, 15 Apr 2025 14:50:47 -0700 (PDT) Message-ID: <67fed4b7.170a0220.231f9e.07c1SMTPIN_ADDED_MISSING@mx.google.com> Received: from [172.17.0.3] (unknown [172.18.0.217]) by postal.iol.unh.edu (Postfix) with ESMTP id E3EDC6052471; Tue, 15 Apr 2025 17:50:46 -0400 (EDT) Subject: |SUCCESS| [GIT MASTER] ca1690ebd224f148268285b15b97441ccdbdd07e From: dpdklab@iol.unh.edu To: Test Report Cc: dpdk-test-reports@iol.unh.edu, Akhil Goyal Content-Type: text/plain X-BeenThere: test-report@dpdk.org X-Mailman-Version: 2.1.29 Precedence: list List-Id: automatic DPDK test reports List-Unsubscribe: , List-Archive: List-Post: List-Help: List-Subscribe: , Errors-To: test-report-bounces@dpdk.org _Testing PASS_ Branch: dpdk-next-crypto ca1690ebd224f148268285b15b97441ccdbdd07e --> testing pass Upstream job id: Generic-DPDK-Compile-Meson#380254 Test environment and result as below: +----------------------------------------+--------------------+ | Environment | dpdk_meson_compile | +========================================+====================+ | RHEL9 (ARM) | PASS | +----------------------------------------+--------------------+ | Ubuntu 20.04 ARM GCC Cross Compile | PASS | +----------------------------------------+--------------------+ | Ubuntu 20.04 ARM SVE | PASS | +----------------------------------------+--------------------+ | Fedora 40 (ARM) | PASS | +----------------------------------------+--------------------+ | Debian 12 with MUSDK | PASS | +----------------------------------------+--------------------+ | Fedora 40 (ARM Clang) | PASS | +----------------------------------------+--------------------+ | Fedora 41 (ARM) | PASS | +----------------------------------------+--------------------+ | Ubuntu 22.04 (ARM) | PASS | +----------------------------------------+--------------------+ | Ubuntu 24.04 (ARM) | PASS | +----------------------------------------+--------------------+ | Ubuntu 20.04 (ARM) | PASS | +----------------------------------------+--------------------+ | CentOS Stream 9 (ARM) | PASS | +----------------------------------------+--------------------+ | Fedora 41 (ARM Clang) | PASS | +----------------------------------------+--------------------+ | Debian 12 (arm) | PASS | +----------------------------------------+--------------------+ | Ubuntu 20.04 ARM Clang Cross Compile | PASS | +----------------------------------------+--------------------+ | Ubuntu 20.04 aarch32 GCC Cross Compile | PASS | +----------------------------------------+--------------------+ | CentOS Stream 10 (ARM) | PASS | +----------------------------------------+--------------------+ RHEL9 (ARM) Kernel: Depends on container host Compiler: gcc 11.5.0 20240719 (Red Hat 11.5.0-2) Ubuntu 20.04 ARM GCC Cross Compile Kernel: Depends on container host Compiler: aarch64-linux-gnu-gcc (Ubuntu 9.4.0-1ubuntu1~20.04.2) 9.4.0 Ubuntu 20.04 ARM SVE Kernel: Depends on container host Compiler: gcc (Ubuntu 10.5.0-1ubuntu1~20.04) 10.5.0 Fedora 40 (ARM) Kernel: Depends on container host Compiler: gcc 14.2.1 20240912 (Red Hat 14.2.1-3) Debian 12 with MUSDK Kernel: Depends on container host Compiler: gcc (Debian 12.2.0-14) 12.2.0 Fedora 40 (ARM Clang) Kernel: Depends on container host Compiler: clang 18.1.8 (Fedora 18.1.8-1.fc40) Fedora 41 (ARM) Kernel: Depends on container host Compiler: gcc 14.2.1 20240912 (Red Hat 14.2.1-3) Ubuntu 22.04 (ARM) Kernel: Depends on container host Compiler: gcc (Ubuntu 11.4.0-1ubuntu1~22.04) 11.4.0 Ubuntu 24.04 (ARM) Kernel: Depends on container host Compiler: gcc (Ubuntu 13.3.0-6ubuntu2~24.04) 13.3.0 Ubuntu 20.04 (ARM) Kernel: Depends on container host Compiler: gcc (Ubuntu 9.4.0-1ubuntu1~20.04.2) 9.4.0 CentOS Stream 9 (ARM) Kernel: Depends on container host Compiler: gcc 11.5.0 20240719 (Red Hat 11.5.0-2) Fedora 41 (ARM Clang) Kernel: Depends on container host Compiler: clang 19.1.5 (Fedora 19.1.5-1.fc41) Debian 12 (arm) Kernel: Depends on container host Compiler: gcc (Debian 12.2.0-14) 12.2.0 Ubuntu 20.04 ARM Clang Cross Compile Kernel: Depends on container host Compiler: clang 10.0.0-4ubuntu1 Ubuntu 20.04 aarch32 GCC Cross Compile Kernel: Depends on container host Compiler: gcc 9.4.0 CentOS Stream 10 (ARM) Kernel: Depends on container host Compiler: gcc 14.2.1 20241104 (Red Hat 14.2.1-6) To view detailed results, visit: https://lab.dpdk.org/results/dashboard/tarballs/33261/ UNH-IOL DPDK Community Lab To manage your email subscriptions, visit: https://lab.dpdk.org/results/dashboard/preferences/subscriptions/