From mboxrd@z Thu Jan 1 00:00:00 1970 Return-Path: Received: from mails.dpdk.org (mails.dpdk.org [217.70.189.124]) by inbox.dpdk.org (Postfix) with ESMTP id D41E5465A0 for ; Wed, 16 Apr 2025 00:35:49 +0200 (CEST) Received: from mails.dpdk.org (localhost [127.0.0.1]) by mails.dpdk.org (Postfix) with ESMTP id BE84A40655; Wed, 16 Apr 2025 00:35:49 +0200 (CEST) Received: from mail-pg1-f226.google.com (mail-pg1-f226.google.com [209.85.215.226]) by mails.dpdk.org (Postfix) with ESMTP id BBE4C40289 for ; Wed, 16 Apr 2025 00:35:47 +0200 (CEST) Received: by mail-pg1-f226.google.com with SMTP id 41be03b00d2f7-b061a775ac3so3785912a12.0 for ; Tue, 15 Apr 2025 15:35:47 -0700 (PDT) DKIM-Signature: v=1; a=rsa-sha256; c=relaxed/relaxed; d=iol.unh.edu; s=unh-iol; t=1744756547; x=1745361347; darn=dpdk.org; h=cc:to:from:subject:message-id:date:from:to:cc:subject:date :message-id:reply-to; bh=QzgEmZTc9WvzkbCwhueO9M2RbZM3/nBcszYPI99+qxI=; b=EUchSyv1G65T1GAM7IZsCPeGTtGahypcGMe16IIpKb/92SBB/6rPstDYMaqCDmTJSb URoVamEhUJcsMDsda2eianvV1fe30aPZS1W5ok1kKjqpxFv/IpUB7ADMX+D7mgKnBQNX +m5AkXZ6E+FjuFEjpLvbZc35o3YRJ7RcVl+wU= X-Google-DKIM-Signature: v=1; a=rsa-sha256; c=relaxed/relaxed; d=1e100.net; s=20230601; t=1744756547; x=1745361347; h=cc:to:from:subject:message-id:date:x-gm-message-state:from:to:cc :subject:date:message-id:reply-to; bh=QzgEmZTc9WvzkbCwhueO9M2RbZM3/nBcszYPI99+qxI=; b=QwjsN5Ub0z9oZoeWZQOK/GL1FRzM/sASp7WY71NQrKbI5sko5oqQT4pzuhbRDTYwcr TxkV5SUhscmDfaGGFLHPeIB/K4Mq/Vb2oAZeT+jhgdBw27DaoTawxMlEJREtwN0thZ+L RhrJcLqQ5QoPkPdMlog6XQX77t9yzeNTkdDLRKPtJFsr0fy4via22Df3zRYKAmc9ep/Q 8hxZJw/7wxCCs3JMULryBAhzxuF13ZVLi1TuzmzV+hCuop7cTAw3FQa4ib1cUzQTJzaS GMwVgxudvwfz6oty/IytnJ83ip95YwXd2vpPb+Ghvg/l08nSM3QgNavZLux/I6q6/Dmb xAOw== X-Gm-Message-State: AOJu0Yw1ruTZvjOgj+wvbq4c6Zts610lEZTpg6Pkez1YdkvUUN74JV6T ZSRyB7Oc/eSPqM2+m8q4Nmh2B/JN1046YyJT9SNx6HHiWjBaYBwShEykaG5ORbMi+emmzzU+QJ5 N04Vf/7jr69/pJ8SLZy+Qr5DjGCjSQDC0gvhsc4rBx30fZ4LL X-Gm-Gg: ASbGnct6xAR6y4QIAOhHzfeUGZTjwFUL3eKEKxMsKnFDkmCQfiRTRkuCUxZtNvZ831j qG1vMkoql+Vmwh2ukIGb5TQ3kLdaioG0vgUs9QOjwkucoZj4xKtK2PCYIkTBxIFU+wye318u/Sh 2dWluvxKNhoQGQti3ApDPCGn3lnmRUPB+7IVj6i+r+FIpWL2zLJiC8830CMSQwnyqkbDgNEJXTS V2VbSxNRCbpMBsQPkVhO5DETmfi8b/Fy0BqyDimsVDlk6LCk0UIluLFK6i3xf2w3VTx4r3Iz7sV kkcNLrCy2HL0CdWP2xUXmryFD5JegNuMDxeJLftiieXUoA6D X-Google-Smtp-Source: AGHT+IF+rWWdZRLAhAG3BNgm7VPJVTxp+ayOZTSo5olAseYIs9bRRu7HudSXucQb20cPfSnoz/EHBEr/OObA X-Received: by 2002:a05:6a20:6f09:b0:1f5:9330:29fe with SMTP id adf61e73a8af0-203adfc427bmr1147097637.17.1744756546948; Tue, 15 Apr 2025 15:35:46 -0700 (PDT) Received: from postal.iol.unh.edu (postal.iol.unh.edu. [2606:4100:3880:1234::84]) by smtp-relay.gmail.com with ESMTPS id d2e1a72fcca58-73bd21c7c51sm558681b3a.8.2025.04.15.15.35.46 (version=TLS1_2 cipher=ECDHE-ECDSA-AES128-GCM-SHA256 bits=128/128); Tue, 15 Apr 2025 15:35:46 -0700 (PDT) X-Relaying-Domain: iol.unh.edu Date: Tue, 15 Apr 2025 15:35:46 -0700 (PDT) Message-ID: <67fedf42.050a0220.31a952.1584SMTPIN_ADDED_MISSING@mx.google.com> Received: from [172.17.0.3] (unknown [172.18.0.217]) by postal.iol.unh.edu (Postfix) with ESMTP id 0DEA26052471; Tue, 15 Apr 2025 18:35:46 -0400 (EDT) Subject: |SUCCESS| [GIT MASTER] 4401486b5e30d43a134f80f9802f60b5f43e74a8 From: dpdklab@iol.unh.edu To: Test Report Cc: dpdk-test-reports@iol.unh.edu, Xueming Li , Christian Ehrhardt , Kevin Traynor , Luca Boccassi Content-Type: text/plain X-BeenThere: test-report@dpdk.org X-Mailman-Version: 2.1.29 Precedence: list List-Id: automatic DPDK test reports List-Unsubscribe: , List-Archive: List-Post: List-Help: List-Subscribe: , Errors-To: test-report-bounces@dpdk.org _Testing PASS_ Branch: tags/v22.11 4401486b5e30d43a134f80f9802f60b5f43e74a8 --> testing pass Upstream job id: Template-DTS-Pipeline#221591 Test environment and result as below: +--------------------+----------------------+----------------------+ | Environment | compressdev_zlib_pmd | dpdk_fips_validation | +====================+======================+======================+ | Ubuntu 22.04 (ARM) | PASS | SKIPPED | +--------------------+----------------------+----------------------+ | Ubuntu 22.04 | PASS | SKIPPED | +--------------------+----------------------+----------------------+ | Ubuntu 20.04 | SKIPPED | PASS | +--------------------+----------------------+----------------------+ Ubuntu 22.04 (ARM) Kernel: 5.15.0-97-generic Compiler: gcc gcc (Ubuntu 11.4.0-1ubuntu1~22.04) 11.4.0 Ubuntu 22.04 Kernel: 5.15.0-100-generic Compiler: gcc gcc (Ubuntu 11.4.0-1ubuntu1~22.04) 11.4.0 Ubuntu 20.04 Kernel: Depends on container host Compiler: gcc (Ubuntu 9.4.0-1ubuntu1~20.04.2) 9.4.0 To view detailed results, visit: https://lab.dpdk.org/results/dashboard/tarballs/33253/ UNH-IOL DPDK Community Lab To manage your email subscriptions, visit: https://lab.dpdk.org/results/dashboard/preferences/subscriptions/