From mboxrd@z Thu Jan 1 00:00:00 1970 Return-Path: Received: from mails.dpdk.org (mails.dpdk.org [217.70.189.124]) by inbox.dpdk.org (Postfix) with ESMTP id 314CA465A0 for ; Wed, 16 Apr 2025 01:58:30 +0200 (CEST) Received: from mails.dpdk.org (localhost [127.0.0.1]) by mails.dpdk.org (Postfix) with ESMTP id 0C42640655; Wed, 16 Apr 2025 01:58:30 +0200 (CEST) Received: from mail-il1-f228.google.com (mail-il1-f228.google.com [209.85.166.228]) by mails.dpdk.org (Postfix) with ESMTP id A611040289 for ; Wed, 16 Apr 2025 01:58:28 +0200 (CEST) Received: by mail-il1-f228.google.com with SMTP id e9e14a558f8ab-3d6d162e516so47446355ab.1 for ; Tue, 15 Apr 2025 16:58:28 -0700 (PDT) DKIM-Signature: v=1; a=rsa-sha256; c=relaxed/relaxed; d=iol.unh.edu; s=unh-iol; t=1744761508; x=1745366308; darn=dpdk.org; h=cc:to:from:subject:message-id:date:from:to:cc:subject:date :message-id:reply-to; bh=jd+EgjC6A7E7IT0NZP66AegXLOoIrAfJgD45IOOGFls=; b=DNcsHtSD0FJ+2CxpTWViQ44Yq3vaJtVhTqkULuaqI5lWnHITR6F6nXNPHHF0bdF0Il elDn3hbJf3P6nkmgT+k22Bk6FMJKjwk48gOcZGVhjUGJBitrQUy5F3C1J84KT3kAMZ46 0HUI8t9Zaefuo0s2ya0Qw004zrUL/31fksStA= X-Google-DKIM-Signature: v=1; a=rsa-sha256; c=relaxed/relaxed; d=1e100.net; s=20230601; t=1744761508; x=1745366308; h=cc:to:from:subject:message-id:date:x-gm-message-state:from:to:cc :subject:date:message-id:reply-to; bh=jd+EgjC6A7E7IT0NZP66AegXLOoIrAfJgD45IOOGFls=; b=dSTIbUxB23t7V52CP0VvQQ/3QWybkDDKq4f9TdVOlPqxvPZWNa7Czk6wjowqZV9V4g /RR10qTZoTAnLzaEAbh4WzL5glWWO7MadmpuyuhfIKCnbTVmGYU1z/1upyFyTO0ojW8w 4TfAlmYCvBQAPtP9+rH8Og7cNABIovqltVCCsQA9IQZSaKhSBzeHYB14gnhhSMaT/Abe BWsqOSdqbaoEdUeju7x1O65LatXsOEM0SVJ+ZhDs2YkjOK62Nvw3uK1qwyvg9rvrFE7s hAb5HfwecQtjfx2+lgjSnuCV+I657CXyPAFD2w09+qXnr0hVkZVSag46e6jpB+LzHuQ3 9TUQ== X-Gm-Message-State: AOJu0Yw/xP8uc60q2tJAjskIAm5gWV23UO/cj5tnfJWe7O6ZRbTkpAdx 79VsUTQu5SrWj7BgsXdR0mLUrM51zqxv3RhHcJUzzb3WrcZLJC4Z/4Jx054yzyNxO4R7Tg8Y2jq ANYKJO8JtpDD+Pghd0EG8647jm7p7NZDRA+K1oD5Ur5nXRIviOqKHDlzF X-Gm-Gg: ASbGncv2Ez/s+kyFyY/BuE7bgDz+uqTk+bNiqduW6xX11HW+ETenfgRRgdVPXY2E1Un SI5XW2kJutHI5x8Q5JMnbKe/OzGPJLmInzeMgRbZBB8yCvYWxxcGOUJACp1XD+YemTXzSu6KJLA WTpIci3HiPvCQyCk+TCANxbx71aJDbnrxfL22OsoPUeNSlEzl9krcun6Pon7SDda4Ryofcc6u0K j1jhg/X6XAqYGg4cbEPP37T+8Ydgx/49Q6ZDBNx4NaH5DlMxD1RJkMoDkbIn9Hp2NXKJYgnmRwk yUHv99OoMuMD9ILssTg7vWBND5qDqYpOtLNlmDxNqM12LCjG X-Google-Smtp-Source: AGHT+IFqJd3JrKbZ8ckB/9/4GfunuT2P5sGkTkQvID8ol3Urqxgp+0ns4yk2nOmd+xw9fjtcXur/O/lMK5Nc X-Received: by 2002:a05:6e02:3108:b0:3d5:8923:faa5 with SMTP id e9e14a558f8ab-3d81250d9bfmr12797295ab.10.1744761507876; Tue, 15 Apr 2025 16:58:27 -0700 (PDT) Received: from postal.iol.unh.edu (postal.iol.unh.edu. [2606:4100:3880:1234::84]) by smtp-relay.gmail.com with ESMTPS id 8926c6da1cb9f-4f505cfb9edsm714221173.11.2025.04.15.16.58.27 (version=TLS1_2 cipher=ECDHE-ECDSA-AES128-GCM-SHA256 bits=128/128); Tue, 15 Apr 2025 16:58:27 -0700 (PDT) X-Relaying-Domain: iol.unh.edu Date: Tue, 15 Apr 2025 16:58:27 -0700 (PDT) Message-ID: <67fef2a3.050a0220.93d4f.3227SMTPIN_ADDED_MISSING@mx.google.com> Received: from [172.21.0.5] (unknown [172.18.0.240]) by postal.iol.unh.edu (Postfix) with ESMTP id 540606052471; Tue, 15 Apr 2025 19:58:27 -0400 (EDT) Subject: |SUCCESS| [GIT MASTER] 076c6f28ae606d6d2059b8903208fd728187cbff From: dpdklab@iol.unh.edu To: Test Report Cc: dpdk-test-reports@iol.unh.edu, Stephen Hemminger Content-Type: text/plain X-BeenThere: test-report@dpdk.org X-Mailman-Version: 2.1.29 Precedence: list List-Id: automatic DPDK test reports List-Unsubscribe: , List-Archive: List-Post: List-Help: List-Subscribe: , Errors-To: test-report-bounces@dpdk.org _Testing PASS_ Branch: dpdk-next-net 076c6f28ae606d6d2059b8903208fd728187cbff --> testing pass Upstream job id: Template-DTS-Pipeline#221605 Test environment and result as below: +--------------------+----------------------+----------------------+ | Environment | compressdev_zlib_pmd | dpdk_fips_validation | +====================+======================+======================+ | Ubuntu 22.04 (ARM) | PASS | SKIPPED | +--------------------+----------------------+----------------------+ | Ubuntu 22.04 | PASS | SKIPPED | +--------------------+----------------------+----------------------+ | Ubuntu 20.04 | SKIPPED | PASS | +--------------------+----------------------+----------------------+ Ubuntu 22.04 (ARM) Kernel: 5.15.0-97-generic Compiler: gcc gcc (Ubuntu 11.4.0-1ubuntu1~22.04) 11.4.0 Ubuntu 22.04 Kernel: 5.15.0-100-generic Compiler: gcc gcc (Ubuntu 11.4.0-1ubuntu1~22.04) 11.4.0 Ubuntu 20.04 Kernel: Depends on container host Compiler: gcc (Ubuntu 9.4.0-1ubuntu1~20.04.2) 9.4.0 To view detailed results, visit: https://lab.dpdk.org/results/dashboard/tarballs/33254/ UNH-IOL DPDK Community Lab To manage your email subscriptions, visit: https://lab.dpdk.org/results/dashboard/preferences/subscriptions/