From mboxrd@z Thu Jan  1 00:00:00 1970
Return-Path: <test-report-bounces@dpdk.org>
Received: from mails.dpdk.org (mails.dpdk.org [217.70.189.124])
	by inbox.dpdk.org (Postfix) with ESMTP id 6BB90465A1
	for <public@inbox.dpdk.org>; Wed, 16 Apr 2025 02:25:15 +0200 (CEST)
Received: from mails.dpdk.org (localhost [127.0.0.1])
	by mails.dpdk.org (Postfix) with ESMTP id 41E4840655;
	Wed, 16 Apr 2025 02:25:15 +0200 (CEST)
Received: from mail-oo1-f97.google.com (mail-oo1-f97.google.com
 [209.85.161.97]) by mails.dpdk.org (Postfix) with ESMTP id C01D940289
 for <test-report@dpdk.org>; Wed, 16 Apr 2025 02:25:13 +0200 (CEST)
Received: by mail-oo1-f97.google.com with SMTP id
 006d021491bc7-601b6146b9cso3379944eaf.0
 for <test-report@dpdk.org>; Tue, 15 Apr 2025 17:25:13 -0700 (PDT)
DKIM-Signature: v=1; a=rsa-sha256; c=relaxed/relaxed;
 d=iol.unh.edu; s=unh-iol; t=1744763113; x=1745367913; darn=dpdk.org;
 h=references:in-reply-to:cc:to:from:subject:message-id:date:from:to
 :cc:subject:date:message-id:reply-to;
 bh=kZOfusNoj+vwlu8LzygC5BAOB1p1AzFCoukEeUNEjYQ=;
 b=c0xsWGCVzmifxgSy+Ya3i7QPTh/PLcrEiEvbuqBPSqkKzi5iy7HnHHudrE0I8tyCgw
 ghWlHfLdm4z0RbkjEwjjpeNcb87K0rbbrkLzn3FHMnBoomxo8iKNpe+8gC1svgUhukq7
 n6xBPpy71E08Nb7MGH8vaYb5CRY2kpPSOxxZg=
X-Google-DKIM-Signature: v=1; a=rsa-sha256; c=relaxed/relaxed;
 d=1e100.net; s=20230601; t=1744763113; x=1745367913;
 h=references:in-reply-to:cc:to:from:subject:message-id:date
 :x-gm-message-state:from:to:cc:subject:date:message-id:reply-to;
 bh=kZOfusNoj+vwlu8LzygC5BAOB1p1AzFCoukEeUNEjYQ=;
 b=w5yBhLow9pc9Fer3GlntZ5JK8xshz9P8CWMk99JvmDbaCzCtuFXOOqdBHGFpLS8c9l
 HN5NnP/6RqE5DiJea2FsAgSaxCXec8799vonu9Ov1ES6h0UHb7XCtiPVPGGcpHVTQyEY
 5LeGrZHSRvLMJQo1EC36x7qy2CPAZ6kpc02YTFsl/L/DGEMANLveLDsL540urwcd/Khv
 zTBRfWhSsJthkCIteiv9MxFQRpMLcMyeczh7k1Wv/Md1Ejyd9eb03CmklaUOHG2Dmcwv
 biQri2E9loFqBZyhFtckLVLVQUhdxhdhR4si9KvPGxMVQ8GRC2CYLNLBCTN2PFNCrkgp
 pqOw==
X-Gm-Message-State: AOJu0YzocoosmpFKq2sOacjkzDEkVEseM0DTkdECWAuAkzHmYXXmcQz2
 8zHYDbaTqAU32FMiDgsKmtwAsyuZ5vkDpNWOxn/EH/zf34v/k213D2IqZPBFkCpNe0BTSsmkHNc
 IWl8HTJcglqut0CFn0pGHYUH0RxvXSoLp8YSuHLQsMH5q7RAwvf4YaJTY
X-Gm-Gg: ASbGncs7e+4jXxuw5g5SVDhw7UxSGNuM6THqfhMY/uptAZwJriZvZQhlZKNj689n4tj
 NjVNK1Qd5eBpmxbGJOhgbWQKnoOWmBdVaznKeofyDQZm+dZ6HM7iC+1HpRpGgV+bjWmcA4x64BP
 CRT1jvqdmSNoDtA7OJsImIgacg21SSyPhVYJqjAeYgUJtZZqGGETqSOWrWtPa0Nb6deWUJ4+BXp
 N+tesciaJsJrT2HL7OPll7+MGASKUkLV65ge3/LihImdwOm4HxJm05AeuKD3tbg4kqrJdKOt9G7
 ObXx9iCHYExArL+fQDx5mB4w799nFoL2DzsfThsIAsshFzDK
X-Google-Smtp-Source: AGHT+IHWMAlTXj5+oCG7wQ2MsiS5YcGx11faYiTNTLQohUfUX/xgKHe5HKeEY5/UVnR+clRAz6rI5K0+Zjfy
X-Received: by 2002:a05:6871:484b:b0:29e:1325:760a with SMTP id
 586e51a60fabf-2d4c38a8fb5mr746990fac.8.1744763112820; 
 Tue, 15 Apr 2025 17:25:12 -0700 (PDT)
Received: from postal.iol.unh.edu (postal.iol.unh.edu.
 [2606:4100:3880:1234::84]) by smtp-relay.gmail.com with ESMTPS id
 586e51a60fabf-2d0969d2a3dsm697008fac.24.2025.04.15.17.25.12
 (version=TLS1_2 cipher=ECDHE-ECDSA-AES128-GCM-SHA256 bits=128/128);
 Tue, 15 Apr 2025 17:25:12 -0700 (PDT)
X-Relaying-Domain: iol.unh.edu
Date: Tue, 15 Apr 2025 17:25:12 -0700 (PDT)
Message-ID: <67fef8e8.050a0220.371f6f.0deaSMTPIN_ADDED_MISSING@mx.google.com>
Received: from [172.21.0.5] (unknown [172.18.0.240])
 by postal.iol.unh.edu (Postfix) with ESMTP id 333926052471;
 Tue, 15 Apr 2025 20:25:12 -0400 (EDT)
Subject: |SUCCESS| pw152933-152936 [PATCH] [v3,4/4] drivers: use macro to emb
From: dpdklab@iol.unh.edu
To: Test Report <test-report@dpdk.org>
Cc: dpdk-test-reports@iol.unh.edu
In-Reply-To: <1744756297-21038-5-git-send-email-andremue@linux.microsoft.com>
References: <1744756297-21038-5-git-send-email-andremue@linux.microsoft.com>
Content-Type: text/plain
X-BeenThere: test-report@dpdk.org
X-Mailman-Version: 2.1.29
Precedence: list
List-Id: automatic DPDK test reports <test-report.dpdk.org>
List-Unsubscribe: <https://mails.dpdk.org/options/test-report>,
 <mailto:test-report-request@dpdk.org?subject=unsubscribe>
List-Archive: <http://mails.dpdk.org/archives/test-report/>
List-Post: <mailto:test-report@dpdk.org>
List-Help: <mailto:test-report-request@dpdk.org?subject=help>
List-Subscribe: <https://mails.dpdk.org/listinfo/test-report>,
 <mailto:test-report-request@dpdk.org?subject=subscribe>
Errors-To: test-report-bounces@dpdk.org

Test-Label: iol-unit-amd64-testing
Test-Status: SUCCESS
http://dpdk.org/patch/152936

_Testing PASS_

Submitter: Andre Muezerie <andremue@linux.microsoft.com>
Date: Tuesday, April 15 2025 22:31:37 
DPDK git baseline: Repo:dpdk
  Branch: master
  CommitID:ca1690ebd224f148268285b15b97441ccdbdd07e

152933-152936 --> testing pass

Upstream job id: Generic-Unit-Test-DPDK#331226

Test environment and result as below:

+---------------------+----------------+
|     Environment     | dpdk_unit_test |
+=====================+================+
| CentOS Stream 9     | PASS           |
+---------------------+----------------+
| CentOS Stream 10    | PASS           |
+---------------------+----------------+
| Fedora 40           | PASS           |
+---------------------+----------------+
| Debian 12           | PASS           |
+---------------------+----------------+
| Fedora 41           | PASS           |
+---------------------+----------------+
| Fedora 40 (Clang)   | PASS           |
+---------------------+----------------+
| Fedora 41 (Clang)   | PASS           |
+---------------------+----------------+
| Ubuntu 24.04        | PASS           |
+---------------------+----------------+
| Ubuntu 20.04        | PASS           |
+---------------------+----------------+
| RHEL8               | PASS           |
+---------------------+----------------+
| RHEL9               | PASS           |
+---------------------+----------------+
| Ubuntu 22.04        | PASS           |
+---------------------+----------------+
| Windows Server 2022 | PASS           |
+---------------------+----------------+


CentOS Stream 9
	Kernel: Depends on container host
	Compiler: gcc 11.5.0 20240719 (Red Hat 11.5.0-2)

CentOS Stream 10
	Kernel: Depends on container host
	Compiler: gcc 14.2.1 20241104 (Red Hat 14.2.1-6)

Fedora 40
	Kernel: Depends on container host
	Compiler: gcc 14.2.1 20240912 (Red Hat 14.2.1-3)

Debian 12
	Kernel: Depends on container host
	Compiler: gcc (Debian 12.2.0-14) 12.2.0

Fedora 41
	Kernel: Depends on container host
	Compiler: gcc 14.2.1 20240912 (Red Hat 14.2.1-3)

Fedora 40 (Clang)
	Kernel: Depends on container host
	Compiler: clang 18.1.8 (Fedora 18.1.8-1.fc40)

Fedora 41 (Clang)
	Kernel: Depends on container host
	Compiler: clang 19.1.5 (Fedora 19.1.5-1.fc41)

Ubuntu 24.04
	Kernel: Depends on container host
	Compiler: gcc (Ubuntu 13.3.0-6ubuntu2~24.04) 13.3.0

Ubuntu 20.04
	Kernel: Depends on container host
	Compiler: gcc (Ubuntu 9.4.0-1ubuntu1~20.04.2) 9.4.0

RHEL8
	Kernel: Depends on container host
	Compiler: gcc 8.5.0 20210514 (Red Hat 8.5.0-22)

RHEL9
	Kernel: Depends on container host
	Compiler: gcc 11.5.0 20240719 (Red Hat 11.5.0-2)

Ubuntu 22.04
	Kernel: Depends on container host
	Compiler: gcc (Ubuntu 11.4.0-1ubuntu1~22.04) 11.4.0

Windows Server 2022
	Kernel: 10.0.20348.2031
	Compiler: clang 15.0.7, gcc 14.1.0 (MinGW), and MSVC VS 19.39.33521

To view detailed results, visit:
https://lab.dpdk.org/results/dashboard/patchsets/33012/

UNH-IOL DPDK Community Lab

To manage your email subscriptions, visit: 
https://lab.dpdk.org/results/dashboard/preferences/subscriptions/