From mboxrd@z Thu Jan  1 00:00:00 1970
Return-Path: <test-report-bounces@dpdk.org>
Received: from mails.dpdk.org (mails.dpdk.org [217.70.189.124])
	by inbox.dpdk.org (Postfix) with ESMTP id 4BA3E465A1
	for <public@inbox.dpdk.org>; Wed, 16 Apr 2025 03:35:28 +0200 (CEST)
Received: from mails.dpdk.org (localhost [127.0.0.1])
	by mails.dpdk.org (Postfix) with ESMTP id 2B84640655;
	Wed, 16 Apr 2025 03:35:28 +0200 (CEST)
Received: from mail-io1-f97.google.com (mail-io1-f97.google.com
 [209.85.166.97]) by mails.dpdk.org (Postfix) with ESMTP id 6FD4740289
 for <test-report@dpdk.org>; Wed, 16 Apr 2025 03:35:26 +0200 (CEST)
Received: by mail-io1-f97.google.com with SMTP id
 ca18e2360f4ac-86135ac9542so8222339f.1
 for <test-report@dpdk.org>; Tue, 15 Apr 2025 18:35:26 -0700 (PDT)
DKIM-Signature: v=1; a=rsa-sha256; c=relaxed/relaxed;
 d=iol.unh.edu; s=unh-iol; t=1744767325; x=1745372125; darn=dpdk.org;
 h=references:in-reply-to:cc:to:from:subject:message-id:date:from:to
 :cc:subject:date:message-id:reply-to;
 bh=jaF5YDhd02YlJ9RwSk7j/c4arEIwSZHpDolQBZUZYi0=;
 b=HgfPXeNu+B2f2+gnhesHCsCXIoKASfk/O1HZke0wAqUZ6P2OPal6NBRR8ihQ3FdI7V
 3bBaH/WjjGF7Cvfw0jyaYaWHUYFqIF7iJ3zVyPHVqP50wQaHeJv6fAzK7+QDJG4bI+t8
 FqqpiA2jWlg6tyQ4SElyL2gieUZkrLrCjYlbw=
X-Google-DKIM-Signature: v=1; a=rsa-sha256; c=relaxed/relaxed;
 d=1e100.net; s=20230601; t=1744767325; x=1745372125;
 h=references:in-reply-to:cc:to:from:subject:message-id:date
 :x-gm-message-state:from:to:cc:subject:date:message-id:reply-to;
 bh=jaF5YDhd02YlJ9RwSk7j/c4arEIwSZHpDolQBZUZYi0=;
 b=hoMhxXhzClREueA42F+z0n21NcAU0k4TPqWF7zyKM+a32w7++1YqIc/ZnAL6FYEirx
 zRxUd83j40LtDgmnALUeFerJ5moYGIYEyYKDFH/WS8mNpvsTocg7Qibbi7+WFGmRjUFu
 RyJYtkHchhN9MOS4OO2gCKONriAcbONPS/hIPm0ypl7M8DJymEJ86qIODPo4nuYrLLV6
 D0amoZfritQK751z3lIbw34awKB7gNztdLjAo67+e9iov/5wZ8uWu6hElSAvER6aVZzo
 WkIDOvaiVpDHoOy4Ns/ounn9R1ru7Em1hmJb9MOe2a8OvGul7hUDltoXZW75l3VpP0xj
 yWwA==
X-Gm-Message-State: AOJu0YzMki+Il+ALY16u2sdRsuzxPMJ27ITsWu63oOGXRTQnoiHc6kbw
 JDbjLFK4FwYuwVsB8bkVCWPiYGe7rXsmTiRX4EjJdi1ApsC3/6D6gjN4HoAItBWidS+Pm+hKG6I
 p5B7hxtOzBBLMFxGX7zcwjWs8qDu+CB6hFNzlcLVeKrNHBWyZsT3dngQ0
X-Gm-Gg: ASbGncsYEz4Ik0MRHvLoifIqbCm1DQHvZ9mhlMatLLYaAuUKyRZMpDo/faFEhc9w8R3
 imkJkJHm9dWmhVCLNEYnRh+yghpPTpkJHR71iPCzYNIBLo04V+UCbVjPqFLztSwTPHbc2gBx2sC
 r8hL5jGd9Zy6iwqg2A71830uJh7Ir1ja0Po/pFTR/hgLnYiPShlH3viibNKU7C181rxq3bfzx11
 PFzB/Jsz8tGocYndplQPZxT844f4gmFEUiYXekYvlOUnxvPO8Ii+XIaTt/ieSkRCUW8YxJvnadS
 G+pyHvzQszHieLiMnF8ebygWMOmTRDHuMhNapOQgMsAZ3CXu
X-Google-Smtp-Source: AGHT+IHmhvuIdxI3RJ1FPDR1RIS5PErT1ARM7WVl9NJSZD6BLgIROPmUq6lSV3LkW4LNQ1+/0aruoRqSclbC
X-Received: by 2002:a5e:de42:0:b0:85e:16e9:5e8d with SMTP id
 ca18e2360f4ac-861b1903fecmr607788139f.7.1744767325498; 
 Tue, 15 Apr 2025 18:35:25 -0700 (PDT)
Received: from postal.iol.unh.edu (postal.iol.unh.edu.
 [2606:4100:3880:1234::84]) by smtp-relay.gmail.com with ESMTPS id
 8926c6da1cb9f-4f505d40a4fsm698442173.34.2025.04.15.18.35.25
 (version=TLS1_2 cipher=ECDHE-ECDSA-AES128-GCM-SHA256 bits=128/128);
 Tue, 15 Apr 2025 18:35:25 -0700 (PDT)
X-Relaying-Domain: iol.unh.edu
Date: Tue, 15 Apr 2025 18:35:25 -0700 (PDT)
Message-ID: <67ff095d.050a0220.37672c.14a9SMTPIN_ADDED_MISSING@mx.google.com>
Received: from [172.17.0.3] (unknown [172.18.0.217])
 by postal.iol.unh.edu (Postfix) with ESMTP id E32FE6052471;
 Tue, 15 Apr 2025 21:35:24 -0400 (EDT)
Subject: |SUCCESS| pw152913-152915 [PATCH] [3/3] net/nfp: standard the data e
From: dpdklab@iol.unh.edu
To: Test Report <test-report@dpdk.org>
Cc: dpdk-test-reports@iol.unh.edu
In-Reply-To: <20250415025453.1348238-4-chaoyong.he@corigine.com>
References: <20250415025453.1348238-4-chaoyong.he@corigine.com>
Content-Type: text/plain
X-BeenThere: test-report@dpdk.org
X-Mailman-Version: 2.1.29
Precedence: list
List-Id: automatic DPDK test reports <test-report.dpdk.org>
List-Unsubscribe: <https://mails.dpdk.org/options/test-report>,
 <mailto:test-report-request@dpdk.org?subject=unsubscribe>
List-Archive: <http://mails.dpdk.org/archives/test-report/>
List-Post: <mailto:test-report@dpdk.org>
List-Help: <mailto:test-report-request@dpdk.org?subject=help>
List-Subscribe: <https://mails.dpdk.org/listinfo/test-report>,
 <mailto:test-report-request@dpdk.org?subject=subscribe>
Errors-To: test-report-bounces@dpdk.org

Test-Label: iol-sample-apps-testing
Test-Status: SUCCESS
http://dpdk.org/patch/152915

_Testing PASS_

Submitter: Chaoyong He <chaoyong.he@corigine.com>
Date: Tuesday, April 15 2025 02:54:53 
DPDK git baseline: Repo:dpdk
  Branch: master
  CommitID:076c6f28ae606d6d2059b8903208fd728187cbff

152913-152915 --> testing pass

Upstream job id: Template-DTS-Pipeline#221633

Test environment and result as below:

+--------------------+----------------------+----------------------+
|    Environment     | compressdev_zlib_pmd | dpdk_fips_validation |
+====================+======================+======================+
| Ubuntu 22.04 (ARM) | PASS                 | SKIPPED              |
+--------------------+----------------------+----------------------+
| Ubuntu 22.04       | PASS                 | SKIPPED              |
+--------------------+----------------------+----------------------+
| Ubuntu 20.04       | SKIPPED              | PASS                 |
+--------------------+----------------------+----------------------+


Ubuntu 22.04 (ARM)
	Kernel: 5.15.0-97-generic
	Compiler: gcc gcc (Ubuntu 11.4.0-1ubuntu1~22.04) 11.4.0

Ubuntu 22.04
	Kernel: 5.15.0-100-generic
	Compiler: gcc gcc (Ubuntu 11.4.0-1ubuntu1~22.04) 11.4.0

Ubuntu 20.04
	Kernel: Depends on container host
	Compiler: gcc (Ubuntu 9.4.0-1ubuntu1~20.04.2) 9.4.0

To view detailed results, visit:
https://lab.dpdk.org/results/dashboard/patchsets/33006/

UNH-IOL DPDK Community Lab

To manage your email subscriptions, visit: 
https://lab.dpdk.org/results/dashboard/preferences/subscriptions/