From mboxrd@z Thu Jan  1 00:00:00 1970
Return-Path: <test-report-bounces@dpdk.org>
Received: from mails.dpdk.org (mails.dpdk.org [217.70.189.124])
	by inbox.dpdk.org (Postfix) with ESMTP id D5DEE4659D
	for <public@inbox.dpdk.org>; Wed, 16 Apr 2025 06:09:50 +0200 (CEST)
Received: from mails.dpdk.org (localhost [127.0.0.1])
	by mails.dpdk.org (Postfix) with ESMTP id D186B406B8;
	Wed, 16 Apr 2025 06:09:50 +0200 (CEST)
Received: from mail-yw1-f225.google.com (mail-yw1-f225.google.com
 [209.85.128.225])
 by mails.dpdk.org (Postfix) with ESMTP id 66E0040B9C
 for <test-report@dpdk.org>; Wed, 16 Apr 2025 06:09:47 +0200 (CEST)
Received: by mail-yw1-f225.google.com with SMTP id
 00721157ae682-6fee63b9139so2844947b3.1
 for <test-report@dpdk.org>; Tue, 15 Apr 2025 21:09:47 -0700 (PDT)
DKIM-Signature: v=1; a=rsa-sha256; c=relaxed/relaxed;
 d=iol.unh.edu; s=unh-iol; t=1744776587; x=1745381387; darn=dpdk.org;
 h=references:in-reply-to:cc:to:from:subject:message-id:date:from:to
 :cc:subject:date:message-id:reply-to;
 bh=XJR8qfg2ptdjSumu6r8vcrh9cVeHOjp3zsBvp6BmuFQ=;
 b=BdcoYrf03Azv3bAjdiGifftAlFHH50e7T+X0YxxXq+ZQ8AkufKG8ty6uo6p8z/rauG
 K6C8RpejMRGoLqWJ9JeMhbglhkzxW3OFIZm+SAehwK3VMxYdzjEdcDKaka13yMbGwDqb
 3C2K7bg88u0xru1hZCBEGziwBsZ7hkp+x9+AQ=
X-Google-DKIM-Signature: v=1; a=rsa-sha256; c=relaxed/relaxed;
 d=1e100.net; s=20230601; t=1744776587; x=1745381387;
 h=references:in-reply-to:cc:to:from:subject:message-id:date
 :x-gm-message-state:from:to:cc:subject:date:message-id:reply-to;
 bh=XJR8qfg2ptdjSumu6r8vcrh9cVeHOjp3zsBvp6BmuFQ=;
 b=pgreCNbOiY1DkIstfP3s/SwyverQdyMNZ8sQo4hhpiM0iixxop+FlnAo5fNPDUDCJR
 779MZM98eVsI1MmH+mN6xgMS301YxxuNOdEnslIqMi+kf3mfYrPfPuVKm7kcLMZ2tVvG
 UdBZyBXU1FlvLUsbRiZ6Eu9zdgwIiEoyhUbESfVrMBXdopt8/Yd6Eg5uFt5+1WG1Wf9n
 SmRSGbp5/7dH8vnNL89ejSBceGKV9f3UbWfKAR/Teu40fxuICT4PxmAGa/8w/6hdhFe8
 cRkWaTRR2uVsiOI2Lq2PyHIV+GqB5obyYh7cR+Bdny45edjmhmSUJGe/ddMO9t2BzWGU
 YGNQ==
X-Gm-Message-State: AOJu0YyhpgOFvd4WyePF5gNuqV2wtMWSZVdQdvAqPYvt3GTVo8qBfC4f
 qcG8TT96aYM0rpgEhxGfxhVV1yVQ6B+OzsUUVzHq03yYCVkIcG4FS+kFttJikramvEm53/Mc2u4
 CEHMqjtJClzie8U05gpg1zZ4QG3kJK+GlHdv7+1OZ
X-Gm-Gg: ASbGnctkdf00fy9jwR+l05LDNIAqE+DiHPCOOjKJ9AscV/IioFXlhDtELpom9oKjgYU
 k8C9+n2A919ldVQZfHOE0Q2np4X31HfiNMGl2zOkfZa/Ux3yNIEbOYUr/uHKaefqwMejP8PFQa1
 NhNKLUfo14thRH9Sv93r6jwR8sa6OQIHmGPhHin/PgbZgFGdQF5JAqtOSPgIOZ7D53rz4iAwmss
 4FyZiMFc6aYjnwExdYb2IUnBgXiIIOasf/vipzbNl4VgzRRh8G+Y2T0jUUke5w4kLJnKDd5KClJ
 wo5NsBRy2K26F5bF4u9IQrVkiuGJVUIvsTpU
X-Google-Smtp-Source: AGHT+IHDlJ7S+p4aGVvr1IkhCfnywIN6NaH6hBhD7hxJ9RcRfmJGGKz7c6ZmAWxZvW2YhhiKryZ11IJ8mK8B
X-Received: by 2002:a05:690c:3308:b0:703:b296:7897 with SMTP id
 00721157ae682-706b3e9e9d4mr2164327b3.6.1744776586841; 
 Tue, 15 Apr 2025 21:09:46 -0700 (PDT)
Received: from postal.iol.unh.edu (postal.iol.unh.edu. [132.177.123.84])
 by smtp-relay.gmail.com with ESMTPS id
 00721157ae682-7053e172e83sm6336367b3.37.2025.04.15.21.09.46
 (version=TLS1_2 cipher=ECDHE-ECDSA-AES128-GCM-SHA256 bits=128/128);
 Tue, 15 Apr 2025 21:09:46 -0700 (PDT)
X-Relaying-Domain: iol.unh.edu
Date: Tue, 15 Apr 2025 21:09:46 -0700 (PDT)
Message-ID: <67ff2d8a.050a0220.284c84.d909SMTPIN_ADDED_MISSING@mx.google.com>
Received: from [172.21.0.6] (unknown [172.18.0.240])
 by postal.iol.unh.edu (Postfix) with ESMTP id 6E4AE6052471;
 Wed, 16 Apr 2025 00:09:46 -0400 (EDT)
Subject: |SUCCESS| pw152938 [PATCH] net/gve: support for gVNIC PCI revision 1
From: dpdklab@iol.unh.edu
To: Test Report <test-report@dpdk.org>
Cc: dpdk-test-reports@iol.unh.edu
In-Reply-To: <20250416024421.722135-1-joshwash@google.com>
References: <20250416024421.722135-1-joshwash@google.com>
Content-Type: text/plain
X-BeenThere: test-report@dpdk.org
X-Mailman-Version: 2.1.29
Precedence: list
List-Id: automatic DPDK test reports <test-report.dpdk.org>
List-Unsubscribe: <https://mails.dpdk.org/options/test-report>,
 <mailto:test-report-request@dpdk.org?subject=unsubscribe>
List-Archive: <http://mails.dpdk.org/archives/test-report/>
List-Post: <mailto:test-report@dpdk.org>
List-Help: <mailto:test-report-request@dpdk.org?subject=help>
List-Subscribe: <https://mails.dpdk.org/listinfo/test-report>,
 <mailto:test-report-request@dpdk.org?subject=subscribe>
Errors-To: test-report-bounces@dpdk.org

Test-Label: iol-unit-amd64-testing
Test-Status: SUCCESS
http://dpdk.org/patch/152938

_Testing PASS_

Submitter: Joshua Washington <joshwash@google.com>
Date: Wednesday, April 16 2025 02:44:21 
DPDK git baseline: Repo:dpdk
  Branch: master
  CommitID:35ff024be343391025e56697fd7f8931cc96fe3c

152938 --> testing pass

Upstream job id: Generic-Unit-Test-DPDK#331298

Test environment and result as below:

+---------------------+----------------+
|     Environment     | dpdk_unit_test |
+=====================+================+
| CentOS Stream 9     | PASS           |
+---------------------+----------------+
| CentOS Stream 10    | PASS           |
+---------------------+----------------+
| Debian 12           | PASS           |
+---------------------+----------------+
| Fedora 40           | PASS           |
+---------------------+----------------+
| RHEL8               | PASS           |
+---------------------+----------------+
| Fedora 41           | PASS           |
+---------------------+----------------+
| Fedora 40 (Clang)   | PASS           |
+---------------------+----------------+
| RHEL9               | PASS           |
+---------------------+----------------+
| Fedora 41 (Clang)   | PASS           |
+---------------------+----------------+
| Ubuntu 20.04        | PASS           |
+---------------------+----------------+
| Ubuntu 24.04        | PASS           |
+---------------------+----------------+
| Ubuntu 22.04        | PASS           |
+---------------------+----------------+
| Windows Server 2022 | PASS           |
+---------------------+----------------+


CentOS Stream 9
	Kernel: Depends on container host
	Compiler: gcc 11.5.0 20240719 (Red Hat 11.5.0-2)

CentOS Stream 10
	Kernel: Depends on container host
	Compiler: gcc 14.2.1 20241104 (Red Hat 14.2.1-6)

Debian 12
	Kernel: Depends on container host
	Compiler: gcc (Debian 12.2.0-14) 12.2.0

Fedora 40
	Kernel: Depends on container host
	Compiler: gcc 14.2.1 20240912 (Red Hat 14.2.1-3)

RHEL8
	Kernel: Depends on container host
	Compiler: gcc 8.5.0 20210514 (Red Hat 8.5.0-22)

Fedora 41
	Kernel: Depends on container host
	Compiler: gcc 14.2.1 20240912 (Red Hat 14.2.1-3)

Fedora 40 (Clang)
	Kernel: Depends on container host
	Compiler: clang 18.1.8 (Fedora 18.1.8-1.fc40)

RHEL9
	Kernel: Depends on container host
	Compiler: gcc 11.5.0 20240719 (Red Hat 11.5.0-2)

Fedora 41 (Clang)
	Kernel: Depends on container host
	Compiler: clang 19.1.5 (Fedora 19.1.5-1.fc41)

Ubuntu 20.04
	Kernel: Depends on container host
	Compiler: gcc (Ubuntu 9.4.0-1ubuntu1~20.04.2) 9.4.0

Ubuntu 24.04
	Kernel: Depends on container host
	Compiler: gcc (Ubuntu 13.3.0-6ubuntu2~24.04) 13.3.0

Ubuntu 22.04
	Kernel: Depends on container host
	Compiler: gcc (Ubuntu 11.4.0-1ubuntu1~22.04) 11.4.0

Windows Server 2022
	Kernel: 10.0.20348.2031
	Compiler: clang 15.0.7, gcc 14.1.0 (MinGW), and MSVC VS 19.39.33521

To view detailed results, visit:
https://lab.dpdk.org/results/dashboard/patchsets/33014/

UNH-IOL DPDK Community Lab

To manage your email subscriptions, visit: 
https://lab.dpdk.org/results/dashboard/preferences/subscriptions/