From mboxrd@z Thu Jan  1 00:00:00 1970
Return-Path: <test-report-bounces@dpdk.org>
Received: from mails.dpdk.org (mails.dpdk.org [217.70.189.124])
	by inbox.dpdk.org (Postfix) with ESMTP id 619FD4659D
	for <public@inbox.dpdk.org>; Wed, 16 Apr 2025 07:35:03 +0200 (CEST)
Received: from mails.dpdk.org (localhost [127.0.0.1])
	by mails.dpdk.org (Postfix) with ESMTP id 5E08C406B8;
	Wed, 16 Apr 2025 07:35:03 +0200 (CEST)
Received: from mail-pj1-f97.google.com (mail-pj1-f97.google.com
 [209.85.216.97]) by mails.dpdk.org (Postfix) with ESMTP id D218140279
 for <test-report@dpdk.org>; Wed, 16 Apr 2025 07:35:02 +0200 (CEST)
Received: by mail-pj1-f97.google.com with SMTP id
 98e67ed59e1d1-2ff6cf448b8so7906761a91.3
 for <test-report@dpdk.org>; Tue, 15 Apr 2025 22:35:02 -0700 (PDT)
DKIM-Signature: v=1; a=rsa-sha256; c=relaxed/relaxed;
 d=iol.unh.edu; s=unh-iol; t=1744781701; x=1745386501; darn=dpdk.org;
 h=cc:to:from:subject:message-id:date:from:to:cc:subject:date
 :message-id:reply-to;
 bh=z/PBkLfukjMuSVcTHcxc+y6pdJoBZy2q4Lktg7sj7EQ=;
 b=d/uB7UrV7sLUovekyNZowODyKLyBEEyC7QQgQsL0Th25zf8V7fXunafTM5WXf7xqOU
 q367wnUgu+NO+D6hkNGEUJ1Y6ilX3BdwkKs3lYMF0FGyRNwo01RR4JU3xApSNpQHS97J
 56OtQsxSVm+8dXl17MkmLeVRD1zen/7/krrXg=
X-Google-DKIM-Signature: v=1; a=rsa-sha256; c=relaxed/relaxed;
 d=1e100.net; s=20230601; t=1744781701; x=1745386501;
 h=cc:to:from:subject:message-id:date:x-gm-message-state:from:to:cc
 :subject:date:message-id:reply-to;
 bh=z/PBkLfukjMuSVcTHcxc+y6pdJoBZy2q4Lktg7sj7EQ=;
 b=B62Hn4mMP3xj5nus2Jx++7oDHfXxtoGr2SEbeDa8xBaKMctF6BW0/nhQVgalJQ/0Rx
 VS/8N7QT+j0+jnMnbzSSK2V1IbueAiXj1EBrQ7GqVFLT6ZkL0Sa9qTAyEyJHjVWWEXD/
 omKswc8PiKuGej+LZfKB00e+SuNxM0u9Tp7pMOy37vzqSkyXxhggfGD6lQpu7mbnIEto
 SqCfpd/jUVZk+Sdm+6tnCgS4YfNiwYfEK2pOfmEc2Sq5DpukY4e1/T2Ru13mnWb9tp6u
 KCxpmxgvbFtMCVEQKgQPvEGiNzG/1mrZqLQsV2u8a9dPo06WNRsy3R7nOqbu0XZ885rb
 eAAQ==
X-Gm-Message-State: AOJu0Yy26pKasHB4zg9Q3g3moNkBH058liDs4rVXE4OZ8TV4nzSFhgpa
 eYi/Ty1fgxx0/E9TRA2uSsDT6nREbqnYdBXRUaXEX01P6a9VV/icV96EsPbr1oWzLpy31bnRjm5
 fYwkHR/qVu46T5UG7N0Tpx5U9Pp6cC5WXsEWXA1NYxFVy++ATtYuPneYp
X-Gm-Gg: ASbGnctsftEYuxC0nObIXAFBdfiNPQn2dFxhGlPtHu+bc2VjU3KTqEdCCP/SDgvj0TW
 J5mYyVExb9GuFvi1AeunredNwUkHMZKaYqIqMxlgCRCqqTOf0JOkjpH/ffAfRr/hODe1Hrg4+F+
 7C4kzF3gdmIfJbxAaBl4V0z0hT4nm/Ga5MFKM3FmMtaZ0gB50rZJwMw/4YZ+fSJBpH6DTW8GfSq
 Lxc2ryNb472ob2EBSAv3WhR4+2MHrrDL0eELixdppbjDkbHPEysdTQt4QT0z+O+C1ZnCVuEDS5W
 j9LDsoZE3SkDC9K+pMIEuobns1GUjGtz7TSkz6wFKPggQTlO
X-Google-Smtp-Source: AGHT+IEbBGYW3XjCc7JglUkEWdYs4ZgVkYIY+1yFs5w2I5uo1rLT6dK91OPi8eGYQOGgMl2CeiWmC6u2GcW2
X-Received: by 2002:a17:90b:5410:b0:2fe:b735:87da with SMTP id
 98e67ed59e1d1-30863c503c8mr1017411a91.0.1744781701647; 
 Tue, 15 Apr 2025 22:35:01 -0700 (PDT)
Received: from postal.iol.unh.edu (postal.iol.unh.edu.
 [2606:4100:3880:1234::84]) by smtp-relay.gmail.com with ESMTPS id
 98e67ed59e1d1-308612144b6sm54426a91.8.2025.04.15.22.35.01
 (version=TLS1_2 cipher=ECDHE-ECDSA-AES128-GCM-SHA256 bits=128/128);
 Tue, 15 Apr 2025 22:35:01 -0700 (PDT)
X-Relaying-Domain: iol.unh.edu
Date: Tue, 15 Apr 2025 22:35:01 -0700 (PDT)
Message-ID: <67ff4185.170a0220.3cabdf.307dSMTPIN_ADDED_MISSING@mx.google.com>
Received: from [172.21.0.8] (unknown [172.18.0.240])
 by postal.iol.unh.edu (Postfix) with ESMTP id C87C06052471;
 Wed, 16 Apr 2025 01:35:00 -0400 (EDT)
Subject: |SUCCESS| [GIT MASTER] ca1690ebd224f148268285b15b97441ccdbdd07e
From: dpdklab@iol.unh.edu
To: Test Report <test-report@dpdk.org>
Cc: dpdk-test-reports@iol.unh.edu, Akhil Goyal <gakhil@marvell.com>
Content-Type: text/plain
X-BeenThere: test-report@dpdk.org
X-Mailman-Version: 2.1.29
Precedence: list
List-Id: automatic DPDK test reports <test-report.dpdk.org>
List-Unsubscribe: <https://mails.dpdk.org/options/test-report>,
 <mailto:test-report-request@dpdk.org?subject=unsubscribe>
List-Archive: <http://mails.dpdk.org/archives/test-report/>
List-Post: <mailto:test-report@dpdk.org>
List-Help: <mailto:test-report-request@dpdk.org?subject=help>
List-Subscribe: <https://mails.dpdk.org/listinfo/test-report>,
 <mailto:test-report-request@dpdk.org?subject=subscribe>
Errors-To: test-report-bounces@dpdk.org

_Testing PASS_

Branch: dpdk-next-crypto

ca1690ebd224f148268285b15b97441ccdbdd07e --> testing pass

Upstream job id: Template-DTS-Pipeline#221703

Test environment and result as below:

+--------------------+----------------------+----------------------+
|    Environment     | dpdk_fips_validation | compressdev_zlib_pmd |
+====================+======================+======================+
| Ubuntu 20.04       | PASS                 | SKIPPED              |
+--------------------+----------------------+----------------------+
| Ubuntu 22.04 (ARM) | SKIPPED              | PASS                 |
+--------------------+----------------------+----------------------+
| Ubuntu 22.04       | SKIPPED              | PASS                 |
+--------------------+----------------------+----------------------+


Ubuntu 20.04
	Kernel: Depends on container host
	Compiler: gcc (Ubuntu 9.4.0-1ubuntu1~20.04.2) 9.4.0

Ubuntu 22.04 (ARM)
	Kernel: 5.15.0-97-generic
	Compiler: gcc gcc (Ubuntu 11.4.0-1ubuntu1~22.04) 11.4.0

Ubuntu 22.04
	Kernel: 5.15.0-100-generic
	Compiler: gcc gcc (Ubuntu 11.4.0-1ubuntu1~22.04) 11.4.0

To view detailed results, visit:
https://lab.dpdk.org/results/dashboard/tarballs/33261/

UNH-IOL DPDK Community Lab

To manage your email subscriptions, visit: 
https://lab.dpdk.org/results/dashboard/preferences/subscriptions/