From mboxrd@z Thu Jan  1 00:00:00 1970
Return-Path: <test-report-bounces@dpdk.org>
Received: from mails.dpdk.org (mails.dpdk.org [217.70.189.124])
	by inbox.dpdk.org (Postfix) with ESMTP id 617A3465A6
	for <public@inbox.dpdk.org>; Wed, 16 Apr 2025 11:35:57 +0200 (CEST)
Received: from mails.dpdk.org (localhost [127.0.0.1])
	by mails.dpdk.org (Postfix) with ESMTP id 5D80840DD1;
	Wed, 16 Apr 2025 11:35:57 +0200 (CEST)
Received: from mail-qv1-f99.google.com (mail-qv1-f99.google.com
 [209.85.219.99]) by mails.dpdk.org (Postfix) with ESMTP id AB7D7406B8
 for <test-report@dpdk.org>; Wed, 16 Apr 2025 11:35:56 +0200 (CEST)
Received: by mail-qv1-f99.google.com with SMTP id
 6a1803df08f44-6e8fd49b85eso99127366d6.0
 for <test-report@dpdk.org>; Wed, 16 Apr 2025 02:35:56 -0700 (PDT)
DKIM-Signature: v=1; a=rsa-sha256; c=relaxed/relaxed;
 d=iol.unh.edu; s=unh-iol; t=1744796156; x=1745400956; darn=dpdk.org;
 h=references:in-reply-to:cc:to:from:subject:message-id:date:from:to
 :cc:subject:date:message-id:reply-to;
 bh=Fgx9ycjjsTCJ9J6PiGfT2r3LWT7mxRGjrlNl6Of0wbA=;
 b=Jy+N6pq6k0azl0zQEjRAgUKHw5/fkEMz8RNzQDkGU2Ymhi9N1lP7MZ09E89XgnfxDn
 UQyQ1RPT505JmoeBQLvOUwYb7AWp2lEnAJOMq5lXkHEmlbIW1zh/8J/6hV2TybJZBU6r
 VAvpiIMBz8MeBfQjvSFSmjDaHymsjOjVbQFQ4=
X-Google-DKIM-Signature: v=1; a=rsa-sha256; c=relaxed/relaxed;
 d=1e100.net; s=20230601; t=1744796156; x=1745400956;
 h=references:in-reply-to:cc:to:from:subject:message-id:date
 :x-gm-message-state:from:to:cc:subject:date:message-id:reply-to;
 bh=Fgx9ycjjsTCJ9J6PiGfT2r3LWT7mxRGjrlNl6Of0wbA=;
 b=Gym8bjjaDYHdNQsJe2Pm5RwtFYAxCx/49ykbIHNmLPutLv5AcWfgULc/0gwSbv1LEw
 1iUaBW7AyA3Xv5fsVXpqGo8yGh80RWVPS3E4tsBNb4YZjokp5BONTXMGP6fO1tFzAAzF
 o9s3aLA8TzcvxDR2IPiCZ5R2s+oLwouh5FkZiRJK6IymvuDxGurXMSritC+s0DsZ6kL+
 yJxOBSRHwr6aWvQKN4z7b80JE5R5FHi+zJ8tDn4alJCj+RIOqp2Ee2T44vDwOoT5tVun
 TDXFAbX9SjOLK1NUbLptI6wnohXJ6EI7CCLa8wpzJl0IJ9IG6Xml2wLWtOlwzCuW+F6E
 qKVw==
X-Gm-Message-State: AOJu0YytZ2LqB989hrExd4sPya0DEagEfcSi0LeQ37Kgpzw3oRK6tAOU
 I6AH2Z7pvE9o8uMrtIRJ9wiSuBwepCQ1g5HWSDmav4mgpmQNM3/40Q8wRDASdNAgFd6gt4W1qUh
 2ST0MVZzixsaDVobnczWp/bxJxDzHYJd7khvOYyJpfVXsP+9dIfqezrVv
X-Gm-Gg: ASbGnct2idDRw52hpQtcVyyQr6TMtaVmNK4rGV30Mrn776Xr/kGjuRpA+6+j6GvK2Jt
 962XsYzk0cGmfrmUjxffF0QGf58Oaafi/VAfIeNgeftfIPUXgENXd5c6evW79d0tdh3l8w5CTCw
 ZdCZoKw9bAWwwA6nNy2vk2WYhk51jNIvPzw+7J6ShNmqmtRwDITmnEvjE28nCvLH2rAFtH6wlVV
 cL2gXrY+Mzy0pD+mTaDQuIA0FVo0XsfYIkGZqplcglfrqRgze9t+vQwAwcKHAhiHDJaoBTFgKHo
 ltmNgOnI3XSHMneU1CuW+cAwfBlRuaCEOa84uAIj96GR5EH+
X-Google-Smtp-Source: AGHT+IHpjs7ylgg4jLNFpkhFO+24nubwyiHT5LHj/TKE2Erfq6RhBLMQyqX/B/1nHxALVlIjxzCPuPvYSZXI
X-Received: by 2002:ad4:5cab:0:b0:6d4:e0a:230e with SMTP id
 6a1803df08f44-6f2b2f389d8mr16736286d6.16.1744796156076; 
 Wed, 16 Apr 2025 02:35:56 -0700 (PDT)
Received: from postal.iol.unh.edu (postal.iol.unh.edu.
 [2606:4100:3880:1234::84]) by smtp-relay.gmail.com with ESMTPS id
 6a1803df08f44-6f0de95c1easm8482586d6.11.2025.04.16.02.35.56
 (version=TLS1_2 cipher=ECDHE-ECDSA-AES128-GCM-SHA256 bits=128/128);
 Wed, 16 Apr 2025 02:35:56 -0700 (PDT)
X-Relaying-Domain: iol.unh.edu
Date: Wed, 16 Apr 2025 02:35:56 -0700 (PDT)
Message-ID: <67ff79fc.050a0220.38ccd0.a3acSMTPIN_ADDED_MISSING@mx.google.com>
Received: from [172.17.0.5] (unknown [172.18.0.217])
 by postal.iol.unh.edu (Postfix) with ESMTP id 785726052471;
 Wed, 16 Apr 2025 05:35:55 -0400 (EDT)
Subject: |SUCCESS| pw152937 [PATCH] maintainers: update GVE maintainers
From: dpdklab@iol.unh.edu
To: Test Report <test-report@dpdk.org>
Cc: dpdk-test-reports@iol.unh.edu
In-Reply-To: <20250416024253.713448-1-joshwash@google.com>
References: <20250416024253.713448-1-joshwash@google.com>
Content-Type: text/plain
X-BeenThere: test-report@dpdk.org
X-Mailman-Version: 2.1.29
Precedence: list
List-Id: automatic DPDK test reports <test-report.dpdk.org>
List-Unsubscribe: <https://mails.dpdk.org/options/test-report>,
 <mailto:test-report-request@dpdk.org?subject=unsubscribe>
List-Archive: <http://mails.dpdk.org/archives/test-report/>
List-Post: <mailto:test-report@dpdk.org>
List-Help: <mailto:test-report-request@dpdk.org?subject=help>
List-Subscribe: <https://mails.dpdk.org/listinfo/test-report>,
 <mailto:test-report-request@dpdk.org?subject=subscribe>
Errors-To: test-report-bounces@dpdk.org

Test-Label: iol-sample-apps-testing
Test-Status: SUCCESS
http://dpdk.org/patch/152937

_Testing PASS_

Submitter: Joshua Washington <joshwash@google.com>
Date: Wednesday, April 16 2025 02:42:52 
DPDK git baseline: Repo:dpdk
  Branch: master
  CommitID:ca1690ebd224f148268285b15b97441ccdbdd07e

152937 --> testing pass

Upstream job id: Template-DTS-Pipeline#221773

Test environment and result as below:

+--------------------+----------------------+----------------------+
|    Environment     | compressdev_zlib_pmd | dpdk_fips_validation |
+====================+======================+======================+
| Ubuntu 22.04 (ARM) | PASS                 | SKIPPED              |
+--------------------+----------------------+----------------------+
| Ubuntu 22.04       | PASS                 | SKIPPED              |
+--------------------+----------------------+----------------------+
| Ubuntu 20.04       | SKIPPED              | PASS                 |
+--------------------+----------------------+----------------------+


Ubuntu 22.04 (ARM)
	Kernel: 5.15.0-97-generic
	Compiler: gcc gcc (Ubuntu 11.4.0-1ubuntu1~22.04) 11.4.0

Ubuntu 22.04
	Kernel: 5.15.0-100-generic
	Compiler: gcc gcc (Ubuntu 11.4.0-1ubuntu1~22.04) 11.4.0

Ubuntu 20.04
	Kernel: Depends on container host
	Compiler: gcc (Ubuntu 9.4.0-1ubuntu1~20.04.2) 9.4.0

To view detailed results, visit:
https://lab.dpdk.org/results/dashboard/patchsets/33013/

UNH-IOL DPDK Community Lab

To manage your email subscriptions, visit: 
https://lab.dpdk.org/results/dashboard/preferences/subscriptions/