From mboxrd@z Thu Jan  1 00:00:00 1970
Return-Path: <test-report-bounces@dpdk.org>
Received: from mails.dpdk.org (mails.dpdk.org [217.70.189.124])
	by inbox.dpdk.org (Postfix) with ESMTP id 62005465A7
	for <public@inbox.dpdk.org>; Wed, 16 Apr 2025 13:57:35 +0200 (CEST)
Received: from mails.dpdk.org (localhost [127.0.0.1])
	by mails.dpdk.org (Postfix) with ESMTP id 3D37E40B98;
	Wed, 16 Apr 2025 13:57:35 +0200 (CEST)
Received: from mail-io1-f99.google.com (mail-io1-f99.google.com
 [209.85.166.99]) by mails.dpdk.org (Postfix) with ESMTP id B0CC9406B8
 for <test-report@dpdk.org>; Wed, 16 Apr 2025 13:57:33 +0200 (CEST)
Received: by mail-io1-f99.google.com with SMTP id
 ca18e2360f4ac-85ea482e3adso19111339f.0
 for <test-report@dpdk.org>; Wed, 16 Apr 2025 04:57:33 -0700 (PDT)
DKIM-Signature: v=1; a=rsa-sha256; c=relaxed/relaxed;
 d=iol.unh.edu; s=unh-iol; t=1744804653; x=1745409453; darn=dpdk.org;
 h=references:in-reply-to:cc:to:from:subject:message-id:date:from:to
 :cc:subject:date:message-id:reply-to;
 bh=OwPpiLsUjNA0Bh8ng3hlDkq8TtrNzuY3GR/9LrbmhhQ=;
 b=Hx71X4jgfTSMAWk0rfXgpayFKSG4NhGdkXvfKcU5wpiNGKjeoTSW284Cek+CSHk3Tu
 KrfKYVw8SsgwDxYs6rbpfm643r2YHfkxoUrGNsNuiKVcJPJLZFJ27ZpkNBXGw1ipgyLR
 K+bNKFPpN39w1eKG7CO0rAC7N3aMWIFWREjn8=
X-Google-DKIM-Signature: v=1; a=rsa-sha256; c=relaxed/relaxed;
 d=1e100.net; s=20230601; t=1744804653; x=1745409453;
 h=references:in-reply-to:cc:to:from:subject:message-id:date
 :x-gm-message-state:from:to:cc:subject:date:message-id:reply-to;
 bh=OwPpiLsUjNA0Bh8ng3hlDkq8TtrNzuY3GR/9LrbmhhQ=;
 b=qY5RC4Lk+GCVb2Rzz0GysSWhoJJtAGnivUPdPkfiHQG/F7o2DCLs7HxVFbv97KnKCB
 gMy02XYwFPHNdAAfSlXF1c/SSAsS9Leq2SajSaOc+VCkZSKQzC+2dvEa7uSjcUZLZRWX
 4096dexQ+f7bzSr995htJ6KwOTVg/Wp25gTnIIWNLiGJawvRJkxZenJQa1fIFx7yV86x
 bz7UxXejezQjn8md5De7n5Hif42NAPlhjMNE2ZKlA1MdQgWezH4cOPcqZnPvFq6EXtBX
 R97efWyky4b+BYewGbfk8XAtBEreZ6825IqDXBS5Ldi2bfvLBYxtY/1pMo9bZ8wPMIym
 +G/Q==
X-Gm-Message-State: AOJu0YxJ0D3vmBrzdG18L+c34gE6t8vrm+5FbqMb93Oz6ci8Bl9E1AAH
 GTiwmV1JBH6wltZQKcy4IB6F4NO0Byi0cIB51WEw7nDkkbPAOdQfoJXNZLyC0ZRT8JRBrcbm4l/
 /astTObJeOaGUHRqshjAhEohfiXl0zCsb9iN1/azkvYN9e3unxb8XSEJm
X-Gm-Gg: ASbGncvJPEpDWhwqHyBsDuT7g5fIR37Fc60CbT9DA7atkeLSHpvpT0w2ayC3EYKHF5g
 5yrNMBLQWVpuYmoQb2b8Mh/JJBUjjH8Dm8Mp+YWdOVFrQQ1aynKO08zc9U7WtfU7CNdMsRvtKLg
 MO2rDnEFAUuKb3qAQMKYxtsgJ1eGSavUjuRw4g2ws9MueFwMq1pIDspyRkzkNxyJ/U7Vg3tx4pp
 X6WNmoGyC+ykEzPa3Vo2XVZOhViYeAorAa8gcrAHPkClsmo5VJqAuYqCTqHyXA+R0Rwd5WXpu6E
 3CarJuy/uYzRJj2dYw2vn63VTpGvhphkKDRxIZaVZtHpkf9p
X-Google-Smtp-Source: AGHT+IFxpfK7R7utAG2ZRNT7e3NSGnBlZBPjWQge5eWvJpuMQFBAJ4ags5BlPGUBvqtxCDusSxfxhkCfF6vb
X-Received: by 2002:a05:6e02:3113:b0:3d0:26a5:b2c with SMTP id
 e9e14a558f8ab-3d815d01293mr12416785ab.8.1744804652811; 
 Wed, 16 Apr 2025 04:57:32 -0700 (PDT)
Received: from postal.iol.unh.edu (postal.iol.unh.edu.
 [2606:4100:3880:1234::84]) by smtp-relay.gmail.com with ESMTPS id
 e9e14a558f8ab-3d7dbaa418dsm8682465ab.34.2025.04.16.04.57.32
 (version=TLS1_2 cipher=ECDHE-ECDSA-AES128-GCM-SHA256 bits=128/128);
 Wed, 16 Apr 2025 04:57:32 -0700 (PDT)
X-Relaying-Domain: iol.unh.edu
Date: Wed, 16 Apr 2025 04:57:32 -0700 (PDT)
Message-ID: <67ff9b2c.050a0220.2ca30b.baf1SMTPIN_ADDED_MISSING@mx.google.com>
Received: from [172.17.0.4] (unknown [172.18.0.217])
 by postal.iol.unh.edu (Postfix) with ESMTP id 535CB6052471;
 Wed, 16 Apr 2025 07:57:32 -0400 (EDT)
Subject: |SUCCESS| pw152939 [PATCH] pci: define more standard register offset
From: dpdklab@iol.unh.edu
To: Test Report <test-report@dpdk.org>
Cc: dpdk-test-reports@iol.unh.edu
In-Reply-To: <20250416061034.649607-1-david.marchand@redhat.com>
References: <20250416061034.649607-1-david.marchand@redhat.com>
Content-Type: text/plain
X-BeenThere: test-report@dpdk.org
X-Mailman-Version: 2.1.29
Precedence: list
List-Id: automatic DPDK test reports <test-report.dpdk.org>
List-Unsubscribe: <https://mails.dpdk.org/options/test-report>,
 <mailto:test-report-request@dpdk.org?subject=unsubscribe>
List-Archive: <http://mails.dpdk.org/archives/test-report/>
List-Post: <mailto:test-report@dpdk.org>
List-Help: <mailto:test-report-request@dpdk.org?subject=help>
List-Subscribe: <https://mails.dpdk.org/listinfo/test-report>,
 <mailto:test-report-request@dpdk.org?subject=subscribe>
Errors-To: test-report-bounces@dpdk.org

Test-Label: iol-abi-testing
Test-Status: SUCCESS
http://dpdk.org/patch/152939

_Testing PASS_

Submitter: David Marchand <david.marchand@redhat.com>
Date: Wednesday, April 16 2025 06:10:34 
DPDK git baseline: Repo:dpdk
  Branch: master
  CommitID:35ff024be343391025e56697fd7f8931cc96fe3c

152939 --> testing pass

Upstream job id: Generic-DPDK-Compile-ABI#123517

Test environment and result as below:

+-------------------+----------+
|    Environment    | abi_test |
+===================+==========+
| CentOS Stream 9   | PASS     |
+-------------------+----------+
| CentOS Stream 10  | PASS     |
+-------------------+----------+
| Debian 12         | PASS     |
+-------------------+----------+
| Fedora 40 (Clang) | PASS     |
+-------------------+----------+
| Fedora 41         | PASS     |
+-------------------+----------+
| Fedora 40         | PASS     |
+-------------------+----------+
| Fedora 41 (Clang) | PASS     |
+-------------------+----------+
| openSUSE Leap 15  | PASS     |
+-------------------+----------+
| RHEL8             | PASS     |
+-------------------+----------+
| RHEL9             | PASS     |
+-------------------+----------+
| Ubuntu 22.04      | PASS     |
+-------------------+----------+
| Ubuntu 24.04      | PASS     |
+-------------------+----------+


CentOS Stream 9
	Kernel: Depends on container host
	Compiler: gcc 11.5.0 20240719 (Red Hat 11.5.0-2)

CentOS Stream 10
	Kernel: Depends on container host
	Compiler: gcc 14.2.1 20241104 (Red Hat 14.2.1-6)

Debian 12
	Kernel: Depends on container host
	Compiler: gcc (Debian 12.2.0-14) 12.2.0

Fedora 40 (Clang)
	Kernel: Depends on container host
	Compiler: clang 18.1.8 (Fedora 18.1.8-1.fc40)

Fedora 41
	Kernel: Depends on container host
	Compiler: gcc 14.2.1 20240912 (Red Hat 14.2.1-3)

Fedora 40
	Kernel: Depends on container host
	Compiler: gcc 14.2.1 20240912 (Red Hat 14.2.1-3)

Fedora 41 (Clang)
	Kernel: Depends on container host
	Compiler: clang 19.1.5 (Fedora 19.1.5-1.fc41)

openSUSE Leap 15
	Kernel: Depends on container host
	Compiler: gcc (SUSE Linux) 7.5.0

RHEL8
	Kernel: Depends on container host
	Compiler: gcc 8.5.0 20210514 (Red Hat 8.5.0-22)

RHEL9
	Kernel: Depends on container host
	Compiler: gcc 11.5.0 20240719 (Red Hat 11.5.0-2)

Ubuntu 22.04
	Kernel: Depends on container host
	Compiler: gcc (Ubuntu 11.4.0-1ubuntu1~22.04) 11.4.0

Ubuntu 24.04
	Kernel: Depends on container host
	Compiler: gcc (Ubuntu 13.3.0-6ubuntu2~24.04) 13.3.0

To view detailed results, visit:
https://lab.dpdk.org/results/dashboard/patchsets/33015/

UNH-IOL DPDK Community Lab

To manage your email subscriptions, visit: 
https://lab.dpdk.org/results/dashboard/preferences/subscriptions/