From mboxrd@z Thu Jan  1 00:00:00 1970
Return-Path: <test-report-bounces@dpdk.org>
Received: from mails.dpdk.org (mails.dpdk.org [217.70.189.124])
	by inbox.dpdk.org (Postfix) with ESMTP id 18EBC465A8
	for <public@inbox.dpdk.org>; Wed, 16 Apr 2025 14:15:13 +0200 (CEST)
Received: from mails.dpdk.org (localhost [127.0.0.1])
	by mails.dpdk.org (Postfix) with ESMTP id DC1B040B98;
	Wed, 16 Apr 2025 14:15:12 +0200 (CEST)
Received: from mail-qk1-f226.google.com (mail-qk1-f226.google.com
 [209.85.222.226])
 by mails.dpdk.org (Postfix) with ESMTP id EEAE1406B8
 for <test-report@dpdk.org>; Wed, 16 Apr 2025 14:15:10 +0200 (CEST)
Received: by mail-qk1-f226.google.com with SMTP id
 af79cd13be357-7c55500cf80so516409485a.1
 for <test-report@dpdk.org>; Wed, 16 Apr 2025 05:15:10 -0700 (PDT)
DKIM-Signature: v=1; a=rsa-sha256; c=relaxed/relaxed;
 d=iol.unh.edu; s=unh-iol; t=1744805710; x=1745410510; darn=dpdk.org;
 h=cc:to:from:subject:message-id:date:from:to:cc:subject:date
 :message-id:reply-to;
 bh=Z4eSGhXO3UIvSbr727HgToinfOdybM95rX8fYYu44vs=;
 b=KnZChiAuO5Qo3NKrejQtq6gRUujJ4qhVCYUdd2tCqSQU9hcE/BhZaXSgAt5kjQA4hK
 3/gD07hsliXMfwHtChevNp8ksPMHHXytUp6+0IncgAlMpzKjqC8HO52xuROwwatn4yGX
 8A0WJfG96PXKBMmNpAUXDl2mChZC1pSsTkrLA=
X-Google-DKIM-Signature: v=1; a=rsa-sha256; c=relaxed/relaxed;
 d=1e100.net; s=20230601; t=1744805710; x=1745410510;
 h=cc:to:from:subject:message-id:date:x-gm-message-state:from:to:cc
 :subject:date:message-id:reply-to;
 bh=Z4eSGhXO3UIvSbr727HgToinfOdybM95rX8fYYu44vs=;
 b=GVsORLn6I+1nrsdZaj/shZ6saMabHhC3ol7MERHYtJQRlYYpBTh6XFvkbcNYVkJaKm
 Cu6cl7CwM8iFzPR5H1gAYJ8fPxSsNjN40ZWaVP9EVLGi89a5iGJIe8UgPo0lmerN7GBc
 vsiTbVI8SqlVT+xOSs6j7YnrKX6ueov0s/NJw8Dcqkca2oSWPfSQFaKK0S8G33bS7Eg/
 suRuHMH9zMkpaEHikZGrYE++M3tscHn5N7VckgGEvh1ZJ1lqfcmZf9ovt+GRDdbYJzaA
 juaBCBHgTKAK00yZ3fsyMuHJgPHAzMmNd/4oVX+GLvCyQ4TmuSUrZh5HYkiO2/cLa5nq
 hW8w==
X-Gm-Message-State: AOJu0YwvDGErrXYape0/qC9IiVBfyUeZVP4B4Cs5+bMB5ynTqbpkyHIp
 NIyG1EYUfRy/yrlhia/WF7ZORVuWSb/Pj2Y03ewYrPM6xDt6ouFqTR987aA6LDArvJBih+2ZB4i
 AYnNv5s0L169umYQF8q3vPKw5zrT4ZL68+lhcDbcBk9iM9gDv
X-Gm-Gg: ASbGncvQgzrFMhQ/FxMVDq4eTFIPX1+fSHbAk+oK1Q1x3J6EPqd0p3gz3yNarNviYx0
 fS5CW1NG16dVm8oIE4SWD7KjV9MXPMOLu6peoNM9aOTO2mC9EAPPl5MmKlsp9QaVKtocrtXfF4k
 YY/xE3b7tOlqV7Jwr5tjBIwtovsV9X2kzHo9a3n3eN1YalUC8D0SALYFxeWwzjn2yiM3n0luC11
 k+RHhOMU0IAHiZD7mFjnOYRLbmoEvLv5ICcySwPIgb+5c6PeyXbRdyss/59m1xT/n8KFydN1LVA
 LBdG3rCxBgdUG9d1NEstWV27NNkuJcgPhQE3xnLCMDPZA/zc
X-Google-Smtp-Source: AGHT+IGY8EgZixMbQUl8S8fBGIum8sLzeEI+MHCMyCgzlpGkEpSDPy8Ev1fFKBWTlJeio45SekM3w+o1VfUa
X-Received: by 2002:a05:6214:5097:b0:6ea:d393:962a with SMTP id
 6a1803df08f44-6f2b2f23faamr22084126d6.1.1744805708551; 
 Wed, 16 Apr 2025 05:15:08 -0700 (PDT)
Received: from postal.iol.unh.edu (postal.iol.unh.edu.
 [2606:4100:3880:1234::84]) by smtp-relay.gmail.com with ESMTPS id
 6a1803df08f44-6f0de97b257sm8612496d6.31.2025.04.16.05.15.08
 (version=TLS1_2 cipher=ECDHE-ECDSA-AES128-GCM-SHA256 bits=128/128);
 Wed, 16 Apr 2025 05:15:08 -0700 (PDT)
X-Relaying-Domain: iol.unh.edu
Date: Wed, 16 Apr 2025 05:15:08 -0700 (PDT)
Message-ID: <67ff9f4c.050a0220.3b2334.b725SMTPIN_ADDED_MISSING@mx.google.com>
Received: from [172.17.0.3] (unknown [172.18.0.217])
 by postal.iol.unh.edu (Postfix) with ESMTP id 2E3336052471;
 Wed, 16 Apr 2025 08:15:08 -0400 (EDT)
Subject: |SUCCESS| [GIT MASTER] c66daa12e76d7b4912cfb7109a761856a7a873ab
From: dpdklab@iol.unh.edu
To: Test Report <test-report@dpdk.org>
Cc: dpdk-test-reports@iol.unh.edu, Xueming Li <xuemingl@nvidia.com>,
 Christian Ehrhardt <christian.ehrhardt@canonical.com>,
 Kevin Traynor <ktraynor@redhat.com>, Luca Boccassi <bluca@debian.org>
Content-Type: text/plain
X-BeenThere: test-report@dpdk.org
X-Mailman-Version: 2.1.29
Precedence: list
List-Id: automatic DPDK test reports <test-report.dpdk.org>
List-Unsubscribe: <https://mails.dpdk.org/options/test-report>,
 <mailto:test-report-request@dpdk.org?subject=unsubscribe>
List-Archive: <http://mails.dpdk.org/archives/test-report/>
List-Post: <mailto:test-report@dpdk.org>
List-Help: <mailto:test-report-request@dpdk.org?subject=help>
List-Subscribe: <https://mails.dpdk.org/listinfo/test-report>,
 <mailto:test-report-request@dpdk.org?subject=subscribe>
Errors-To: test-report-bounces@dpdk.org

_Testing PASS_

Branch: tags/v23.11

c66daa12e76d7b4912cfb7109a761856a7a873ab --> testing pass

Upstream job id: Generic-VM-Unit-Test-DPDK#28005

Test environment and result as below:

+---------------------+----------------+
|     Environment     | dpdk_unit_test |
+=====================+================+
| CentOS Stream 9     | PASS           |
+---------------------+----------------+
| Fedora 40           | PASS           |
+---------------------+----------------+
| Fedora 41           | PASS           |
+---------------------+----------------+
| CentOS Stream 10    | PASS           |
+---------------------+----------------+
| Fedora 40 (Clang)   | PASS           |
+---------------------+----------------+
| Debian 12           | PASS           |
+---------------------+----------------+
| RHEL8               | PASS           |
+---------------------+----------------+
| Ubuntu 20.04        | PASS           |
+---------------------+----------------+
| Fedora 41 (Clang)   | PASS           |
+---------------------+----------------+
| RHEL9               | PASS           |
+---------------------+----------------+
| Ubuntu 22.04        | PASS           |
+---------------------+----------------+
| Ubuntu 24.04        | PASS           |
+---------------------+----------------+
| Windows Server 2022 | PASS           |
+---------------------+----------------+


CentOS Stream 9
	Kernel: Depends on container host
	Compiler: gcc 11.5.0 20240719 (Red Hat 11.5.0-2)

Fedora 40
	Kernel: Depends on container host
	Compiler: gcc 14.2.1 20240912 (Red Hat 14.2.1-3)

Fedora 41
	Kernel: Depends on container host
	Compiler: gcc 14.2.1 20240912 (Red Hat 14.2.1-3)

CentOS Stream 10
	Kernel: Depends on container host
	Compiler: gcc 14.2.1 20241104 (Red Hat 14.2.1-6)

Fedora 40 (Clang)
	Kernel: Depends on container host
	Compiler: clang 18.1.8 (Fedora 18.1.8-1.fc40)

Debian 12
	Kernel: Depends on container host
	Compiler: gcc (Debian 12.2.0-14) 12.2.0

RHEL8
	Kernel: Depends on container host
	Compiler: gcc 8.5.0 20210514 (Red Hat 8.5.0-22)

Ubuntu 20.04
	Kernel: Depends on container host
	Compiler: gcc (Ubuntu 9.4.0-1ubuntu1~20.04.2) 9.4.0

Fedora 41 (Clang)
	Kernel: Depends on container host
	Compiler: clang 19.1.5 (Fedora 19.1.5-1.fc41)

RHEL9
	Kernel: Depends on container host
	Compiler: gcc 11.5.0 20240719 (Red Hat 11.5.0-2)

Ubuntu 22.04
	Kernel: Depends on container host
	Compiler: gcc (Ubuntu 11.4.0-1ubuntu1~22.04) 11.4.0

Ubuntu 24.04
	Kernel: Depends on container host
	Compiler: gcc (Ubuntu 13.3.0-6ubuntu2~24.04) 13.3.0

Windows Server 2022
	Kernel: 10.0.20348.2031
	Compiler: clang 15.0.7, gcc 14.1.0 (MinGW), and MSVC VS 19.39.33521

To view detailed results, visit:
https://lab.dpdk.org/results/dashboard/tarballs/33268/

UNH-IOL DPDK Community Lab

To manage your email subscriptions, visit: 
https://lab.dpdk.org/results/dashboard/preferences/subscriptions/