From mboxrd@z Thu Jan 1 00:00:00 1970 Return-Path: Received: from mails.dpdk.org (mails.dpdk.org [217.70.189.124]) by inbox.dpdk.org (Postfix) with ESMTP id B9991465A8 for ; Wed, 16 Apr 2025 14:50:18 +0200 (CEST) Received: from mails.dpdk.org (localhost [127.0.0.1]) by mails.dpdk.org (Postfix) with ESMTP id 91EB840E12; Wed, 16 Apr 2025 14:50:18 +0200 (CEST) Received: from mail-il1-f225.google.com (mail-il1-f225.google.com [209.85.166.225]) by mails.dpdk.org (Postfix) with ESMTP id 2714B40E09 for ; Wed, 16 Apr 2025 14:50:17 +0200 (CEST) Received: by mail-il1-f225.google.com with SMTP id e9e14a558f8ab-3d46ef71b6cso56031325ab.3 for ; Wed, 16 Apr 2025 05:50:17 -0700 (PDT) DKIM-Signature: v=1; a=rsa-sha256; c=relaxed/relaxed; d=iol.unh.edu; s=unh-iol; t=1744807816; x=1745412616; darn=dpdk.org; h=cc:to:from:subject:message-id:date:from:to:cc:subject:date :message-id:reply-to; bh=RCDyIJXu2fY89IIGhFbAp++IV2LbFYRfKa0ExGFx7Gs=; b=RkvlqOsvb12kcSzZIiQYF9PI0lkGFbZDQ/qk8b047m7YB8NkcpnG9WwdnDzp5yhv4/ d6oT3aALe8Ce+dyQwvThMNAnYhhCQA+ZH/EMrDpz/J1DmSEe8u/dTlri7+qEB/B5ybtU to/GBlXovpNCOBEDkGPcZUQxK/SxVqVdYyfN0= X-Google-DKIM-Signature: v=1; a=rsa-sha256; c=relaxed/relaxed; d=1e100.net; s=20230601; t=1744807816; x=1745412616; h=cc:to:from:subject:message-id:date:x-gm-message-state:from:to:cc :subject:date:message-id:reply-to; bh=RCDyIJXu2fY89IIGhFbAp++IV2LbFYRfKa0ExGFx7Gs=; b=WlAdMzNl1r1z0g2oq4983ncwtZ2C6jFJL3g6ic7WkydX9Us23KXkSdO2rGVjtKE/yX IQb7DveaM4VtRWgbOzdoyaPSPajVCHPD43xhBSuBgkl7gUBJ46V+kGKRAGsApMn7GgQz WOUsWVL0zuX9MQ+vjWQXHIhsAACGbQsHg0DLnVv+GeZWCPIPixHwYJYPkP9mawBzoe/7 hjL6dspSLa9+HxTduVW01afAiN6BAnriGDN1EYRZFLcatIYrOdxBsw5Q6BtemoczSx1o FO5JirnPwTg6niNHGAXkFxKbpTVitEtE51XiSX/X7hgGec/QT62wWbJh21Jzp23PgSZF gUhw== X-Gm-Message-State: AOJu0YxpoKU1Pz/C3/5RPkWXAXWQYSypI0/rVsnsLy/UpSD1o3T4dEnW 35wiSd0Ls5IVBmuIHnjuHZBCoC9ddTnzIJT2dPZ0CLCy24fvsjGQCqWHhpy1R0AOcXiQg/3y+9u JRj9FoErhxL8GlLXrk2JXQIFlG0+z7HJ7 X-Gm-Gg: ASbGnctw6kTfGWHTdXgr8rSO62rR+CUBgB1CeCj350Bef2HHIm7Peqv8mB1rSphQ4pi 2gImsFAiRyG6CRpCJQ6twAd9T7lltEd+ImN6+MfBTK2gxH7HO7ktbr7L0NztPid/oqOZNWOS3KX +xbPeoDEtnlEY1a7i4o364QF1fO2zBAItz6hxLbhXjROsb5TzOyPYkFw1ycG20RAbQ+ON5/JXRL IUCsNUGSt6yKmi6VWL7ifxe2g/QYd3mZoQzt4p8BbYq9BBZf3X/RX1gpacSyCkAInJrFZxJkLfn PsoDQbbtaaO3KpB0XMW3IhgIDWMvsH7J5vSz X-Google-Smtp-Source: AGHT+IGNDoYw2bZlIdiDcEwe5xhfxvjpK2Q8VF3O62H3RXqvsmzsznI2pVQ4w3+kdSDPqqfpqTMHi7XT5HHG X-Received: by 2002:a05:6e02:12c1:b0:3d0:239a:c46a with SMTP id e9e14a558f8ab-3d815b0a02amr15026915ab.9.1744807816125; Wed, 16 Apr 2025 05:50:16 -0700 (PDT) Received: from postal.iol.unh.edu (postal.iol.unh.edu. [132.177.123.84]) by smtp-relay.gmail.com with ESMTPS id e9e14a558f8ab-3d7dbaa4149sm8511585ab.35.2025.04.16.05.50.16 (version=TLS1_2 cipher=ECDHE-ECDSA-AES128-GCM-SHA256 bits=128/128); Wed, 16 Apr 2025 05:50:16 -0700 (PDT) X-Relaying-Domain: iol.unh.edu Date: Wed, 16 Apr 2025 05:50:16 -0700 (PDT) Message-ID: <67ffa788.920a0220.2db37c.abeaSMTPIN_ADDED_MISSING@mx.google.com> Received: from [172.17.0.3] (unknown [172.18.0.217]) by postal.iol.unh.edu (Postfix) with ESMTP id 07D556052471; Wed, 16 Apr 2025 08:50:15 -0400 (EDT) Subject: |SUCCESS| [GIT MASTER] c66daa12e76d7b4912cfb7109a761856a7a873ab From: dpdklab@iol.unh.edu To: Test Report Cc: dpdk-test-reports@iol.unh.edu, Xueming Li , Christian Ehrhardt , Kevin Traynor , Luca Boccassi Content-Type: text/plain X-BeenThere: test-report@dpdk.org X-Mailman-Version: 2.1.29 Precedence: list List-Id: automatic DPDK test reports List-Unsubscribe: , List-Archive: List-Post: List-Help: List-Subscribe: , Errors-To: test-report-bounces@dpdk.org _Testing PASS_ Branch: tags/v23.11 c66daa12e76d7b4912cfb7109a761856a7a873ab --> testing pass Upstream job id: Generic-VM-Unit-Test-DPDK#28006 Test environment and result as below: +---------------------+----------------+ | Environment | dpdk_unit_test | +=====================+================+ | CentOS Stream 9 | PASS | +---------------------+----------------+ | Fedora 40 | PASS | +---------------------+----------------+ | Fedora 41 | PASS | +---------------------+----------------+ | CentOS Stream 10 | PASS | +---------------------+----------------+ | Fedora 40 (Clang) | PASS | +---------------------+----------------+ | Debian 12 | PASS | +---------------------+----------------+ | RHEL8 | PASS | +---------------------+----------------+ | Ubuntu 20.04 | PASS | +---------------------+----------------+ | Fedora 41 (Clang) | PASS | +---------------------+----------------+ | RHEL9 | PASS | +---------------------+----------------+ | Ubuntu 22.04 | PASS | +---------------------+----------------+ | Ubuntu 24.04 | PASS | +---------------------+----------------+ | Windows Server 2022 | PASS | +---------------------+----------------+ CentOS Stream 9 Kernel: Depends on container host Compiler: gcc 11.5.0 20240719 (Red Hat 11.5.0-2) Fedora 40 Kernel: Depends on container host Compiler: gcc 14.2.1 20240912 (Red Hat 14.2.1-3) Fedora 41 Kernel: Depends on container host Compiler: gcc 14.2.1 20240912 (Red Hat 14.2.1-3) CentOS Stream 10 Kernel: Depends on container host Compiler: gcc 14.2.1 20241104 (Red Hat 14.2.1-6) Fedora 40 (Clang) Kernel: Depends on container host Compiler: clang 18.1.8 (Fedora 18.1.8-1.fc40) Debian 12 Kernel: Depends on container host Compiler: gcc (Debian 12.2.0-14) 12.2.0 RHEL8 Kernel: Depends on container host Compiler: gcc 8.5.0 20210514 (Red Hat 8.5.0-22) Ubuntu 20.04 Kernel: Depends on container host Compiler: gcc (Ubuntu 9.4.0-1ubuntu1~20.04.2) 9.4.0 Fedora 41 (Clang) Kernel: Depends on container host Compiler: clang 19.1.5 (Fedora 19.1.5-1.fc41) RHEL9 Kernel: Depends on container host Compiler: gcc 11.5.0 20240719 (Red Hat 11.5.0-2) Ubuntu 22.04 Kernel: Depends on container host Compiler: gcc (Ubuntu 11.4.0-1ubuntu1~22.04) 11.4.0 Ubuntu 24.04 Kernel: Depends on container host Compiler: gcc (Ubuntu 13.3.0-6ubuntu2~24.04) 13.3.0 Windows Server 2022 Kernel: 10.0.20348.2031 Compiler: clang 15.0.7, gcc 14.1.0 (MinGW), and MSVC VS 19.39.33521 To view detailed results, visit: https://lab.dpdk.org/results/dashboard/tarballs/33268/ UNH-IOL DPDK Community Lab To manage your email subscriptions, visit: https://lab.dpdk.org/results/dashboard/preferences/subscriptions/