From mboxrd@z Thu Jan  1 00:00:00 1970
Return-Path: <test-report-bounces@dpdk.org>
Received: from mails.dpdk.org (mails.dpdk.org [217.70.189.124])
	by inbox.dpdk.org (Postfix) with ESMTP id 75362465A8
	for <public@inbox.dpdk.org>; Wed, 16 Apr 2025 15:51:40 +0200 (CEST)
Received: from mails.dpdk.org (localhost [127.0.0.1])
	by mails.dpdk.org (Postfix) with ESMTP id 5799A40655;
	Wed, 16 Apr 2025 15:51:40 +0200 (CEST)
Received: from mail-io1-f99.google.com (mail-io1-f99.google.com
 [209.85.166.99]) by mails.dpdk.org (Postfix) with ESMTP id 4DEFE402BB
 for <test-report@dpdk.org>; Wed, 16 Apr 2025 15:51:39 +0200 (CEST)
Received: by mail-io1-f99.google.com with SMTP id
 ca18e2360f4ac-85de3e8d0adso136288939f.1
 for <test-report@dpdk.org>; Wed, 16 Apr 2025 06:51:39 -0700 (PDT)
DKIM-Signature: v=1; a=rsa-sha256; c=relaxed/relaxed;
 d=iol.unh.edu; s=unh-iol; t=1744811498; x=1745416298; darn=dpdk.org;
 h=references:in-reply-to:cc:to:from:subject:message-id:date:from:to
 :cc:subject:date:message-id:reply-to;
 bh=Vg5wlLDW/JadDC6HCzlJzLZxQi7tefA0PqoynOJQYAk=;
 b=OpkaQ3rF+eQrSPFizpRSkVu42YgoUr7CIxCfN2/o1zzl37FXHRG6e2j4tW+YMctdoV
 vNi9Nau0Wwg6PrQZdcFa/tzsFbIRuO4e281qJZe78on8uqhu24dyywboPGXXkTRHrFnM
 qFB3aViIVZ8sJEXd2PQZE+CA8QlEezbnZsWH4=
X-Google-DKIM-Signature: v=1; a=rsa-sha256; c=relaxed/relaxed;
 d=1e100.net; s=20230601; t=1744811498; x=1745416298;
 h=references:in-reply-to:cc:to:from:subject:message-id:date
 :x-gm-message-state:from:to:cc:subject:date:message-id:reply-to;
 bh=Vg5wlLDW/JadDC6HCzlJzLZxQi7tefA0PqoynOJQYAk=;
 b=hwQ9bje/1U71H4B1vvkkaVUDy4IgEpI0CLZMEL9lkxc1U2Eoyoo9CgKOlQ5Rx+2q6t
 M2ODesbEOojr2hAxZ5+wjl7sb81BM/ypqVz3ZQ1mwibBXu6l3JSfLbKJ9reVxgwxK2zU
 yJlfjkdOZMF75kIHcPiDPLv0KHI21cfKKKsbNoXp/58tAGuupWYshgzigassRlFPg70E
 6/mEo2sKPxaK519bhkOx//RbNynuTV943M16JH1sDJxMjTqrijGyhx6u3BmlIy2QOWbi
 4BYgfJpICqijIvRpkijGp5EoG4LPbHsHTeiHAaw38A5MJpyk1y55JVJZvn9IHRwx6L8a
 3QDQ==
X-Gm-Message-State: AOJu0YzLrqVSUpMLnhSJONgNA0X/z+iWoQjeiKQyXHQqqvwVjN96LZwz
 wpiPiMD+EQztt6ZvFFGqaojdN7ZF7ma/EPqvuPGKkMH0b2EvSeJeIjs6gqglAsXz9p2XTcfWkNq
 b286CCvoS+ocJCCdHfdLaOnVMlzE0PXzcAn7NNBMY
X-Gm-Gg: ASbGncuHvBrOq2nGgYRWFXdTpQoACtu3ZT854H08LOZR9Sbh/ySXNH8rVc+A2+F1yCG
 4QhuxHsiibPIEVL9nE+ZzmYFAcyXbVXB2mSxDH0VhQnaFwVChjjMcGo+E9oHep/kbFpC2J4jO7g
 SkmdIOrvurQHyyvUf/oK02hB7WG8mAQbfHJvs8y7vQuwc8HSE433S7G6Zf9dFEW+lppKIU4bxHu
 yUNxvscfiq5i0f3TtbVxq51beIK1JFbDk7a0My7dSspdoXnFL85QkBalinncQksuWMpG4tA56Zu
 t2kvm/jO5hlN86095syDiBuQSo+Su2g0b+48
X-Google-Smtp-Source: AGHT+IHnXpi5jfv3FKpHSFWkEMQ3gXD9wAqpqKoxbfopnLrSIFm9NGVlFv+kkwE5gcCPXLbI5mh+jPf/Ey+e
X-Received: by 2002:a05:6602:2c15:b0:85b:538e:1fad with SMTP id
 ca18e2360f4ac-861c508dbeamr213101639f.6.1744811498359; 
 Wed, 16 Apr 2025 06:51:38 -0700 (PDT)
Received: from postal.iol.unh.edu (postal.iol.unh.edu. [132.177.123.84])
 by smtp-relay.gmail.com with ESMTPS id
 8926c6da1cb9f-4f505e2efdbsm778240173.66.2025.04.16.06.51.38
 (version=TLS1_2 cipher=ECDHE-ECDSA-AES128-GCM-SHA256 bits=128/128);
 Wed, 16 Apr 2025 06:51:38 -0700 (PDT)
X-Relaying-Domain: iol.unh.edu
Date: Wed, 16 Apr 2025 06:51:38 -0700 (PDT)
Message-ID: <67ffb5ea.050a0220.211bc8.6462SMTPIN_ADDED_MISSING@mx.google.com>
Received: from [172.17.0.3] (unknown [172.18.0.217])
 by postal.iol.unh.edu (Postfix) with ESMTP id BBF6E6052471;
 Wed, 16 Apr 2025 09:51:37 -0400 (EDT)
Subject: |SUCCESS| pw152940-152942 [PATCH] [25.11,3/3] eventdev: refactor DMA
From: dpdklab@iol.unh.edu
To: Test Report <test-report@dpdk.org>
Cc: dpdk-test-reports@iol.unh.edu
In-Reply-To: <20250416100931.6544-4-pbhagavatula@marvell.com>
References: <20250416100931.6544-4-pbhagavatula@marvell.com>
Content-Type: text/plain
X-BeenThere: test-report@dpdk.org
X-Mailman-Version: 2.1.29
Precedence: list
List-Id: automatic DPDK test reports <test-report.dpdk.org>
List-Unsubscribe: <https://mails.dpdk.org/options/test-report>,
 <mailto:test-report-request@dpdk.org?subject=unsubscribe>
List-Archive: <http://mails.dpdk.org/archives/test-report/>
List-Post: <mailto:test-report@dpdk.org>
List-Help: <mailto:test-report-request@dpdk.org?subject=help>
List-Subscribe: <https://mails.dpdk.org/listinfo/test-report>,
 <mailto:test-report-request@dpdk.org?subject=subscribe>
Errors-To: test-report-bounces@dpdk.org

Test-Label: iol-compile-amd64-testing
Test-Status: SUCCESS
http://dpdk.org/patch/152942

_Testing PASS_

Submitter: Pavan Nikhilesh Bhagavatula <pbhagavatula@marvell.com>
Date: Wednesday, April 16 2025 10:09:31 
DPDK git baseline: Repo:dpdk
  Branch: master
  CommitID:ca1690ebd224f148268285b15b97441ccdbdd07e

152940-152942 --> testing pass

Upstream job id: Generic-DPDK-Compile-Meson#380578

Test environment and result as below:

+-----------------------------------+--------------------+-------------------+------------------+-------------------+
|            Environment            | dpdk_meson_compile | dpdk_compile_spdk | dpdk_compile_ovs | dpdk_msvc_compile |
+===================================+====================+===================+==================+===================+
| CentOS Stream 9                   | PASS               | PASS              | SKIPPED          | SKIPPED           |
+-----------------------------------+--------------------+-------------------+------------------+-------------------+
| CentOS Stream 10                  | PASS               | SKIPPED           | SKIPPED          | SKIPPED           |
+-----------------------------------+--------------------+-------------------+------------------+-------------------+
| Debian 12                         | PASS               | PASS              | SKIPPED          | SKIPPED           |
+-----------------------------------+--------------------+-------------------+------------------+-------------------+
| Fedora 40 (Clang)                 | PASS               | PASS              | SKIPPED          | SKIPPED           |
+-----------------------------------+--------------------+-------------------+------------------+-------------------+
| Fedora 41 (Clang)                 | PASS               | PASS              | PASS             | SKIPPED           |
+-----------------------------------+--------------------+-------------------+------------------+-------------------+
| Fedora 41                         | PASS               | PASS              | PASS             | SKIPPED           |
+-----------------------------------+--------------------+-------------------+------------------+-------------------+
| openSUSE Leap 15                  | PASS               | SKIPPED           | SKIPPED          | SKIPPED           |
+-----------------------------------+--------------------+-------------------+------------------+-------------------+
| RHEL8                             | PASS               | SKIPPED           | SKIPPED          | SKIPPED           |
+-----------------------------------+--------------------+-------------------+------------------+-------------------+
| RHEL9                             | PASS               | SKIPPED           | SKIPPED          | SKIPPED           |
+-----------------------------------+--------------------+-------------------+------------------+-------------------+
| Ubuntu 20.04                      | PASS               | SKIPPED           | SKIPPED          | SKIPPED           |
+-----------------------------------+--------------------+-------------------+------------------+-------------------+
| Ubuntu 22.04                      | PASS               | PASS              | SKIPPED          | SKIPPED           |
+-----------------------------------+--------------------+-------------------+------------------+-------------------+
| Ubuntu 24.04                      | PASS               | PASS              | PASS             | SKIPPED           |
+-----------------------------------+--------------------+-------------------+------------------+-------------------+
| Ubuntu 24.04 32 Bit Cross Compile | PASS               | SKIPPED           | SKIPPED          | SKIPPED           |
+-----------------------------------+--------------------+-------------------+------------------+-------------------+
| Alpine                            | PASS               | SKIPPED           | SKIPPED          | SKIPPED           |
+-----------------------------------+--------------------+-------------------+------------------+-------------------+
| FreeBSD 13.5                      | PASS               | SKIPPED           | SKIPPED          | SKIPPED           |
+-----------------------------------+--------------------+-------------------+------------------+-------------------+
| FreeBSD 14.2                      | PASS               | SKIPPED           | SKIPPED          | SKIPPED           |
+-----------------------------------+--------------------+-------------------+------------------+-------------------+
| Fedora 40                         | PASS               | PASS              | SKIPPED          | SKIPPED           |
+-----------------------------------+--------------------+-------------------+------------------+-------------------+
| Windows Server 2022               | SKIPPED            | SKIPPED           | SKIPPED          | PASS              |
+-----------------------------------+--------------------+-------------------+------------------+-------------------+


CentOS Stream 9
	Kernel: Depends on container host
	Compiler: gcc 11.5.0 20240719 (Red Hat 11.5.0-2)

CentOS Stream 10
	Kernel: Depends on container host
	Compiler: gcc 14.2.1 20241104 (Red Hat 14.2.1-6)

Debian 12
	Kernel: Depends on container host
	Compiler: gcc (Debian 12.2.0-14) 12.2.0

Fedora 40 (Clang)
	Kernel: Depends on container host
	Compiler: clang 18.1.8 (Fedora 18.1.8-1.fc40)

Fedora 41 (Clang)
	Kernel: Depends on container host
	Compiler: clang 19.1.5 (Fedora 19.1.5-1.fc41)

Fedora 41
	Kernel: Depends on container host
	Compiler: gcc 14.2.1 20240912 (Red Hat 14.2.1-3)

openSUSE Leap 15
	Kernel: Depends on container host
	Compiler: gcc (SUSE Linux) 7.5.0

RHEL8
	Kernel: Depends on container host
	Compiler: gcc 8.5.0 20210514 (Red Hat 8.5.0-22)

RHEL9
	Kernel: Depends on container host
	Compiler: gcc 11.5.0 20240719 (Red Hat 11.5.0-2)

Ubuntu 20.04
	Kernel: Depends on container host
	Compiler: gcc (Ubuntu 9.4.0-1ubuntu1~20.04.2) 9.4.0

Ubuntu 22.04
	Kernel: Depends on container host
	Compiler: gcc (Ubuntu 11.4.0-1ubuntu1~22.04) 11.4.0

Ubuntu 24.04
	Kernel: Depends on container host
	Compiler: gcc (Ubuntu 13.3.0-6ubuntu2~24.04) 13.3.0

Ubuntu 24.04 32 Bit Cross Compile
	Kernel: Depends on container host
	Compiler: gcc (Ubuntu 13.3.0-6ubuntu2~24.04) 13.3.0

Alpine
	Kernel: Depends on container host
	Compiler: gcc (Alpine 14.2.0) 14.2.0

FreeBSD 13.5
	Kernel: 13.5-RELEASE
	Compiler: clang 19.1.7

FreeBSD 14.2
	Kernel: 14.2-RELEASE
	Compiler: clang 18.1.6

Fedora 40
	Kernel: Depends on container host
	Compiler: gcc 14.2.1 20240912 (Red Hat 14.2.1-3)

Windows Server 2022
	Kernel: 10.0.20348.2031
	Compiler: clang 15.0.7, gcc 14.1.0 (MinGW), and MSVC VS 19.39.33521

To view detailed results, visit:
https://lab.dpdk.org/results/dashboard/patchsets/33016/

UNH-IOL DPDK Community Lab

To manage your email subscriptions, visit: 
https://lab.dpdk.org/results/dashboard/preferences/subscriptions/