From mboxrd@z Thu Jan 1 00:00:00 1970 Return-Path: Received: from mails.dpdk.org (mails.dpdk.org [217.70.189.124]) by inbox.dpdk.org (Postfix) with ESMTP id 0ECE5465AC for ; Thu, 17 Apr 2025 01:20:45 +0200 (CEST) Received: from mails.dpdk.org (localhost [127.0.0.1]) by mails.dpdk.org (Postfix) with ESMTP id DB9E740263; Thu, 17 Apr 2025 01:20:44 +0200 (CEST) Received: from mail-yw1-f225.google.com (mail-yw1-f225.google.com [209.85.128.225]) by mails.dpdk.org (Postfix) with ESMTP id 263DA4025A for ; Thu, 17 Apr 2025 01:20:44 +0200 (CEST) Received: by mail-yw1-f225.google.com with SMTP id 00721157ae682-70565ccf3bcso1455957b3.0 for ; Wed, 16 Apr 2025 16:20:44 -0700 (PDT) DKIM-Signature: v=1; a=rsa-sha256; c=relaxed/relaxed; d=iol.unh.edu; s=unh-iol; t=1744845643; x=1745450443; darn=dpdk.org; h=references:in-reply-to:cc:to:from:subject:message-id:date:from:to :cc:subject:date:message-id:reply-to; bh=O9cjAB4bDIL/9FxJmTp9I9ATHiBNEulj03TDnA1lBCs=; b=fPz/f3B9LcvBhYkXki4CvVeUsYA+/+eh6FXAHLCaKqdrvk7iMl+WcReGzKaCnecsGG jg88u4my4q06faTyYdZYlhjrzgF52uHhU9zJiwDVND/ohAOyspPWQth/H6odZ52MzFTb pvcArUkhk1P9Adhdk7RzcsntLER7IF+SqiFqM= X-Google-DKIM-Signature: v=1; a=rsa-sha256; c=relaxed/relaxed; d=1e100.net; s=20230601; t=1744845643; x=1745450443; h=references:in-reply-to:cc:to:from:subject:message-id:date :x-gm-message-state:from:to:cc:subject:date:message-id:reply-to; bh=O9cjAB4bDIL/9FxJmTp9I9ATHiBNEulj03TDnA1lBCs=; b=Qmc2/AB3o9COPqu7eeWyBdrKaw/x0J8Koq1BN8gm2vvO5vOvAR7dnKAEekXPqGQcqK Q4HxgKgiYS7TV2D7D+0t1dTars4ZfkDuGNf7vlC5i7caryNUG0epTFluY3XvRb8Gx05v noOpjFUUUQAqvg15mrxqd+/qVNpLt6/m+nG9z8xqO3afkU+S/jJBszedXDchIy5hhpJD gTILxnR/AjwX2nZ1AeCDFGoD6etOyYNWJEBKAQXAquu1Lyc0BBPgoiLBUVpWvOGzUKvl R+upB5EMLOdWtcffE2QRnc5P2URQ2G68QO7OU3mm2Y+xOpMnO9PlD8Z2dKR7CPRDMQ+8 Ttyw== X-Gm-Message-State: AOJu0Yxxu7/l7zZIfXGpp0FLYBZHwlzWo+fAM+AcyLgw2pj+trvVwQle P4PArrMeSLcxwqM4Vat0xBUdsCJEZfPEqi2mnXmKMRo1VLP8Rb2wvK7EBvntiCeapE0/UpPq2hJ SuOqjZZDTQ0N02xWtxZl6L4RD3f+dFT0tMzWjRkjK X-Gm-Gg: ASbGncsnskmnrBimMpJlxti+DOtAOwSnfxeWVLd3P/K2LcCJIb8gnb8ygG6JcyOIfzu q8yk0qVrw+TFrglr15Ys3wdpN8tlLaGy5dc9nWFq94iKu7uWLa40mLcJtIn8+7TvhoZ+7B6hGsa 4pzb2N961X7nnI7/cydBTVnKZkWwWXnzkhaCaAeN0S0ptdkZcOK5lCdsV2Ip15jTZGCvBgVwzsD 60hRiYiTS3Yqz5vfA29LCjaO6LsplQ0+lp6ntgFvG+8POlMRrGrpJPa3veDJ7LhhLFdBVpQ/BYo kejZKh7EzfSHYsuen15IK3krj01/6Jj7NJcB X-Google-Smtp-Source: AGHT+IGAucbQBfoSXVBYHXqbMgOqPEPz8cCbEkfdrlcy3aRqXF4GmG1PIjxgn8yOf6g0ZnceRSsJL9m7ufO5 X-Received: by 2002:a05:690c:9b06:b0:6ef:4fba:8137 with SMTP id 00721157ae682-706b325c88fmr57123047b3.6.1744845643375; Wed, 16 Apr 2025 16:20:43 -0700 (PDT) Received: from postal.iol.unh.edu (postal.iol.unh.edu. [132.177.123.84]) by smtp-relay.gmail.com with ESMTPS id 00721157ae682-7053e121729sm12390667b3.16.2025.04.16.16.20.43 (version=TLS1_2 cipher=ECDHE-ECDSA-AES128-GCM-SHA256 bits=128/128); Wed, 16 Apr 2025 16:20:43 -0700 (PDT) X-Relaying-Domain: iol.unh.edu Date: Wed, 16 Apr 2025 16:20:43 -0700 (PDT) Message-ID: <68003b4b.0d0a0220.195a32.3f42SMTPIN_ADDED_MISSING@mx.google.com> Received: from [172.21.0.6] (unknown [172.18.0.240]) by postal.iol.unh.edu (Postfix) with ESMTP id F39F86052471; Wed, 16 Apr 2025 19:20:42 -0400 (EDT) Subject: |SUCCESS| pw152999 [PATCH] net/virtio: support Rx/Tx burst mode info From: dpdklab@iol.unh.edu To: Test Report Cc: dpdk-test-reports@iol.unh.edu In-Reply-To: <20250416173550.603338-1-rmelton@cisco.com> References: <20250416173550.603338-1-rmelton@cisco.com> Content-Type: text/plain X-BeenThere: test-report@dpdk.org X-Mailman-Version: 2.1.29 Precedence: list List-Id: automatic DPDK test reports List-Unsubscribe: , List-Archive: List-Post: List-Help: List-Subscribe: , Errors-To: test-report-bounces@dpdk.org Test-Label: iol-unit-amd64-testing Test-Status: SUCCESS http://dpdk.org/patch/152999 _Testing PASS_ Submitter: Roger Melton Date: Wednesday, April 16 2025 17:35:50 DPDK git baseline: Repo:dpdk Branch: master CommitID:ca1690ebd224f148268285b15b97441ccdbdd07e 152999 --> testing pass Upstream job id: Generic-Unit-Test-DPDK#331573 Test environment and result as below: +-------------------+----------------+ | Environment | dpdk_unit_test | +===================+================+ | Fedora 40 | PASS | +-------------------+----------------+ | CentOS Stream 10 | PASS | +-------------------+----------------+ | CentOS Stream 9 | PASS | +-------------------+----------------+ | Fedora 41 | PASS | +-------------------+----------------+ | Fedora 41 (Clang) | PASS | +-------------------+----------------+ | Fedora 40 (Clang) | PASS | +-------------------+----------------+ | Debian 12 | PASS | +-------------------+----------------+ | RHEL8 | PASS | +-------------------+----------------+ | Ubuntu 24.04 | PASS | +-------------------+----------------+ | Ubuntu 22.04 | PASS | +-------------------+----------------+ | RHEL9 | PASS | +-------------------+----------------+ | Ubuntu 20.04 | PASS | +-------------------+----------------+ Fedora 40 Kernel: Depends on container host Compiler: gcc 14.2.1 20240912 (Red Hat 14.2.1-3) CentOS Stream 10 Kernel: Depends on container host Compiler: gcc 14.2.1 20241104 (Red Hat 14.2.1-6) CentOS Stream 9 Kernel: Depends on container host Compiler: gcc 11.5.0 20240719 (Red Hat 11.5.0-2) Fedora 41 Kernel: Depends on container host Compiler: gcc 14.2.1 20240912 (Red Hat 14.2.1-3) Fedora 41 (Clang) Kernel: Depends on container host Compiler: clang 19.1.5 (Fedora 19.1.5-1.fc41) Fedora 40 (Clang) Kernel: Depends on container host Compiler: clang 18.1.8 (Fedora 18.1.8-1.fc40) Debian 12 Kernel: Depends on container host Compiler: gcc (Debian 12.2.0-14) 12.2.0 RHEL8 Kernel: Depends on container host Compiler: gcc 8.5.0 20210514 (Red Hat 8.5.0-22) Ubuntu 24.04 Kernel: Depends on container host Compiler: gcc (Ubuntu 13.3.0-6ubuntu2~24.04) 13.3.0 Ubuntu 22.04 Kernel: Depends on container host Compiler: gcc (Ubuntu 11.4.0-1ubuntu1~22.04) 11.4.0 RHEL9 Kernel: Depends on container host Compiler: gcc 11.5.0 20240719 (Red Hat 11.5.0-2) Ubuntu 20.04 Kernel: Depends on container host Compiler: gcc (Ubuntu 9.4.0-1ubuntu1~20.04.2) 9.4.0 To view detailed results, visit: https://lab.dpdk.org/results/dashboard/patchsets/33025/ UNH-IOL DPDK Community Lab To manage your email subscriptions, visit: https://lab.dpdk.org/results/dashboard/preferences/subscriptions/