From mboxrd@z Thu Jan  1 00:00:00 1970
Return-Path: <test-report-bounces@dpdk.org>
Received: from mails.dpdk.org (mails.dpdk.org [217.70.189.124])
	by inbox.dpdk.org (Postfix) with ESMTP id 1BCBF465AC
	for <public@inbox.dpdk.org>; Thu, 17 Apr 2025 01:21:29 +0200 (CEST)
Received: from mails.dpdk.org (localhost [127.0.0.1])
	by mails.dpdk.org (Postfix) with ESMTP id 1557640263;
	Thu, 17 Apr 2025 01:21:29 +0200 (CEST)
Received: from mail-io1-f99.google.com (mail-io1-f99.google.com
 [209.85.166.99]) by mails.dpdk.org (Postfix) with ESMTP id 836E44025A
 for <test-report@dpdk.org>; Thu, 17 Apr 2025 01:21:25 +0200 (CEST)
Received: by mail-io1-f99.google.com with SMTP id
 ca18e2360f4ac-85e15dc8035so6941439f.0
 for <test-report@dpdk.org>; Wed, 16 Apr 2025 16:21:25 -0700 (PDT)
DKIM-Signature: v=1; a=rsa-sha256; c=relaxed/relaxed;
 d=iol.unh.edu; s=unh-iol; t=1744845685; x=1745450485; darn=dpdk.org;
 h=references:in-reply-to:cc:to:from:subject:message-id:date:from:to
 :cc:subject:date:message-id:reply-to;
 bh=4kyjLB+w9bdHWgFBxArnxdTCgH5SGHIbwkYLgfPjOv4=;
 b=g+YnJ+/1x88iTWTQMNgMgZ3NxPSYOsGrEuE9vKZ8XauFM2carP/5UTodoj/337alUN
 G4FsUiB6wc0mYSUaxQp+VOO/M/LdH/seG78cJwHcHE7srtJ3k/VnfmD6MSZyoJoJtGdO
 fyZeryfx5mEcCbnCW3ADoYJdNLLLyRBpvHLbo=
X-Google-DKIM-Signature: v=1; a=rsa-sha256; c=relaxed/relaxed;
 d=1e100.net; s=20230601; t=1744845685; x=1745450485;
 h=references:in-reply-to:cc:to:from:subject:message-id:date
 :x-gm-message-state:from:to:cc:subject:date:message-id:reply-to;
 bh=4kyjLB+w9bdHWgFBxArnxdTCgH5SGHIbwkYLgfPjOv4=;
 b=luX3Fs1yrLr4O0mngO4odngX8qNa7IAzOk3/D41A8Mf3Gw+Mq4eX1CpxsExg40x+yg
 BhjoATdq4fVbmDDU+zhRYyeirvo02XB/3XNdjrxKGE0XrmhrrXfVkCJPh4vDMnvGonzy
 oSTZVeWfXLxECAH2Y3UWHiegpl+wNCHO8EXSsOfDVY2SXGMq0cJHubFtL/t42tWxFyF/
 VMRr85OHQt3bkr2AMh0hmC2tRWw5jC+fCkgZN8/zdOyDNR9nuZlyCB6b+eyS9l0bLvKC
 qvJX7T69oKV8uidSvmaa/N0DHVbECrFSNGRzrsh0ElxWmthW074xIuN49pKU1R0pCHlj
 bD0g==
X-Gm-Message-State: AOJu0YzFacWGfqePEzL9aP3TCst5qYpbVzG2AeHHXMxVu6l7AeNrdh0c
 9C3pFsYmwyy+8KuPlhg0vuEnXu3vBj1JLf9/HyYe6w6/P+UhslChfkx2bfVbjVJyD6JIWzG3PiY
 y6stq2ZGQrctbKF11rSkF8Z3HY62Bi2daPZgKD1VW
X-Gm-Gg: ASbGncvT4xG8tOOUWi4xBDBxO/sQ/UBXszuTqnMtn7aTbtDgpJ+XeSVrU4iNXArRRKC
 yFT5GYDIT8Dc780A6uaI33yRCvyyAo/qbbEUPzPxprXrEvQ0ve2hgy/MpRBZG6lfsCMG7Xk2iZb
 0xW0m46cjksaz/RqeAvORMvpBzKO9YGuoWoOWDtxX1LRZdSbK1oRvvFmZaKcwvhrQX1lfcPJ1LK
 A6E1Z2VaPViQRg1zj7W3+Qdcp3sRzs2CC9k9b9qEcCFlHDs1rhYnsM2KwnMKWOjRpO2Ve+0K3yV
 mLi1saa6GpfSewclt5CgtImqi/PkpBANEaJ0
X-Google-Smtp-Source: AGHT+IEUU3NRWNMz5DK26sgeNya2oTiD6ZqEtG4h0ABxRgzmLLE84ead3lElsehHbUmRko6yCnPYwxlXD4QS
X-Received: by 2002:a92:cd88:0:b0:3d5:df34:b21c with SMTP id
 e9e14a558f8ab-3d815b09ff2mr38019275ab.6.1744845684332; 
 Wed, 16 Apr 2025 16:21:24 -0700 (PDT)
Received: from postal.iol.unh.edu (postal.iol.unh.edu. [132.177.123.84])
 by smtp-relay.gmail.com with ESMTPS id
 e9e14a558f8ab-3d7dba8d9casm8842925ab.19.2025.04.16.16.21.24
 (version=TLS1_2 cipher=ECDHE-ECDSA-AES128-GCM-SHA256 bits=128/128);
 Wed, 16 Apr 2025 16:21:24 -0700 (PDT)
X-Relaying-Domain: iol.unh.edu
Date: Wed, 16 Apr 2025 16:21:24 -0700 (PDT)
Message-ID: <68003b74.050a0220.e00e4.c4f9SMTPIN_ADDED_MISSING@mx.google.com>
Received: from [172.21.0.5] (unknown [172.18.0.240])
 by postal.iol.unh.edu (Postfix) with ESMTP id AC2666052471;
 Wed, 16 Apr 2025 19:21:23 -0400 (EDT)
Subject: |SUCCESS| pw153000-153005 [PATCH] [v6,6/6] bus/vmbus: set event for 
From: dpdklab@iol.unh.edu
To: Test Report <test-report@dpdk.org>
Cc: dpdk-test-reports@iol.unh.edu
In-Reply-To: <1744837038-5387-7-git-send-email-longli@linuxonhyperv.com>
References: <1744837038-5387-7-git-send-email-longli@linuxonhyperv.com>
Content-Type: text/plain
X-BeenThere: test-report@dpdk.org
X-Mailman-Version: 2.1.29
Precedence: list
List-Id: automatic DPDK test reports <test-report.dpdk.org>
List-Unsubscribe: <https://mails.dpdk.org/options/test-report>,
 <mailto:test-report-request@dpdk.org?subject=unsubscribe>
List-Archive: <http://mails.dpdk.org/archives/test-report/>
List-Post: <mailto:test-report@dpdk.org>
List-Help: <mailto:test-report-request@dpdk.org?subject=help>
List-Subscribe: <https://mails.dpdk.org/listinfo/test-report>,
 <mailto:test-report-request@dpdk.org?subject=subscribe>
Errors-To: test-report-bounces@dpdk.org

Test-Label: iol-compile-amd64-testing
Test-Status: SUCCESS
http://dpdk.org/patch/153005

_Testing PASS_

Submitter: Long Li <longli@linuxonhyperv.com>
Date: Wednesday, April 16 2025 20:57:18 
DPDK git baseline: Repo:dpdk
  Branch: master
  CommitID:151160454ff2abfdc7f666749222d0546bdd7c5f

153000-153005 --> testing pass

Upstream job id: Windows-Compile-DPDK-Native#27919

Test environment and result as below:

+-----------------------------------+--------------------+-------------------+------------------+-------------------+-------------------------+----------------------+
|            Environment            | dpdk_meson_compile | dpdk_compile_spdk | dpdk_compile_ovs | dpdk_msvc_compile | dpdk_llvm_clang_compile | dpdk_mingw64_compile |
+===================================+====================+===================+==================+===================+=========================+======================+
| CentOS Stream 9                   | PASS               | PASS              | SKIPPED          | SKIPPED           | SKIPPED                 | SKIPPED              |
+-----------------------------------+--------------------+-------------------+------------------+-------------------+-------------------------+----------------------+
| CentOS Stream 10                  | PASS               | SKIPPED           | SKIPPED          | SKIPPED           | SKIPPED                 | SKIPPED              |
+-----------------------------------+--------------------+-------------------+------------------+-------------------+-------------------------+----------------------+
| Debian 12                         | PASS               | PASS              | SKIPPED          | SKIPPED           | SKIPPED                 | SKIPPED              |
+-----------------------------------+--------------------+-------------------+------------------+-------------------+-------------------------+----------------------+
| Fedora 40 (Clang)                 | PASS               | PASS              | SKIPPED          | SKIPPED           | SKIPPED                 | SKIPPED              |
+-----------------------------------+--------------------+-------------------+------------------+-------------------+-------------------------+----------------------+
| Fedora 40                         | PASS               | PASS              | SKIPPED          | SKIPPED           | SKIPPED                 | SKIPPED              |
+-----------------------------------+--------------------+-------------------+------------------+-------------------+-------------------------+----------------------+
| Fedora 41                         | PASS               | PASS              | PASS             | SKIPPED           | SKIPPED                 | SKIPPED              |
+-----------------------------------+--------------------+-------------------+------------------+-------------------+-------------------------+----------------------+
| Fedora 41 (Clang)                 | PASS               | PASS              | PASS             | SKIPPED           | SKIPPED                 | SKIPPED              |
+-----------------------------------+--------------------+-------------------+------------------+-------------------+-------------------------+----------------------+
| RHEL8                             | PASS               | SKIPPED           | SKIPPED          | SKIPPED           | SKIPPED                 | SKIPPED              |
+-----------------------------------+--------------------+-------------------+------------------+-------------------+-------------------------+----------------------+
| Ubuntu 20.04                      | PASS               | SKIPPED           | SKIPPED          | SKIPPED           | SKIPPED                 | SKIPPED              |
+-----------------------------------+--------------------+-------------------+------------------+-------------------+-------------------------+----------------------+
| RHEL9                             | PASS               | SKIPPED           | SKIPPED          | SKIPPED           | SKIPPED                 | SKIPPED              |
+-----------------------------------+--------------------+-------------------+------------------+-------------------+-------------------------+----------------------+
| openSUSE Leap 15                  | PASS               | SKIPPED           | SKIPPED          | SKIPPED           | SKIPPED                 | SKIPPED              |
+-----------------------------------+--------------------+-------------------+------------------+-------------------+-------------------------+----------------------+
| Ubuntu 22.04                      | PASS               | PASS              | SKIPPED          | SKIPPED           | SKIPPED                 | SKIPPED              |
+-----------------------------------+--------------------+-------------------+------------------+-------------------+-------------------------+----------------------+
| Ubuntu 24.04                      | PASS               | PASS              | PASS             | SKIPPED           | SKIPPED                 | SKIPPED              |
+-----------------------------------+--------------------+-------------------+------------------+-------------------+-------------------------+----------------------+
| Alpine                            | PASS               | SKIPPED           | SKIPPED          | SKIPPED           | SKIPPED                 | SKIPPED              |
+-----------------------------------+--------------------+-------------------+------------------+-------------------+-------------------------+----------------------+
| Ubuntu 24.04 32 Bit Cross Compile | PASS               | SKIPPED           | SKIPPED          | SKIPPED           | SKIPPED                 | SKIPPED              |
+-----------------------------------+--------------------+-------------------+------------------+-------------------+-------------------------+----------------------+
| FreeBSD 13.5                      | PASS               | SKIPPED           | SKIPPED          | SKIPPED           | SKIPPED                 | SKIPPED              |
+-----------------------------------+--------------------+-------------------+------------------+-------------------+-------------------------+----------------------+
| FreeBSD 14.2                      | PASS               | SKIPPED           | SKIPPED          | SKIPPED           | SKIPPED                 | SKIPPED              |
+-----------------------------------+--------------------+-------------------+------------------+-------------------+-------------------------+----------------------+
| Windows Server 2022               | SKIPPED            | SKIPPED           | SKIPPED          | PASS              | PASS                    | PASS                 |
+-----------------------------------+--------------------+-------------------+------------------+-------------------+-------------------------+----------------------+


CentOS Stream 9
	Kernel: Depends on container host
	Compiler: gcc 11.5.0 20240719 (Red Hat 11.5.0-2)

CentOS Stream 10
	Kernel: Depends on container host
	Compiler: gcc 14.2.1 20241104 (Red Hat 14.2.1-6)

Debian 12
	Kernel: Depends on container host
	Compiler: gcc (Debian 12.2.0-14) 12.2.0

Fedora 40 (Clang)
	Kernel: Depends on container host
	Compiler: clang 18.1.8 (Fedora 18.1.8-1.fc40)

Fedora 40
	Kernel: Depends on container host
	Compiler: gcc 14.2.1 20240912 (Red Hat 14.2.1-3)

Fedora 41
	Kernel: Depends on container host
	Compiler: gcc 14.2.1 20240912 (Red Hat 14.2.1-3)

Fedora 41 (Clang)
	Kernel: Depends on container host
	Compiler: clang 19.1.5 (Fedora 19.1.5-1.fc41)

RHEL8
	Kernel: Depends on container host
	Compiler: gcc 8.5.0 20210514 (Red Hat 8.5.0-22)

Ubuntu 20.04
	Kernel: Depends on container host
	Compiler: gcc (Ubuntu 9.4.0-1ubuntu1~20.04.2) 9.4.0

RHEL9
	Kernel: Depends on container host
	Compiler: gcc 11.5.0 20240719 (Red Hat 11.5.0-2)

openSUSE Leap 15
	Kernel: Depends on container host
	Compiler: gcc (SUSE Linux) 7.5.0

Ubuntu 22.04
	Kernel: Depends on container host
	Compiler: gcc (Ubuntu 11.4.0-1ubuntu1~22.04) 11.4.0

Ubuntu 24.04
	Kernel: Depends on container host
	Compiler: gcc (Ubuntu 13.3.0-6ubuntu2~24.04) 13.3.0

Alpine
	Kernel: Depends on container host
	Compiler: gcc (Alpine 14.2.0) 14.2.0

Ubuntu 24.04 32 Bit Cross Compile
	Kernel: Depends on container host
	Compiler: gcc (Ubuntu 13.3.0-6ubuntu2~24.04) 13.3.0

FreeBSD 13.5
	Kernel: 13.5-RELEASE
	Compiler: clang 19.1.7

FreeBSD 14.2
	Kernel: 14.2-RELEASE
	Compiler: clang 18.1.6

Windows Server 2022
	Kernel: 10.0.20348.2031
	Compiler: clang 15.0.7, gcc 14.1.0 (MinGW), and MSVC VS 19.39.33521

To view detailed results, visit:
https://lab.dpdk.org/results/dashboard/patchsets/33026/

UNH-IOL DPDK Community Lab

To manage your email subscriptions, visit: 
https://lab.dpdk.org/results/dashboard/preferences/subscriptions/