From mboxrd@z Thu Jan  1 00:00:00 1970
Return-Path: <test-report-bounces@dpdk.org>
Received: from mails.dpdk.org (mails.dpdk.org [217.70.189.124])
	by inbox.dpdk.org (Postfix) with ESMTP id 288F6465AE
	for <public@inbox.dpdk.org>; Thu, 17 Apr 2025 05:58:43 +0200 (CEST)
Received: from mails.dpdk.org (localhost [127.0.0.1])
	by mails.dpdk.org (Postfix) with ESMTP id 2ECBA4025A;
	Thu, 17 Apr 2025 05:58:42 +0200 (CEST)
Received: from mail-il1-f226.google.com (mail-il1-f226.google.com
 [209.85.166.226])
 by mails.dpdk.org (Postfix) with ESMTP id 7046D400D5
 for <test-report@dpdk.org>; Thu, 17 Apr 2025 05:58:41 +0200 (CEST)
Received: by mail-il1-f226.google.com with SMTP id
 e9e14a558f8ab-3d81469cb03so1816025ab.0
 for <test-report@dpdk.org>; Wed, 16 Apr 2025 20:58:41 -0700 (PDT)
DKIM-Signature: v=1; a=rsa-sha256; c=relaxed/relaxed;
 d=iol.unh.edu; s=unh-iol; t=1744862320; x=1745467120; darn=dpdk.org;
 h=references:in-reply-to:cc:to:from:subject:message-id:date:from:to
 :cc:subject:date:message-id:reply-to;
 bh=NiWDYewJ3sm7Cz11z27RJlac+ZNh98DJ1RhtFjl/XVg=;
 b=KLQVMNxMcSs91O/uymYSSr1U2jvAuTzo9imTp2mDIPsSkOmxPcnd5myI16emZGvewi
 ryMnfjkdOOcdCKN8TqiuaKvuzPQ3s9740rb6yyfTtgV7OdCQGrWmrp6uYYe7yNC7mA9Q
 Okx1tYBKd7hPYYM+1eeBjq3Xbv8jLKE7A/8hc=
X-Google-DKIM-Signature: v=1; a=rsa-sha256; c=relaxed/relaxed;
 d=1e100.net; s=20230601; t=1744862320; x=1745467120;
 h=references:in-reply-to:cc:to:from:subject:message-id:date
 :x-gm-message-state:from:to:cc:subject:date:message-id:reply-to;
 bh=NiWDYewJ3sm7Cz11z27RJlac+ZNh98DJ1RhtFjl/XVg=;
 b=XIcW5a4SIlExH8KjIxTMsNWKOP2D5bADhlsu+eWawxk0IweZCOKEL+dGjw8s+/H/9o
 Wk6dYtQ4wUrjrsTg8KBmlalGDE9V6zDNEIIiIqgKZ1C0meoVbxuHdu0egR5LPGQofMqf
 IOJKecLixJGgD1xRpaQfz8OlnoIczkkhNMWsuy8AYV4vp1hSFXbVZ636Ju4d96w9gDCF
 js6SnSr6Mpv/tAPQsKVqh0kuTkaY0JCA8LbSYWUwBXd8HHQAxOhRgTwCC2/Lk0zqLQ11
 HIJroP76rHbKWMvi1ystqF6fY3ihVaXYMBiZdyu66Xp2/EkQ1yUhUJz00gGa9b5tbfRb
 ENXg==
X-Gm-Message-State: AOJu0Yx2aJzZsI5T9QvkD3WpA2qOl7Us4HiMfUhwjdGJPJPxnR+tlqKB
 2ymlfkbkPqLZzf7xYhTfjrdE4sGLTHHX0KAgqfy7dL8UHxhJePxdA1O3FddJk5B3JDIRNcdoN8N
 ljfsKrhFiaobF8vbuW6WKMuI+D8P2yNx66hVbOq+aOtJavNUT60HZqlhy
X-Gm-Gg: ASbGncuOJk8y75Twb5wDhqjlUjfhqP7VAmX1y6u+tTy5p47GcIDdvfZU7EWuEQCTtrV
 kKTQ+LyQXDd9CvEodD/1dAoChmlue7k/frfOLdQvt38/duNbuJ1ExFxapsLMVlJbss43Edq4oP3
 xXZGzb4KnKABa9hs8XHvyvig9INJQEREUsqow6k/7xUp7hTSZA6p16eRjNqmGAZ8Iox/V/GFuI2
 bRTI3YxAgBETGy2h0IyAYJQf3ui9ci+gWocDmbZ+6vXpfDqmcIWJT0zglnsUK2vFgUEV/wbKkC8
 A/9IFSVuteyv9SExqKsFWaoV/SWnXvAoPl4pZOBIsw1VMuoj
X-Google-Smtp-Source: AGHT+IHRhcrbXids9OPhQQRahWm3YzxuEj+cFdjRWsARhqLCEcQfcY+6pP8paxe/wZW5ctxaMjhhsOAsrYyV
X-Received: by 2002:a05:6e02:1a04:b0:3d3:e29c:a1a5 with SMTP id
 e9e14a558f8ab-3d815b63becmr40395635ab.18.1744862320508; 
 Wed, 16 Apr 2025 20:58:40 -0700 (PDT)
Received: from postal.iol.unh.edu (postal.iol.unh.edu.
 [2606:4100:3880:1234::84]) by smtp-relay.gmail.com with ESMTPS id
 8926c6da1cb9f-4f505d4270bsm825404173.43.2025.04.16.20.58.40
 (version=TLS1_2 cipher=ECDHE-ECDSA-AES128-GCM-SHA256 bits=128/128);
 Wed, 16 Apr 2025 20:58:40 -0700 (PDT)
X-Relaying-Domain: iol.unh.edu
Date: Wed, 16 Apr 2025 20:58:40 -0700 (PDT)
Message-ID: <68007c70.050a0220.38389d.8756SMTPIN_ADDED_MISSING@mx.google.com>
Received: from [172.21.0.6] (unknown [172.18.0.240])
 by postal.iol.unh.edu (Postfix) with ESMTP id D7FD36052471;
 Wed, 16 Apr 2025 23:58:39 -0400 (EDT)
Subject: |SUCCESS| pw152996 [PATCH] [v2] net/ixgbe: support Rx/Tx burst mode 
From: dpdklab@iol.unh.edu
To: Test Report <test-report@dpdk.org>
Cc: dpdk-test-reports@iol.unh.edu
In-Reply-To: <20250416171111.3094521-1-rmelton@cisco.com>
References: <20250416171111.3094521-1-rmelton@cisco.com>
Content-Type: text/plain
X-BeenThere: test-report@dpdk.org
X-Mailman-Version: 2.1.29
Precedence: list
List-Id: automatic DPDK test reports <test-report.dpdk.org>
List-Unsubscribe: <https://mails.dpdk.org/options/test-report>,
 <mailto:test-report-request@dpdk.org?subject=unsubscribe>
List-Archive: <http://mails.dpdk.org/archives/test-report/>
List-Post: <mailto:test-report@dpdk.org>
List-Help: <mailto:test-report-request@dpdk.org?subject=help>
List-Subscribe: <https://mails.dpdk.org/listinfo/test-report>,
 <mailto:test-report-request@dpdk.org?subject=subscribe>
Errors-To: test-report-bounces@dpdk.org

Test-Label: iol-abi-testing
Test-Status: SUCCESS
http://dpdk.org/patch/152996

_Testing PASS_

Submitter: Roger Melton <rmelton@cisco.com>
Date: Wednesday, April 16 2025 17:11:12 
DPDK git baseline: Repo:dpdk
  Branch: master
  CommitID:d7817c378fecd07c59360667f93c25dff4b1a145

152996 --> testing pass

Upstream job id: Generic-DPDK-Compile-ABI#123624

Test environment and result as below:

+-------------------+----------+
|    Environment    | abi_test |
+===================+==========+
| CentOS Stream 10  | PASS     |
+-------------------+----------+
| CentOS Stream 9   | PASS     |
+-------------------+----------+
| Fedora 40         | PASS     |
+-------------------+----------+
| Fedora 41 (Clang) | PASS     |
+-------------------+----------+
| Fedora 40 (Clang) | PASS     |
+-------------------+----------+
| Fedora 41         | PASS     |
+-------------------+----------+
| openSUSE Leap 15  | PASS     |
+-------------------+----------+
| RHEL8             | PASS     |
+-------------------+----------+
| RHEL9             | PASS     |
+-------------------+----------+
| Ubuntu 22.04      | PASS     |
+-------------------+----------+
| Ubuntu 24.04      | PASS     |
+-------------------+----------+
| Debian 12         | PASS     |
+-------------------+----------+


CentOS Stream 10
	Kernel: Depends on container host
	Compiler: gcc 14.2.1 20241104 (Red Hat 14.2.1-6)

CentOS Stream 9
	Kernel: Depends on container host
	Compiler: gcc 11.5.0 20240719 (Red Hat 11.5.0-2)

Fedora 40
	Kernel: Depends on container host
	Compiler: gcc 14.2.1 20240912 (Red Hat 14.2.1-3)

Fedora 41 (Clang)
	Kernel: Depends on container host
	Compiler: clang 19.1.5 (Fedora 19.1.5-1.fc41)

Fedora 40 (Clang)
	Kernel: Depends on container host
	Compiler: clang 18.1.8 (Fedora 18.1.8-1.fc40)

Fedora 41
	Kernel: Depends on container host
	Compiler: gcc 14.2.1 20240912 (Red Hat 14.2.1-3)

openSUSE Leap 15
	Kernel: Depends on container host
	Compiler: gcc (SUSE Linux) 7.5.0

RHEL8
	Kernel: Depends on container host
	Compiler: gcc 8.5.0 20210514 (Red Hat 8.5.0-22)

RHEL9
	Kernel: Depends on container host
	Compiler: gcc 11.5.0 20240719 (Red Hat 11.5.0-2)

Ubuntu 22.04
	Kernel: Depends on container host
	Compiler: gcc (Ubuntu 11.4.0-1ubuntu1~22.04) 11.4.0

Ubuntu 24.04
	Kernel: Depends on container host
	Compiler: gcc (Ubuntu 13.3.0-6ubuntu2~24.04) 13.3.0

Debian 12
	Kernel: Depends on container host
	Compiler: gcc (Debian 12.2.0-14) 12.2.0

To view detailed results, visit:
https://lab.dpdk.org/results/dashboard/patchsets/33022/

UNH-IOL DPDK Community Lab

To manage your email subscriptions, visit: 
https://lab.dpdk.org/results/dashboard/preferences/subscriptions/