From mboxrd@z Thu Jan  1 00:00:00 1970
Return-Path: <test-report-bounces@dpdk.org>
Received: from mails.dpdk.org (mails.dpdk.org [217.70.189.124])
	by inbox.dpdk.org (Postfix) with ESMTP id D8E36465AF
	for <public@inbox.dpdk.org>; Thu, 17 Apr 2025 06:29:05 +0200 (CEST)
Received: from mails.dpdk.org (localhost [127.0.0.1])
	by mails.dpdk.org (Postfix) with ESMTP id D27C34025A;
	Thu, 17 Apr 2025 06:29:05 +0200 (CEST)
Received: from mail-il1-f226.google.com (mail-il1-f226.google.com
 [209.85.166.226])
 by mails.dpdk.org (Postfix) with ESMTP id 9D8B7400D5
 for <test-report@dpdk.org>; Thu, 17 Apr 2025 06:29:04 +0200 (CEST)
Received: by mail-il1-f226.google.com with SMTP id
 e9e14a558f8ab-3d434c84b7eso3240955ab.1
 for <test-report@dpdk.org>; Wed, 16 Apr 2025 21:29:04 -0700 (PDT)
DKIM-Signature: v=1; a=rsa-sha256; c=relaxed/relaxed;
 d=iol.unh.edu; s=unh-iol; t=1744864144; x=1745468944; darn=dpdk.org;
 h=references:in-reply-to:cc:to:from:subject:message-id:date:from:to
 :cc:subject:date:message-id:reply-to;
 bh=qrOeL86hwSphWpL4JpDGQawGWzefGApLlYoiRBD2qa0=;
 b=Y1kJHJDzMcX9dgCEkZquGQ7UTb2HdSA2XQxjXUMHL8wQwlmhVNqx9z6lcnIxrlh/zK
 JIBS8ngSWB1PH1FEIk/ryJyzCy2P/8hzQhGHHmuuNERmVQ/6UXtucsJSPbdF52wX8Z5Q
 jrkUDFSScvB34lSzaXs45viwtA5+Xk8w0juao=
X-Google-DKIM-Signature: v=1; a=rsa-sha256; c=relaxed/relaxed;
 d=1e100.net; s=20230601; t=1744864144; x=1745468944;
 h=references:in-reply-to:cc:to:from:subject:message-id:date
 :x-gm-message-state:from:to:cc:subject:date:message-id:reply-to;
 bh=qrOeL86hwSphWpL4JpDGQawGWzefGApLlYoiRBD2qa0=;
 b=tVl2+BuiqKAzhayPZ5M2hUbb9hpwg5hq3kaSb8XyHo3XibJF+Rk8qDW7IwQop8bhd9
 Hspt2OanUwo7M6xv0FGIJX9ETeXscomKVrA6z+jWM9J4smZNt47RFRmLDsb3Wcnn6oM2
 0xKMdBj14HtatnCT39pUCBV/fMDpvbKlC/DjJ59o0q7XWQJFlVgDApPta49CnQsi6mvo
 kpkumfoubCMCbOSy5uiVGl+No9rFmQsl5SlMl/sRlLLC/uJqePp791Co8ixi7rNcqQpz
 13zDhyq8uj+bQ0CtJiX22/FDUMRqxtjdAL4du1ytHLPc6lhNxCoDmjIJtm64jg4sLjov
 rDvw==
X-Gm-Message-State: AOJu0Yyr3EtDJ2+e9S9mUvlVHbOJzspHYrnDw2ofJ2dblw4Lg6U3gibO
 djhYR8JCiyxQEOqdwYAgfy0+EHn/Z5kKxl10fS9V6Tk2sBmY2voxlPdOCBaRGJM/3zR6yiuce2G
 lZFqN9cDy2IJ8ng01W536gu10qxEeQSbMej9RgIXK
X-Gm-Gg: ASbGnctvm1H9j5yskjqsm3q7OpzhWnozvDvd6VM1JbmlYD45b2BvsU6lSLKMSTJj92A
 M3EWgo0Q28UxgiS1neu6sMHqbMZ82Ysl9ykgiqPncGQa/a02GkOYvMkrbQ/dg3yrRh+QXMiR63U
 5hbQW/AXWXAIRcexPMuzzkBoHnG+OAK2AHC5eDix3WfmXttIFgDUXlZsm1uH99yJoDe16zX6nPE
 MkcYQlDMvWhzS5P0P1Sb2Xbn3izgfoTQADoQ3eNxrZ2Lqv5ILttzZXftsnM7jQgNfgeG4/5hF5+
 BrzjnWF6vjFScsp7VZ96PuJEvGd8r9VMEHLb
X-Google-Smtp-Source: AGHT+IEoAR0aWhc3BhJ2olycXlyURfuvW2iuexbzsBUgwIXjSXPdA+UtVsB1jdfGuNfMmu/n3BDkc04043H8
X-Received: by 2002:a05:6e02:1524:b0:3d4:3db1:77ae with SMTP id
 e9e14a558f8ab-3d815b5645dmr51623845ab.18.1744864143832; 
 Wed, 16 Apr 2025 21:29:03 -0700 (PDT)
Received: from postal.iol.unh.edu (postal.iol.unh.edu. [132.177.123.84])
 by smtp-relay.gmail.com with ESMTPS id
 e9e14a558f8ab-3d7dbaa4124sm9152215ab.36.2025.04.16.21.29.03
 (version=TLS1_2 cipher=ECDHE-ECDSA-AES128-GCM-SHA256 bits=128/128);
 Wed, 16 Apr 2025 21:29:03 -0700 (PDT)
X-Relaying-Domain: iol.unh.edu
Date: Wed, 16 Apr 2025 21:29:03 -0700 (PDT)
Message-ID: <6800838f.050a0220.d8edc.e3faSMTPIN_ADDED_MISSING@mx.google.com>
Received: from [172.17.0.4] (unknown [172.18.0.217])
 by postal.iol.unh.edu (Postfix) with ESMTP id 2EA1F6052471;
 Thu, 17 Apr 2025 00:29:03 -0400 (EDT)
Subject: |SUCCESS| pw152997 [PATCH] [v3] net/ixgbe: support Rx/Tx burst mode 
From: dpdklab@iol.unh.edu
To: Test Report <test-report@dpdk.org>
Cc: dpdk-test-reports@iol.unh.edu
In-Reply-To: <20250416172310.82448-1-rmelton@cisco.com>
References: <20250416172310.82448-1-rmelton@cisco.com>
Content-Type: text/plain
X-BeenThere: test-report@dpdk.org
X-Mailman-Version: 2.1.29
Precedence: list
List-Id: automatic DPDK test reports <test-report.dpdk.org>
List-Unsubscribe: <https://mails.dpdk.org/options/test-report>,
 <mailto:test-report-request@dpdk.org?subject=unsubscribe>
List-Archive: <http://mails.dpdk.org/archives/test-report/>
List-Post: <mailto:test-report@dpdk.org>
List-Help: <mailto:test-report-request@dpdk.org?subject=help>
List-Subscribe: <https://mails.dpdk.org/listinfo/test-report>,
 <mailto:test-report-request@dpdk.org?subject=subscribe>
Errors-To: test-report-bounces@dpdk.org

Test-Label: iol-compile-amd64-testing
Test-Status: SUCCESS
http://dpdk.org/patch/152997

_Testing PASS_

Submitter: Roger Melton <rmelton@cisco.com>
Date: Wednesday, April 16 2025 17:23:11 
DPDK git baseline: Repo:dpdk
  Branch: master
  CommitID:d7817c378fecd07c59360667f93c25dff4b1a145

152997 --> testing pass

Upstream job id: Windows-Compile-DPDK-Native#27924

Test environment and result as below:

+-----------------------------------+--------------------+-------------------+------------------+-------------------+-------------------------+
|            Environment            | dpdk_meson_compile | dpdk_compile_spdk | dpdk_compile_ovs | dpdk_msvc_compile | dpdk_llvm_clang_compile |
+===================================+====================+===================+==================+===================+=========================+
| CentOS Stream 9                   | PASS               | PASS              | SKIPPED          | SKIPPED           | SKIPPED                 |
+-----------------------------------+--------------------+-------------------+------------------+-------------------+-------------------------+
| CentOS Stream 10                  | PASS               | SKIPPED           | SKIPPED          | SKIPPED           | SKIPPED                 |
+-----------------------------------+--------------------+-------------------+------------------+-------------------+-------------------------+
| Debian 12                         | PASS               | PASS              | SKIPPED          | SKIPPED           | SKIPPED                 |
+-----------------------------------+--------------------+-------------------+------------------+-------------------+-------------------------+
| Fedora 40                         | PASS               | PASS              | SKIPPED          | SKIPPED           | SKIPPED                 |
+-----------------------------------+--------------------+-------------------+------------------+-------------------+-------------------------+
| Fedora 41 (Clang)                 | PASS               | PASS              | PASS             | SKIPPED           | SKIPPED                 |
+-----------------------------------+--------------------+-------------------+------------------+-------------------+-------------------------+
| Fedora 40 (Clang)                 | PASS               | PASS              | SKIPPED          | SKIPPED           | SKIPPED                 |
+-----------------------------------+--------------------+-------------------+------------------+-------------------+-------------------------+
| Fedora 41                         | PASS               | PASS              | PASS             | SKIPPED           | SKIPPED                 |
+-----------------------------------+--------------------+-------------------+------------------+-------------------+-------------------------+
| openSUSE Leap 15                  | PASS               | SKIPPED           | SKIPPED          | SKIPPED           | SKIPPED                 |
+-----------------------------------+--------------------+-------------------+------------------+-------------------+-------------------------+
| RHEL8                             | PASS               | SKIPPED           | SKIPPED          | SKIPPED           | SKIPPED                 |
+-----------------------------------+--------------------+-------------------+------------------+-------------------+-------------------------+
| RHEL9                             | PASS               | SKIPPED           | SKIPPED          | SKIPPED           | SKIPPED                 |
+-----------------------------------+--------------------+-------------------+------------------+-------------------+-------------------------+
| Ubuntu 20.04                      | PASS               | SKIPPED           | SKIPPED          | SKIPPED           | SKIPPED                 |
+-----------------------------------+--------------------+-------------------+------------------+-------------------+-------------------------+
| Ubuntu 22.04                      | PASS               | PASS              | SKIPPED          | SKIPPED           | SKIPPED                 |
+-----------------------------------+--------------------+-------------------+------------------+-------------------+-------------------------+
| Ubuntu 24.04                      | PASS               | PASS              | PASS             | SKIPPED           | SKIPPED                 |
+-----------------------------------+--------------------+-------------------+------------------+-------------------+-------------------------+
| Alpine                            | PASS               | SKIPPED           | SKIPPED          | SKIPPED           | SKIPPED                 |
+-----------------------------------+--------------------+-------------------+------------------+-------------------+-------------------------+
| Ubuntu 24.04 32 Bit Cross Compile | PASS               | SKIPPED           | SKIPPED          | SKIPPED           | SKIPPED                 |
+-----------------------------------+--------------------+-------------------+------------------+-------------------+-------------------------+
| FreeBSD 13.5                      | PASS               | SKIPPED           | SKIPPED          | SKIPPED           | SKIPPED                 |
+-----------------------------------+--------------------+-------------------+------------------+-------------------+-------------------------+
| FreeBSD 14.2                      | PASS               | SKIPPED           | SKIPPED          | SKIPPED           | SKIPPED                 |
+-----------------------------------+--------------------+-------------------+------------------+-------------------+-------------------------+
| Windows Server 2022               | SKIPPED            | SKIPPED           | SKIPPED          | PASS              | PASS                    |
+-----------------------------------+--------------------+-------------------+------------------+-------------------+-------------------------+


CentOS Stream 9
	Kernel: Depends on container host
	Compiler: gcc 11.5.0 20240719 (Red Hat 11.5.0-2)

CentOS Stream 10
	Kernel: Depends on container host
	Compiler: gcc 14.2.1 20241104 (Red Hat 14.2.1-6)

Debian 12
	Kernel: Depends on container host
	Compiler: gcc (Debian 12.2.0-14) 12.2.0

Fedora 40
	Kernel: Depends on container host
	Compiler: gcc 14.2.1 20240912 (Red Hat 14.2.1-3)

Fedora 41 (Clang)
	Kernel: Depends on container host
	Compiler: clang 19.1.5 (Fedora 19.1.5-1.fc41)

Fedora 40 (Clang)
	Kernel: Depends on container host
	Compiler: clang 18.1.8 (Fedora 18.1.8-1.fc40)

Fedora 41
	Kernel: Depends on container host
	Compiler: gcc 14.2.1 20240912 (Red Hat 14.2.1-3)

openSUSE Leap 15
	Kernel: Depends on container host
	Compiler: gcc (SUSE Linux) 7.5.0

RHEL8
	Kernel: Depends on container host
	Compiler: gcc 8.5.0 20210514 (Red Hat 8.5.0-22)

RHEL9
	Kernel: Depends on container host
	Compiler: gcc 11.5.0 20240719 (Red Hat 11.5.0-2)

Ubuntu 20.04
	Kernel: Depends on container host
	Compiler: gcc (Ubuntu 9.4.0-1ubuntu1~20.04.2) 9.4.0

Ubuntu 22.04
	Kernel: Depends on container host
	Compiler: gcc (Ubuntu 11.4.0-1ubuntu1~22.04) 11.4.0

Ubuntu 24.04
	Kernel: Depends on container host
	Compiler: gcc (Ubuntu 13.3.0-6ubuntu2~24.04) 13.3.0

Alpine
	Kernel: Depends on container host
	Compiler: gcc (Alpine 14.2.0) 14.2.0

Ubuntu 24.04 32 Bit Cross Compile
	Kernel: Depends on container host
	Compiler: gcc (Ubuntu 13.3.0-6ubuntu2~24.04) 13.3.0

FreeBSD 13.5
	Kernel: 13.5-RELEASE
	Compiler: clang 19.1.7

FreeBSD 14.2
	Kernel: 14.2-RELEASE
	Compiler: clang 18.1.6

Windows Server 2022
	Kernel: 10.0.20348.2031
	Compiler: clang 15.0.7, gcc 14.1.0 (MinGW), and MSVC VS 19.39.33521

To view detailed results, visit:
https://lab.dpdk.org/results/dashboard/patchsets/33023/

UNH-IOL DPDK Community Lab

To manage your email subscriptions, visit: 
https://lab.dpdk.org/results/dashboard/preferences/subscriptions/