From mboxrd@z Thu Jan 1 00:00:00 1970 Return-Path: Received: from mails.dpdk.org (mails.dpdk.org [217.70.189.124]) by inbox.dpdk.org (Postfix) with ESMTP id 9346C465AF for ; Thu, 17 Apr 2025 06:35:36 +0200 (CEST) Received: from mails.dpdk.org (localhost [127.0.0.1]) by mails.dpdk.org (Postfix) with ESMTP id 64F274025A; Thu, 17 Apr 2025 06:35:36 +0200 (CEST) Received: from mail-yw1-f226.google.com (mail-yw1-f226.google.com [209.85.128.226]) by mails.dpdk.org (Postfix) with ESMTP id 54315400D5 for ; Thu, 17 Apr 2025 06:35:35 +0200 (CEST) Received: by mail-yw1-f226.google.com with SMTP id 00721157ae682-6feb229b716so3102707b3.3 for ; Wed, 16 Apr 2025 21:35:35 -0700 (PDT) DKIM-Signature: v=1; a=rsa-sha256; c=relaxed/relaxed; d=iol.unh.edu; s=unh-iol; t=1744864534; x=1745469334; darn=dpdk.org; h=references:in-reply-to:cc:to:from:subject:message-id:date:from:to :cc:subject:date:message-id:reply-to; bh=X4pVINhgPU+C8BgFvwBOSNb5ep/p96AN95q4VJa5bHc=; b=HnzkDrCrOMRBpw/frLNcIAM6K0EeApNNciso6ZrTiaSsVHfYsI/TGurXw0z/L0GpuO Ml++fpA83yLzlmwfQAp72HDNf61U73/pJmVFQFV9eqmuTU1ZDJ8JmglYWIiD/lIgjRly fglhGCVuuN+isG6G5AiCOA0QBqDjfyl+721pE= X-Google-DKIM-Signature: v=1; a=rsa-sha256; c=relaxed/relaxed; d=1e100.net; s=20230601; t=1744864534; x=1745469334; h=references:in-reply-to:cc:to:from:subject:message-id:date :x-gm-message-state:from:to:cc:subject:date:message-id:reply-to; bh=X4pVINhgPU+C8BgFvwBOSNb5ep/p96AN95q4VJa5bHc=; b=Xwz3UWzFll5MA4yBRQ6xAXWZqY/2PZDGbRD6CHA+zDAXMHhkDFgyi/tPPxiGYkl50N qoYIgQFiF7QG9TsjkU+4eTrYpGfew+dab3pglQ3CVkZIY1cXw49v+2vzug+VDMjM+H2d pKRDEvvZVwBdCNv2eWLenX8m5/ncCThLSQeJxDcBp/z/moxHY9XmlP1qwn54UZ8LHipg dOu2HZQ8vOJQZgbx/ByzzqeN24cTXVUKNUqRVsmwHUdqVRhUW530aeFTnxTl4bfX/wuZ n8LKw8meVehudJ0Avt1kwLlf4QI4V/5mS9VEWFzt3ZJ6tlhHfBE+RTmHJEd1IM/PuhVW gV2A== X-Gm-Message-State: AOJu0YwwV4BRYV7RKOZq43IqYIBIpAXBE/86L1X/XcQNbEeIShjw8lcj 5b9vlsH6eDi9KKdxRCT3ELM68oY4tahts0wI5CSZc8nQ3SZPmu7bIymrdcNdQBP4FuipEZv8uns 0QyTp4/xkOx1pjlHeo0lSLGAP3yXS73MK48LCpD3UUIZykpSjoP/Kj8nh X-Gm-Gg: ASbGncvOnOv7QzvHda9V9PMfrJN3ROhFzg67yY3odWvWoRzAoKYs6rAfyHSwe0mVxhf 2R+Ytk20DLRzfY1Qpnyj/5NTe1YqRnpinP8PfQi1lxvc3soYd5LD2om7SSVAgWcAeX3WYZ8YVAP GZnxEhPA5JMhJecRraN82YMcFks+2B1TsRLnmygceadKoQ0rwqeOB3l0tH47y5ZI9HpRtl1Frpy RgrTpjaLxOhO4L1kaStTjgQ6HUpPwSMUHvzLta2g1FP9B26eqTWzdbuf4Ubd5mRuN70/V82i2aU RygdORsLbKKMHsbuFI/zpnfaBCTy9Y+w9tFJHwW8tH5XLI3E X-Google-Smtp-Source: AGHT+IFHcbiEPpF6vErIkywaX/SgPALtyGb65DfMui8ic4Y0dJLA8aOjaX6qJeX3jffDRQojZz6OKGbEGmRp X-Received: by 2002:a05:690c:b10:b0:6f9:7ec7:3879 with SMTP id 00721157ae682-706b32cd7e2mr59020857b3.18.1744864534585; Wed, 16 Apr 2025 21:35:34 -0700 (PDT) Received: from postal.iol.unh.edu (postal.iol.unh.edu. [2606:4100:3880:1234::84]) by smtp-relay.gmail.com with ESMTPS id 00721157ae682-7053e13fbfcsm7690427b3.27.2025.04.16.21.35.34 (version=TLS1_2 cipher=ECDHE-ECDSA-AES128-GCM-SHA256 bits=128/128); Wed, 16 Apr 2025 21:35:34 -0700 (PDT) X-Relaying-Domain: iol.unh.edu Date: Wed, 16 Apr 2025 21:35:34 -0700 (PDT) Message-ID: <68008516.050a0220.189c48.538eSMTPIN_ADDED_MISSING@mx.google.com> Received: from [172.17.0.4] (unknown [172.18.0.217]) by postal.iol.unh.edu (Postfix) with ESMTP id 25D316052471; Thu, 17 Apr 2025 00:35:34 -0400 (EDT) Subject: |SUCCESS| pw152997 [PATCH] [v3] net/ixgbe: support Rx/Tx burst mode From: dpdklab@iol.unh.edu To: Test Report Cc: dpdk-test-reports@iol.unh.edu In-Reply-To: <20250416172310.82448-1-rmelton@cisco.com> References: <20250416172310.82448-1-rmelton@cisco.com> Content-Type: text/plain X-BeenThere: test-report@dpdk.org X-Mailman-Version: 2.1.29 Precedence: list List-Id: automatic DPDK test reports List-Unsubscribe: , List-Archive: List-Post: List-Help: List-Subscribe: , Errors-To: test-report-bounces@dpdk.org Test-Label: iol-unit-amd64-testing Test-Status: SUCCESS http://dpdk.org/patch/152997 _Testing PASS_ Submitter: Roger Melton Date: Wednesday, April 16 2025 17:23:11 DPDK git baseline: Repo:dpdk Branch: master CommitID:d7817c378fecd07c59360667f93c25dff4b1a145 152997 --> testing pass Upstream job id: Generic-VM-Unit-Test-DPDK#28025 Test environment and result as below: +---------------------+----------------+ | Environment | dpdk_unit_test | +=====================+================+ | CentOS Stream 9 | PASS | +---------------------+----------------+ | CentOS Stream 10 | PASS | +---------------------+----------------+ | Fedora 40 | PASS | +---------------------+----------------+ | Fedora 40 (Clang) | PASS | +---------------------+----------------+ | Debian 12 | PASS | +---------------------+----------------+ | Fedora 41 | PASS | +---------------------+----------------+ | Fedora 41 (Clang) | PASS | +---------------------+----------------+ | RHEL9 | PASS | +---------------------+----------------+ | RHEL8 | PASS | +---------------------+----------------+ | Ubuntu 22.04 | PASS | +---------------------+----------------+ | Ubuntu 20.04 | PASS | +---------------------+----------------+ | Ubuntu 24.04 | PASS | +---------------------+----------------+ | Windows Server 2022 | PASS | +---------------------+----------------+ CentOS Stream 9 Kernel: Depends on container host Compiler: gcc 11.5.0 20240719 (Red Hat 11.5.0-2) CentOS Stream 10 Kernel: Depends on container host Compiler: gcc 14.2.1 20241104 (Red Hat 14.2.1-6) Fedora 40 Kernel: Depends on container host Compiler: gcc 14.2.1 20240912 (Red Hat 14.2.1-3) Fedora 40 (Clang) Kernel: Depends on container host Compiler: clang 18.1.8 (Fedora 18.1.8-1.fc40) Debian 12 Kernel: Depends on container host Compiler: gcc (Debian 12.2.0-14) 12.2.0 Fedora 41 Kernel: Depends on container host Compiler: gcc 14.2.1 20240912 (Red Hat 14.2.1-3) Fedora 41 (Clang) Kernel: Depends on container host Compiler: clang 19.1.5 (Fedora 19.1.5-1.fc41) RHEL9 Kernel: Depends on container host Compiler: gcc 11.5.0 20240719 (Red Hat 11.5.0-2) RHEL8 Kernel: Depends on container host Compiler: gcc 8.5.0 20210514 (Red Hat 8.5.0-22) Ubuntu 22.04 Kernel: Depends on container host Compiler: gcc (Ubuntu 11.4.0-1ubuntu1~22.04) 11.4.0 Ubuntu 20.04 Kernel: Depends on container host Compiler: gcc (Ubuntu 9.4.0-1ubuntu1~20.04.2) 9.4.0 Ubuntu 24.04 Kernel: Depends on container host Compiler: gcc (Ubuntu 13.3.0-6ubuntu2~24.04) 13.3.0 Windows Server 2022 Kernel: 10.0.20348.2031 Compiler: clang 15.0.7, gcc 14.1.0 (MinGW), and MSVC VS 19.39.33521 To view detailed results, visit: https://lab.dpdk.org/results/dashboard/patchsets/33023/ UNH-IOL DPDK Community Lab To manage your email subscriptions, visit: https://lab.dpdk.org/results/dashboard/preferences/subscriptions/