From mboxrd@z Thu Jan  1 00:00:00 1970
Return-Path: <test-report-bounces@dpdk.org>
Received: from mails.dpdk.org (mails.dpdk.org [217.70.189.124])
	by inbox.dpdk.org (Postfix) with ESMTP id 05699465B2
	for <public@inbox.dpdk.org>; Thu, 17 Apr 2025 08:22:38 +0200 (CEST)
Received: from mails.dpdk.org (localhost [127.0.0.1])
	by mails.dpdk.org (Postfix) with ESMTP id C85974025A;
	Thu, 17 Apr 2025 08:22:38 +0200 (CEST)
Received: from mail-oa1-f99.google.com (mail-oa1-f99.google.com
 [209.85.160.99]) by mails.dpdk.org (Postfix) with ESMTP id 0E7A5400D5
 for <test-report@dpdk.org>; Thu, 17 Apr 2025 08:22:38 +0200 (CEST)
Received: by mail-oa1-f99.google.com with SMTP id
 586e51a60fabf-2d060c62b61so231608fac.0
 for <test-report@dpdk.org>; Wed, 16 Apr 2025 23:22:37 -0700 (PDT)
DKIM-Signature: v=1; a=rsa-sha256; c=relaxed/relaxed;
 d=iol.unh.edu; s=unh-iol; t=1744870957; x=1745475757; darn=dpdk.org;
 h=cc:to:from:subject:message-id:date:from:to:cc:subject:date
 :message-id:reply-to;
 bh=JEhKuQOo9qCMYXFa7gAVWEd8FyQ+Za5QMWUDu5BswYQ=;
 b=Uh2xezaCqWTCU/SqSvHCYQf9aJdz8sy4s/9ROVqwpE3ITcmPIIm0CRyfji3nz5x0xp
 /1fJbId5LTXRDUs0n2A5kcLcoPTtpJhKUthbz4Y17+nuaMZ73OWzoS1NJaCmMJ4vQ5Hb
 l6sJnzRquXRadDB/QM00FgxTCTikLiP2r/o0Q=
X-Google-DKIM-Signature: v=1; a=rsa-sha256; c=relaxed/relaxed;
 d=1e100.net; s=20230601; t=1744870957; x=1745475757;
 h=cc:to:from:subject:message-id:date:x-gm-message-state:from:to:cc
 :subject:date:message-id:reply-to;
 bh=JEhKuQOo9qCMYXFa7gAVWEd8FyQ+Za5QMWUDu5BswYQ=;
 b=EgZZBm7mytxmSshlMKgXYVWGpMVgpUFNThxzBf0bVofNrUOWeIFFog23M2LLjtwRlt
 Vl85GjOuZ1vJZ72T7Sj1jTxJinN5YWyKnJnj/SFkHdAdlccrhfCndY3feLISgwVoAeWn
 7DgVwY173Kq7809lEdtco/y/rqE0eNKWzSg0BDO45axFZ8WkYObuSnvfs4RU9HZir+UR
 p6cRmqCHsG2XAgRefpt86hpTF7lZBkIZ7q9S/hmXEdOtvx4Dgn627slfCPXq/tpaQmjA
 bk71rq5wIBBRsL/EZv8ufi8BdqzeouuTJm+C5Xcv+A8SmvL0yFHzpCFYqo/9uiqmD4jU
 lHhQ==
X-Gm-Message-State: AOJu0Yy77GTr9Ok/AvUC82sq5GjBH3nSVblWPOR/b/vZ0SLyYD6FKKAR
 pCRgCxSrTKcqEM1NRnRWrVQL4iOqnOWql0NcIv49dbUmKdtI9iWNChBFGqfO3AQAaeowZPT1/li
 UlR5tAegOILTZZL0qijsgEJnW2BTQgCTJ
X-Gm-Gg: ASbGncvmpRMoK7uiMXz5z8KdIw0+gNwmdzh3RmaDEVsvChcCC0nKEeD1Tlb/zAD0zbk
 HzAH4vm/wSAwvvm5J9qwAl1UHTd9o/Panq8G3xtM1rLDaRj5p6y8L7Mxt4XDRslYGdLhd8C9gfC
 /FYi0Gg5cRkiL09ECOoOA+SQZ5ur2UICGeAyYshGaei2i7vpQ2XMcbjp0OuGRQI+BQrl1cGDx5o
 faoEF31ASEYVsUgOTEu2sPC1X1YZjQ9yrKVGppkERw+YyJJ2YayGRMp/JpN/A4rxZysudzkR1vu
 plwANHXTA7WnLwCkBzoS98kPC2zSZyKRfzXP
X-Google-Smtp-Source: AGHT+IE/JOPPXOMrYNVfB91hbvlz7xiUfMsMEXI1/iYK763OvG9CzWtc6S3AVFLBLfSkJ8wGzuBPwCq6Lq4r
X-Received: by 2002:a05:6871:c:b0:2d4:ef88:97bf with SMTP id
 586e51a60fabf-2d4ef8899efmr1177808fac.14.1744870957248; 
 Wed, 16 Apr 2025 23:22:37 -0700 (PDT)
Received: from postal.iol.unh.edu (postal.iol.unh.edu. [132.177.123.84])
 by smtp-relay.gmail.com with ESMTPS id
 586e51a60fabf-2d0968db6e2sm830572fac.2.2025.04.16.23.22.37
 (version=TLS1_2 cipher=ECDHE-ECDSA-AES128-GCM-SHA256 bits=128/128);
 Wed, 16 Apr 2025 23:22:37 -0700 (PDT)
X-Relaying-Domain: iol.unh.edu
Date: Wed, 16 Apr 2025 23:22:37 -0700 (PDT)
Message-ID: <68009e2d.050a0220.31ab6d.a211SMTPIN_ADDED_MISSING@mx.google.com>
Received: from [172.21.0.7] (unknown [172.18.0.240])
 by postal.iol.unh.edu (Postfix) with ESMTP id 616596052471;
 Thu, 17 Apr 2025 02:22:36 -0400 (EDT)
Subject: |SUCCESS| [GIT MASTER] 03f2ed63a5f4e4b57365e358b49095ef4a82cf7d
From: dpdklab@iol.unh.edu
To: Test Report <test-report@dpdk.org>
Cc: dpdk-test-reports@iol.unh.edu, Xueming Li <xuemingl@nvidia.com>,
 Christian Ehrhardt <christian.ehrhardt@canonical.com>,
 Kevin Traynor <ktraynor@redhat.com>, Luca Boccassi <bluca@debian.org>
Content-Type: text/plain
X-BeenThere: test-report@dpdk.org
X-Mailman-Version: 2.1.29
Precedence: list
List-Id: automatic DPDK test reports <test-report.dpdk.org>
List-Unsubscribe: <https://mails.dpdk.org/options/test-report>,
 <mailto:test-report-request@dpdk.org?subject=unsubscribe>
List-Archive: <http://mails.dpdk.org/archives/test-report/>
List-Post: <mailto:test-report@dpdk.org>
List-Help: <mailto:test-report-request@dpdk.org?subject=help>
List-Subscribe: <https://mails.dpdk.org/listinfo/test-report>,
 <mailto:test-report-request@dpdk.org?subject=subscribe>
Errors-To: test-report-bounces@dpdk.org

_Testing PASS_

Branch: tags/v24.11

03f2ed63a5f4e4b57365e358b49095ef4a82cf7d --> testing pass

Upstream job id: Generic-DPDK-Compile-ABI#123635

Test environment and result as below:

+-------------------+----------+
|    Environment    | abi_test |
+===================+==========+
| CentOS Stream 10  | PASS     |
+-------------------+----------+
| Debian 12         | PASS     |
+-------------------+----------+
| CentOS Stream 9   | PASS     |
+-------------------+----------+
| Fedora 40 (Clang) | PASS     |
+-------------------+----------+
| Fedora 40         | PASS     |
+-------------------+----------+
| Fedora 41         | PASS     |
+-------------------+----------+
| Fedora 41 (Clang) | PASS     |
+-------------------+----------+
| openSUSE Leap 15  | PASS     |
+-------------------+----------+
| RHEL8             | PASS     |
+-------------------+----------+
| Ubuntu 22.04      | PASS     |
+-------------------+----------+
| Ubuntu 24.04      | PASS     |
+-------------------+----------+
| RHEL9             | PASS     |
+-------------------+----------+


CentOS Stream 10
	Kernel: Depends on container host
	Compiler: gcc 14.2.1 20241104 (Red Hat 14.2.1-6)

Debian 12
	Kernel: Depends on container host
	Compiler: gcc (Debian 12.2.0-14) 12.2.0

CentOS Stream 9
	Kernel: Depends on container host
	Compiler: gcc 11.5.0 20240719 (Red Hat 11.5.0-2)

Fedora 40 (Clang)
	Kernel: Depends on container host
	Compiler: clang 18.1.8 (Fedora 18.1.8-1.fc40)

Fedora 40
	Kernel: Depends on container host
	Compiler: gcc 14.2.1 20240912 (Red Hat 14.2.1-3)

Fedora 41
	Kernel: Depends on container host
	Compiler: gcc 14.2.1 20240912 (Red Hat 14.2.1-3)

Fedora 41 (Clang)
	Kernel: Depends on container host
	Compiler: clang 19.1.5 (Fedora 19.1.5-1.fc41)

openSUSE Leap 15
	Kernel: Depends on container host
	Compiler: gcc (SUSE Linux) 7.5.0

RHEL8
	Kernel: Depends on container host
	Compiler: gcc 8.5.0 20210514 (Red Hat 8.5.0-22)

Ubuntu 22.04
	Kernel: Depends on container host
	Compiler: gcc (Ubuntu 11.4.0-1ubuntu1~22.04) 11.4.0

Ubuntu 24.04
	Kernel: Depends on container host
	Compiler: gcc (Ubuntu 13.3.0-6ubuntu2~24.04) 13.3.0

RHEL9
	Kernel: Depends on container host
	Compiler: gcc 11.5.0 20240719 (Red Hat 11.5.0-2)

To view detailed results, visit:
https://lab.dpdk.org/results/dashboard/tarballs/33283/

UNH-IOL DPDK Community Lab

To manage your email subscriptions, visit: 
https://lab.dpdk.org/results/dashboard/preferences/subscriptions/