From mboxrd@z Thu Jan  1 00:00:00 1970
Return-Path: <test-report-bounces@dpdk.org>
Received: from mails.dpdk.org (mails.dpdk.org [217.70.189.124])
	by inbox.dpdk.org (Postfix) with ESMTP id 4FF87465B2
	for <public@inbox.dpdk.org>; Thu, 17 Apr 2025 09:44:01 +0200 (CEST)
Received: from mails.dpdk.org (localhost [127.0.0.1])
	by mails.dpdk.org (Postfix) with ESMTP id 4662F402CF;
	Thu, 17 Apr 2025 09:44:01 +0200 (CEST)
Received: from mail-qk1-f225.google.com (mail-qk1-f225.google.com
 [209.85.222.225])
 by mails.dpdk.org (Postfix) with ESMTP id 36D084025A
 for <test-report@dpdk.org>; Thu, 17 Apr 2025 09:43:59 +0200 (CEST)
Received: by mail-qk1-f225.google.com with SMTP id
 af79cd13be357-7c5b2472969so42844785a.1
 for <test-report@dpdk.org>; Thu, 17 Apr 2025 00:43:59 -0700 (PDT)
DKIM-Signature: v=1; a=rsa-sha256; c=relaxed/relaxed;
 d=iol.unh.edu; s=unh-iol; t=1744875838; x=1745480638; darn=dpdk.org;
 h=cc:to:from:subject:message-id:date:from:to:cc:subject:date
 :message-id:reply-to;
 bh=iWMh2/0hoPDefoMJjk1WEv1gMlUN/KuN4DocnqVVuVI=;
 b=AcLmNcyZwLQKDEwyKm16Ydt9FRWXCbngaS3skQG+IdsnauAlOzJzDC5Z8Y0oBw9Xrn
 0AswFHVKN1F7Jb0cJHPahqJU9fiGvKFxsqg4vQGUa+DeVgQ+/1V3e0Bo3/2hr3GWhIsa
 ytwXIqMVEJ1mQRgZUzdB9L00+GUu8PpFBCP6U=
X-Google-DKIM-Signature: v=1; a=rsa-sha256; c=relaxed/relaxed;
 d=1e100.net; s=20230601; t=1744875838; x=1745480638;
 h=cc:to:from:subject:message-id:date:x-gm-message-state:from:to:cc
 :subject:date:message-id:reply-to;
 bh=iWMh2/0hoPDefoMJjk1WEv1gMlUN/KuN4DocnqVVuVI=;
 b=aCWCvLhFLn/jXRET6WFh91zqrhj8ZAvt3YKhuwDPaGDXc/0vj3A9uHDi6iZKkXW3d8
 AfJupAF1wqKyC2auNTd+OWKstBOpDeaWAT787v1rQpwmlrhXHvJccXYtiv7D/JAYBWUT
 nxLTxnZNP+QjIDegqOY5Qcp3QLwEYqV14qJxIALhSCshqxYBTy2Ak2J1eWhlq+xlQSXE
 J43sOmZQEAUzMF7p2ch4PE9Q1DGOybetBeClNyYOkrA9v5RLeKjjd0XNA93tl1JP08tg
 nO6ELVFRqELigGZtbGXARkXy+zxFV4dDSzYes3Vgt9ifxrEprm8jNXOrvBrcI8+z4wyS
 JzUw==
X-Gm-Message-State: AOJu0YzLIuQoQ/puaYYtOmHRubWewaeltVDhCeWB6b/qcCpCYG5wiMpu
 2PxJ4u5QMRRw0pXb9xni7O7od1L1Eow/er9ZvpMDZ613c+HdJbo9bqjQczC545V+qIEIYXlBPrX
 dsSe9r0RbgHiByU4LH94A6nX9FDUepJxscW2M2YoUQO1nwjPy
X-Gm-Gg: ASbGncunZtP5N8+w4bMNu2Khln0TV/hmpeFmcgcbkh3Sd7L+74NRbabft05R94NCG/1
 tGSerANoH9VwGaj4/Gu2GQ2twj3HVQDBQl/uqcrYx9su+0iFX+ehoc6oU+ItYH9vOc+71ytkq88
 3iduZtktBPJtA6i9CSlvtB5GZUdo6DXgSI3EpTfsA/oIOqcNk8I1Az34s0k4SV3GweEY59tFEo5
 ADsFXXO1vbiSNM+5FNO0hlb9vUeN5TkqnVSGCvMBjH4tE9QZ2xCk0sSDXNoHHkcdXjmBxbWO4GE
 MEZXoC4lfA0pti8iIWDPqJ4nYBO+an6O1R6o4z/Tbyl9Z5g6
X-Google-Smtp-Source: AGHT+IEZZr1UsGp/l0Q6EzBEIwRjJeZUrwuBO+AZYzov8gDY3Vr2tAAe7+yWLU/jqd5oycV6Jy/CuwmIOHBk
X-Received: by 2002:a05:622a:199d:b0:476:8816:6d17 with SMTP id
 d75a77b69052e-47ad809975amr64586571cf.6.1744875838633; 
 Thu, 17 Apr 2025 00:43:58 -0700 (PDT)
Received: from postal.iol.unh.edu (postal.iol.unh.edu.
 [2606:4100:3880:1234::84]) by smtp-relay.gmail.com with ESMTPS id
 6a1803df08f44-6f0dea0a3f3sm8688306d6.56.2025.04.17.00.43.58
 (version=TLS1_2 cipher=ECDHE-ECDSA-AES128-GCM-SHA256 bits=128/128);
 Thu, 17 Apr 2025 00:43:58 -0700 (PDT)
X-Relaying-Domain: iol.unh.edu
Date: Thu, 17 Apr 2025 00:43:58 -0700 (PDT)
Message-ID: <6800b13e.050a0220.3c048.c53fSMTPIN_ADDED_MISSING@mx.google.com>
Received: from [172.21.0.5] (unknown [172.18.0.240])
 by postal.iol.unh.edu (Postfix) with ESMTP id 1206D6052471;
 Thu, 17 Apr 2025 03:43:58 -0400 (EDT)
Subject: |SUCCESS| [GIT MASTER] 03f2ed63a5f4e4b57365e358b49095ef4a82cf7d
From: dpdklab@iol.unh.edu
To: Test Report <test-report@dpdk.org>
Cc: dpdk-test-reports@iol.unh.edu, Xueming Li <xuemingl@nvidia.com>,
 Christian Ehrhardt <christian.ehrhardt@canonical.com>,
 Kevin Traynor <ktraynor@redhat.com>, Luca Boccassi <bluca@debian.org>
Content-Type: text/plain
X-BeenThere: test-report@dpdk.org
X-Mailman-Version: 2.1.29
Precedence: list
List-Id: automatic DPDK test reports <test-report.dpdk.org>
List-Unsubscribe: <https://mails.dpdk.org/options/test-report>,
 <mailto:test-report-request@dpdk.org?subject=unsubscribe>
List-Archive: <http://mails.dpdk.org/archives/test-report/>
List-Post: <mailto:test-report@dpdk.org>
List-Help: <mailto:test-report-request@dpdk.org?subject=help>
List-Subscribe: <https://mails.dpdk.org/listinfo/test-report>,
 <mailto:test-report-request@dpdk.org?subject=subscribe>
Errors-To: test-report-bounces@dpdk.org

_Testing PASS_

Branch: tags/v24.11

03f2ed63a5f4e4b57365e358b49095ef4a82cf7d --> testing pass

Upstream job id: Generic-DPDK-Compile-Meson#380850

Test environment and result as below:

+-----------------------------------+--------------------+-------------------+------------------+-------------------+
|            Environment            | dpdk_meson_compile | dpdk_compile_spdk | dpdk_compile_ovs | dpdk_msvc_compile |
+===================================+====================+===================+==================+===================+
| CentOS Stream 9                   | PASS               | PASS              | SKIPPED          | SKIPPED           |
+-----------------------------------+--------------------+-------------------+------------------+-------------------+
| CentOS Stream 10                  | PASS               | SKIPPED           | SKIPPED          | SKIPPED           |
+-----------------------------------+--------------------+-------------------+------------------+-------------------+
| Debian 12                         | PASS               | PASS              | SKIPPED          | SKIPPED           |
+-----------------------------------+--------------------+-------------------+------------------+-------------------+
| Fedora 40 (Clang)                 | PASS               | PASS              | SKIPPED          | SKIPPED           |
+-----------------------------------+--------------------+-------------------+------------------+-------------------+
| Fedora 41 (Clang)                 | PASS               | PASS              | PASS             | SKIPPED           |
+-----------------------------------+--------------------+-------------------+------------------+-------------------+
| Fedora 40                         | PASS               | PASS              | SKIPPED          | SKIPPED           |
+-----------------------------------+--------------------+-------------------+------------------+-------------------+
| Fedora 41                         | PASS               | PASS              | PASS             | SKIPPED           |
+-----------------------------------+--------------------+-------------------+------------------+-------------------+
| openSUSE Leap 15                  | PASS               | SKIPPED           | SKIPPED          | SKIPPED           |
+-----------------------------------+--------------------+-------------------+------------------+-------------------+
| RHEL8                             | PASS               | SKIPPED           | SKIPPED          | SKIPPED           |
+-----------------------------------+--------------------+-------------------+------------------+-------------------+
| RHEL9                             | PASS               | SKIPPED           | SKIPPED          | SKIPPED           |
+-----------------------------------+--------------------+-------------------+------------------+-------------------+
| Ubuntu 22.04                      | PASS               | PASS              | SKIPPED          | SKIPPED           |
+-----------------------------------+--------------------+-------------------+------------------+-------------------+
| Ubuntu 20.04                      | PASS               | SKIPPED           | SKIPPED          | SKIPPED           |
+-----------------------------------+--------------------+-------------------+------------------+-------------------+
| Ubuntu 24.04                      | PASS               | PASS              | PASS             | SKIPPED           |
+-----------------------------------+--------------------+-------------------+------------------+-------------------+
| Ubuntu 24.04 32 Bit Cross Compile | PASS               | SKIPPED           | SKIPPED          | SKIPPED           |
+-----------------------------------+--------------------+-------------------+------------------+-------------------+
| Alpine                            | PASS               | SKIPPED           | SKIPPED          | SKIPPED           |
+-----------------------------------+--------------------+-------------------+------------------+-------------------+
| FreeBSD 13.5                      | PASS               | SKIPPED           | SKIPPED          | SKIPPED           |
+-----------------------------------+--------------------+-------------------+------------------+-------------------+
| FreeBSD 14.2                      | PASS               | SKIPPED           | SKIPPED          | SKIPPED           |
+-----------------------------------+--------------------+-------------------+------------------+-------------------+
| Windows Server 2022               | SKIPPED            | SKIPPED           | SKIPPED          | PASS              |
+-----------------------------------+--------------------+-------------------+------------------+-------------------+


CentOS Stream 9
	Kernel: Depends on container host
	Compiler: gcc 11.5.0 20240719 (Red Hat 11.5.0-2)

CentOS Stream 10
	Kernel: Depends on container host
	Compiler: gcc 14.2.1 20241104 (Red Hat 14.2.1-6)

Debian 12
	Kernel: Depends on container host
	Compiler: gcc (Debian 12.2.0-14) 12.2.0

Fedora 40 (Clang)
	Kernel: Depends on container host
	Compiler: clang 18.1.8 (Fedora 18.1.8-1.fc40)

Fedora 41 (Clang)
	Kernel: Depends on container host
	Compiler: clang 19.1.5 (Fedora 19.1.5-1.fc41)

Fedora 40
	Kernel: Depends on container host
	Compiler: gcc 14.2.1 20240912 (Red Hat 14.2.1-3)

Fedora 41
	Kernel: Depends on container host
	Compiler: gcc 14.2.1 20240912 (Red Hat 14.2.1-3)

openSUSE Leap 15
	Kernel: Depends on container host
	Compiler: gcc (SUSE Linux) 7.5.0

RHEL8
	Kernel: Depends on container host
	Compiler: gcc 8.5.0 20210514 (Red Hat 8.5.0-22)

RHEL9
	Kernel: Depends on container host
	Compiler: gcc 11.5.0 20240719 (Red Hat 11.5.0-2)

Ubuntu 22.04
	Kernel: Depends on container host
	Compiler: gcc (Ubuntu 11.4.0-1ubuntu1~22.04) 11.4.0

Ubuntu 20.04
	Kernel: Depends on container host
	Compiler: gcc (Ubuntu 9.4.0-1ubuntu1~20.04.2) 9.4.0

Ubuntu 24.04
	Kernel: Depends on container host
	Compiler: gcc (Ubuntu 13.3.0-6ubuntu2~24.04) 13.3.0

Ubuntu 24.04 32 Bit Cross Compile
	Kernel: Depends on container host
	Compiler: gcc (Ubuntu 13.3.0-6ubuntu2~24.04) 13.3.0

Alpine
	Kernel: Depends on container host
	Compiler: gcc (Alpine 14.2.0) 14.2.0

FreeBSD 13.5
	Kernel: 13.5-RELEASE
	Compiler: clang 19.1.7

FreeBSD 14.2
	Kernel: 14.2-RELEASE
	Compiler: clang 18.1.6

Windows Server 2022
	Kernel: 10.0.20348.2031
	Compiler: clang 15.0.7, gcc 14.1.0 (MinGW), and MSVC VS 19.39.33521

To view detailed results, visit:
https://lab.dpdk.org/results/dashboard/tarballs/33283/

UNH-IOL DPDK Community Lab

To manage your email subscriptions, visit: 
https://lab.dpdk.org/results/dashboard/preferences/subscriptions/