From mboxrd@z Thu Jan 1 00:00:00 1970 Return-Path: Received: from mails.dpdk.org (mails.dpdk.org [217.70.189.124]) by inbox.dpdk.org (Postfix) with ESMTP id 0CC83465B7 for ; Thu, 17 Apr 2025 16:32:48 +0200 (CEST) Received: from mails.dpdk.org (localhost [127.0.0.1]) by mails.dpdk.org (Postfix) with ESMTP id 08A06400D6; Thu, 17 Apr 2025 16:32:48 +0200 (CEST) Received: from mail-yw1-f226.google.com (mail-yw1-f226.google.com [209.85.128.226]) by mails.dpdk.org (Postfix) with ESMTP id B93FA400D5 for ; Thu, 17 Apr 2025 16:32:46 +0200 (CEST) Received: by mail-yw1-f226.google.com with SMTP id 00721157ae682-6fda22908d9so5913687b3.1 for ; Thu, 17 Apr 2025 07:32:46 -0700 (PDT) DKIM-Signature: v=1; a=rsa-sha256; c=relaxed/relaxed; d=iol.unh.edu; s=unh-iol; t=1744900366; x=1745505166; darn=dpdk.org; h=references:in-reply-to:cc:to:from:subject:message-id:date:from:to :cc:subject:date:message-id:reply-to; bh=C2pu8o1qEuHDOgaOQ8Glb5oVKi0NdgMrZa0PfFPVkzQ=; b=YWNqfYQIz/BMtyTREl5qmLJurKWHH918ytOFiwVgIHegDs/P5+4p9izUvp0CzF2orr g4qmYhunGfMkag1lyeWktGpmt05+FJ8W8Lt4rM8sj7/m7od6iU5PgLuBd351R6phCey9 TMXyWcFUCF1g9NrLVeR+GJZUjEazhDuOQtKc8= X-Google-DKIM-Signature: v=1; a=rsa-sha256; c=relaxed/relaxed; d=1e100.net; s=20230601; t=1744900366; x=1745505166; h=references:in-reply-to:cc:to:from:subject:message-id:date :x-gm-message-state:from:to:cc:subject:date:message-id:reply-to; bh=C2pu8o1qEuHDOgaOQ8Glb5oVKi0NdgMrZa0PfFPVkzQ=; b=kqHE4Jeu4N5nhw4wRCzVlXWLCAEqpk4/yvyyMoV57OwG8hAs7f3gjOtpqxqas7MM1z 1IPOlipgISnh2jGMwFgggQ6gUiQzydrXDAGRTJdyX4YDzCOMG/90pSsSni22xp3OCmt7 bCMa95EbD74MpoR+8rJlEN5wBul2w5/jJsDvRHC+jnYt85XW9E1P1Ob0sE9R5p9UozM1 fkIViQ/a+ifvlD+dEZ0HwUFXQj1JlJPbn49LxABclAl1/bpFCA5UaBrxCgynmCdEpMyj X/3NnaB4MnPXg/zJhAIBu7Q6fN6+KTVf4pAl2KZZdMp2EJozBiIlIDgvW7UmlvGnsZ91 Tfaw== X-Gm-Message-State: AOJu0YwhdKiAIXunyhDvs92mK4qDbRunIgi8s3u+WcU0Nl86/H/U4qJ5 R4Y0PmzCbgo9OqzhANVBoYx9kkYOyFB1W39A/UsCjZ6AmTtCpdVsg4ZWxPTAHArZbkbSQyC0TAl mlQcpcGe1SkE49T0wgVQI0nIovi+bN1taPzhB3EUbe04N9b5TQoBxU99Q X-Gm-Gg: ASbGncvHgWdUWjIXHpudXfhN9rmuThVKnvABWZKv/LGzpe2N6QcRC/w7eSsKZ5yjwpl 8YAYXxxUze5DtY8aJaBMLG7YzwIP15DethBtgxRscEPgLcD45O/fhcDlV7CmbhkMdrsuNSc7o00 53FTnQ3t9p5itrfiW4Y+lGx6OUu0+pNK9laPrfL2rTpRhBDExygZ2rg6A4sAaFGOwbpZ7ciUpMR FusLudC/zbqT2gdSLHABY5zgwqmoeRVXmKV6oV5LFKKVeNXGNBHCMRI9nR2bfJLNwvM7bBVTCMn OUp7eKZF5ID99ycNlWv6/aWrSLecm4b6K6Dz3p5AGW6r1h8J X-Google-Smtp-Source: AGHT+IHjVujIKxe2hf6vJxkGk/LI+8UYHe8HvS+yjYt5JXlJUBskR4pVMQVH4YmJ0VQfwcsumDjpqeDC7Mzz X-Received: by 2002:a05:690c:4d06:b0:702:627c:94ec with SMTP id 00721157ae682-706b3392808mr87770147b3.35.1744900366162; Thu, 17 Apr 2025 07:32:46 -0700 (PDT) Received: from postal.iol.unh.edu (postal.iol.unh.edu. [2606:4100:3880:1234::84]) by smtp-relay.gmail.com with ESMTPS id 00721157ae682-706ca5ceb07sm2937b3.58.2025.04.17.07.32.46 (version=TLS1_2 cipher=ECDHE-ECDSA-AES128-GCM-SHA256 bits=128/128); Thu, 17 Apr 2025 07:32:46 -0700 (PDT) X-Relaying-Domain: iol.unh.edu Date: Thu, 17 Apr 2025 07:32:46 -0700 (PDT) Message-ID: <6801110e.050a0220.3651ab.003dSMTPIN_ADDED_MISSING@mx.google.com> Received: from [172.21.0.5] (unknown [172.18.0.240]) by postal.iol.unh.edu (Postfix) with ESMTP id B98DD6052471; Thu, 17 Apr 2025 10:32:45 -0400 (EDT) Subject: |SUCCESS| pw153010 [PATCH] [v2] net: fix GTP packet parsing From: dpdklab@iol.unh.edu To: Test Report Cc: dpdk-test-reports@iol.unh.edu In-Reply-To: <20250417123739.2291519-1-huangdengdui@huawei.com> References: <20250417123739.2291519-1-huangdengdui@huawei.com> Content-Type: text/plain X-BeenThere: test-report@dpdk.org X-Mailman-Version: 2.1.29 Precedence: list List-Id: automatic DPDK test reports List-Unsubscribe: , List-Archive: List-Post: List-Help: List-Subscribe: , Errors-To: test-report-bounces@dpdk.org Test-Label: iol-sample-apps-testing Test-Status: SUCCESS http://dpdk.org/patch/153010 _Testing PASS_ Submitter: Dengdui Huang Date: Thursday, April 17 2025 12:37:39 DPDK git baseline: Repo:dpdk Branch: master CommitID:ca1690ebd224f148268285b15b97441ccdbdd07e 153010 --> testing pass Upstream job id: ACVP-FIPS-testing#9571 Test environment and result as below: +--------------------+----------------------+----------------------+ | Environment | compressdev_zlib_pmd | dpdk_fips_validation | +====================+======================+======================+ | Ubuntu 22.04 (ARM) | PASS | SKIPPED | +--------------------+----------------------+----------------------+ | Ubuntu 22.04 | PASS | SKIPPED | +--------------------+----------------------+----------------------+ | Ubuntu 20.04 | SKIPPED | PASS | +--------------------+----------------------+----------------------+ Ubuntu 22.04 (ARM) Kernel: 5.15.0-97-generic Compiler: gcc gcc (Ubuntu 11.4.0-1ubuntu1~22.04) 11.4.0 Ubuntu 22.04 Kernel: 5.15.0-100-generic Compiler: gcc gcc (Ubuntu 11.4.0-1ubuntu1~22.04) 11.4.0 Ubuntu 20.04 Kernel: Depends on container host Compiler: gcc (Ubuntu 9.4.0-1ubuntu1~20.04.2) 9.4.0 To view detailed results, visit: https://lab.dpdk.org/results/dashboard/patchsets/33028/ UNH-IOL DPDK Community Lab To manage your email subscriptions, visit: https://lab.dpdk.org/results/dashboard/preferences/subscriptions/