From mboxrd@z Thu Jan  1 00:00:00 1970
Return-Path: <test-report-bounces@dpdk.org>
Received: from mails.dpdk.org (mails.dpdk.org [217.70.189.124])
	by inbox.dpdk.org (Postfix) with ESMTP id AD84D465BB
	for <public@inbox.dpdk.org>; Fri, 18 Apr 2025 03:26:07 +0200 (CEST)
Received: from mails.dpdk.org (localhost [127.0.0.1])
	by mails.dpdk.org (Postfix) with ESMTP id 7D01B400D6;
	Fri, 18 Apr 2025 03:26:07 +0200 (CEST)
Received: from mail-pj1-f99.google.com (mail-pj1-f99.google.com
 [209.85.216.99]) by mails.dpdk.org (Postfix) with ESMTP id 38737400D5
 for <test-report@dpdk.org>; Fri, 18 Apr 2025 03:26:06 +0200 (CEST)
Received: by mail-pj1-f99.google.com with SMTP id
 98e67ed59e1d1-30332dfc820so1493422a91.2
 for <test-report@dpdk.org>; Thu, 17 Apr 2025 18:26:06 -0700 (PDT)
DKIM-Signature: v=1; a=rsa-sha256; c=relaxed/relaxed;
 d=iol.unh.edu; s=unh-iol; t=1744939565; x=1745544365; darn=dpdk.org;
 h=cc:to:from:subject:message-id:date:from:to:cc:subject:date
 :message-id:reply-to;
 bh=+HBSleisSA7SssKgqRyyrj03KfR79wepFdNRXIteHHU=;
 b=TRu4U3b2KHh7PI5AoOjJfRkdU3IbN//oujX7LQg8yaYjdhbm892Trc5lrgC7KcpIN4
 JJq2hZukWg/3ZAF76qIyR3qHhNFqW+Zo+yxHxyznjALxT6rjWQJPLjVrvbgSiPwtuHq3
 ceO0pRVJoZCJ/lb1Dn6GqVYy9uNyLxg062e+E=
X-Google-DKIM-Signature: v=1; a=rsa-sha256; c=relaxed/relaxed;
 d=1e100.net; s=20230601; t=1744939565; x=1745544365;
 h=cc:to:from:subject:message-id:date:x-gm-message-state:from:to:cc
 :subject:date:message-id:reply-to;
 bh=+HBSleisSA7SssKgqRyyrj03KfR79wepFdNRXIteHHU=;
 b=v3BFk09Drz4qeDpPWNckOY2HOHqzFUIFMB0OxNRNxDeMbwoyRJmnip/IAGPLQIAuAW
 CZb/gqPZaA5mZP0rCbusxOKTZVFl7HeqVHYdhW2Km+vKNTcaC097Yk/iLm93ft1yB/tx
 P51cHJOmzrR08KgOwz93GZb6cl7oGilxy41ysdc1RT8Vt19PDIjUEfI6o1uOHHtO/VUl
 ZxBq97nXPV8mTJhrZ1eZopxwKtj68/Ew7Ug3hL/YV2G4qrr9KCMMidmayDe/y3qmAE52
 9G0U2neTeEpLj4Tc6a71x9PMyLqap0hbxy+t4SsVpEr//19kU11bZpX5fVkDqHozWARc
 g/zQ==
X-Gm-Message-State: AOJu0YzJqf00fHngDNCL6e1plEMhPRH9ZswVlnmFadkuxxxnCBy8zA5v
 SwGKOvSNIfAbVU7wGH1oHi6JO02GKpd5YwIAuSFB/GNeX/Jd6WgoI8PiyKwwcabwCHu7np8ich5
 CG0DgSRgX7vfuCLxoGBXp8PTHKTk0LeAYjh0qP71C5DI7TXXSYo6OzLTF
X-Gm-Gg: ASbGncsckYpFg+q3Pw7XULol512Uoik5fHtIwXx5nPIfp+DSIx+UfLY+Lji+pdRuCga
 SnyKAEhucfKvdooxS43TH4Tfag4oHUFxWxdDHtBNOBeq3xy+31eEB8JqWRME2UijXNM5m7KJgSf
 lHghh496WGyLhQejAvOh4gbIblc4kGtwtoU/3S8+z+j8/0WEJ0SHvasnPtJ7WXIjfhTABCfYc3V
 /RwDq5rEBQLMaREQ5EJUTqBEOoF1LLWaWLLbuqVqw2NBX2J9kG+1ER3Vu42UvIGGBtckW179yOj
 8ZJNgzmg0abwtKPp3z555/Pm6pg5l6QDfVyR6VjqiSLZsJ6G
X-Google-Smtp-Source: AGHT+IHAQyJ925AFZHHRzPc4g5EWDxhYwvX+i66tEsqVCH05DmMMhWqaSNemb5FvsKIkGtdUWfaEpKWcYQal
X-Received: by 2002:a17:90b:4b89:b0:308:65d4:9dda with SMTP id
 98e67ed59e1d1-3087bb6e794mr1722584a91.16.1744939565068; 
 Thu, 17 Apr 2025 18:26:05 -0700 (PDT)
Received: from postal.iol.unh.edu (postal.iol.unh.edu.
 [2606:4100:3880:1234::84]) by smtp-relay.gmail.com with ESMTPS id
 98e67ed59e1d1-3087df0aa96sm11495a91.5.2025.04.17.18.26.04
 (version=TLS1_2 cipher=ECDHE-ECDSA-AES128-GCM-SHA256 bits=128/128);
 Thu, 17 Apr 2025 18:26:05 -0700 (PDT)
X-Relaying-Domain: iol.unh.edu
Date: Thu, 17 Apr 2025 18:26:05 -0700 (PDT)
Message-ID: <6801aa2d.170a0220.2edad.0c9bSMTPIN_ADDED_MISSING@mx.google.com>
Received: from [172.17.0.3] (unknown [172.18.0.217])
 by postal.iol.unh.edu (Postfix) with ESMTP id 31FE06052471;
 Thu, 17 Apr 2025 21:26:04 -0400 (EDT)
Subject: |SUCCESS| [GIT MASTER] ca1690ebd224f148268285b15b97441ccdbdd07e
From: dpdklab@iol.unh.edu
To: Test Report <test-report@dpdk.org>
Cc: dpdk-test-reports@iol.unh.edu
Content-Type: text/plain
X-BeenThere: test-report@dpdk.org
X-Mailman-Version: 2.1.29
Precedence: list
List-Id: automatic DPDK test reports <test-report.dpdk.org>
List-Unsubscribe: <https://mails.dpdk.org/options/test-report>,
 <mailto:test-report-request@dpdk.org?subject=unsubscribe>
List-Archive: <http://mails.dpdk.org/archives/test-report/>
List-Post: <mailto:test-report@dpdk.org>
List-Help: <mailto:test-report-request@dpdk.org?subject=help>
List-Subscribe: <https://mails.dpdk.org/listinfo/test-report>,
 <mailto:test-report-request@dpdk.org?subject=subscribe>
Errors-To: test-report-bounces@dpdk.org

_Testing PASS_

Branch: dpdk

ca1690ebd224f148268285b15b97441ccdbdd07e --> testing pass

Upstream job id: Generic-DPDK-Compile-ABI#123709

Test environment and result as below:

+-------------------+----------+
|    Environment    | abi_test |
+===================+==========+
| Debian 12         | PASS     |
+-------------------+----------+
| CentOS Stream 10  | PASS     |
+-------------------+----------+
| Fedora 40 (Clang) | PASS     |
+-------------------+----------+
| openSUSE Leap 15  | PASS     |
+-------------------+----------+
| CentOS Stream 9   | PASS     |
+-------------------+----------+
| Fedora 41 (Clang) | PASS     |
+-------------------+----------+
| Fedora 41         | PASS     |
+-------------------+----------+
| Fedora 40         | PASS     |
+-------------------+----------+
| Ubuntu 24.04      | PASS     |
+-------------------+----------+
| RHEL8             | PASS     |
+-------------------+----------+
| RHEL9             | PASS     |
+-------------------+----------+
| Arch Linux        | PASS     |
+-------------------+----------+
| Ubuntu 22.04      | PASS     |
+-------------------+----------+


Debian 12
	Kernel: Depends on container host
	Compiler: gcc (Debian 12.2.0-14) 12.2.0

CentOS Stream 10
	Kernel: Depends on container host
	Compiler: gcc 14.2.1 20241104 (Red Hat 14.2.1-6)

Fedora 40 (Clang)
	Kernel: Depends on container host
	Compiler: clang 18.1.8 (Fedora 18.1.8-1.fc40)

openSUSE Leap 15
	Kernel: Depends on container host
	Compiler: gcc (SUSE Linux) 7.5.0

CentOS Stream 9
	Kernel: Depends on container host
	Compiler: gcc 11.5.0 20240719 (Red Hat 11.5.0-2)

Fedora 41 (Clang)
	Kernel: Depends on container host
	Compiler: clang 19.1.5 (Fedora 19.1.5-1.fc41)

Fedora 41
	Kernel: Depends on container host
	Compiler: gcc 14.2.1 20240912 (Red Hat 14.2.1-3)

Fedora 40
	Kernel: Depends on container host
	Compiler: gcc 14.2.1 20240912 (Red Hat 14.2.1-3)

Ubuntu 24.04
	Kernel: Depends on container host
	Compiler: gcc (Ubuntu 13.3.0-6ubuntu2~24.04) 13.3.0

RHEL8
	Kernel: Depends on container host
	Compiler: gcc 8.5.0 20210514 (Red Hat 8.5.0-22)

RHEL9
	Kernel: Depends on container host
	Compiler: gcc 11.5.0 20240719 (Red Hat 11.5.0-2)

Arch Linux
	Kernel: Depends on container host
	Compiler: gcc 14.2.1 20240910

Ubuntu 22.04
	Kernel: Depends on container host
	Compiler: gcc (Ubuntu 11.4.0-1ubuntu1~22.04) 11.4.0

To view detailed results, visit:
https://lab.dpdk.org/results/dashboard/tarballs/33291/

UNH-IOL DPDK Community Lab

To manage your email subscriptions, visit: 
https://lab.dpdk.org/results/dashboard/preferences/subscriptions/