From mboxrd@z Thu Jan  1 00:00:00 1970
Return-Path: <test-report-bounces@dpdk.org>
Received: from mails.dpdk.org (mails.dpdk.org [217.70.189.124])
	by inbox.dpdk.org (Postfix) with ESMTP id E09FB465BD
	for <public@inbox.dpdk.org>; Fri, 18 Apr 2025 09:00:40 +0200 (CEST)
Received: from mails.dpdk.org (localhost [127.0.0.1])
	by mails.dpdk.org (Postfix) with ESMTP id 47C38400D6;
	Fri, 18 Apr 2025 09:00:40 +0200 (CEST)
Received: from mail-yw1-f225.google.com (mail-yw1-f225.google.com
 [209.85.128.225])
 by mails.dpdk.org (Postfix) with ESMTP id 344E2400D5
 for <test-report@dpdk.org>; Fri, 18 Apr 2025 09:00:38 +0200 (CEST)
Received: by mail-yw1-f225.google.com with SMTP id
 00721157ae682-6f6ca9a3425so17408797b3.2
 for <test-report@dpdk.org>; Fri, 18 Apr 2025 00:00:38 -0700 (PDT)
DKIM-Signature: v=1; a=rsa-sha256; c=relaxed/relaxed;
 d=iol.unh.edu; s=unh-iol; t=1744959637; x=1745564437; darn=dpdk.org;
 h=cc:to:from:subject:message-id:date:from:to:cc:subject:date
 :message-id:reply-to;
 bh=d/L0u19Pj/KXNOeW7c9c2Eg2BCpXNluCCfu4b2G+Vjs=;
 b=dGlp36eRblAo6Wb+JXd5cvE6G7pYq0HWyhqys8UQQhZnDpfAPpySVnPIa3vIRg5wTG
 TEopjtTdy0o4Iw9imIiBv+FU/M840a+XteKhnTA6BC9DT0Ol3obbI533ifke8JFGM00c
 NPhNABeKEjLPzcbqWG3NPuKio7oZcgf2IG6I8=
X-Google-DKIM-Signature: v=1; a=rsa-sha256; c=relaxed/relaxed;
 d=1e100.net; s=20230601; t=1744959637; x=1745564437;
 h=cc:to:from:subject:message-id:date:x-gm-message-state:from:to:cc
 :subject:date:message-id:reply-to;
 bh=d/L0u19Pj/KXNOeW7c9c2Eg2BCpXNluCCfu4b2G+Vjs=;
 b=pbr4FtvJFupZqkmrmziJ9chKKnU416c8LhMNJtdzTwxOFLMKYqiz8bJ2dyZbc5l6dQ
 uFwiPPSfW44g1yABTa9cEf8Q7NKjGAdz53voj7y8FkTZr4yd7nOg/sf3gXxpYIn3DtlV
 vleKt7+xVDEw4cpDUVmZe1dudR94oW2fbsK8bcO6+8wEAJHh6lzb8gY51znRm76PkMdT
 NQCScrQ3KakHXuUResf3RoAFF89VtdoOMLuaV2/id2ydmNNaJQIuiJ0tf1aya9zK9Q8j
 PlvVHSHhDuraEu5NQcVx/Jmk7JgDdZCJOrR+AtGdQ2tzq7OUXbkLy9WzBa2OabkgteaV
 Zq6Q==
X-Gm-Message-State: AOJu0YzFOHhPg0GADxAaSy1oyinKDrw/+3WXKEzRrhoBK+/YDnDqX6Rw
 RxJs/YjtUVVVS2nLnt9gKnVjmFDELXwgQtRlWfdV6gJTrPn1r0dM5oR04JsdGY4f5dtLgmq+qqy
 fVEqPhhSCU2H6fYhJ92+oQpz7esC/9WMm
X-Gm-Gg: ASbGncu9AvYF8Ya0Id2DedaCnu4LcwgucxLFp0ONi6lwNfZIXr2slCSOG1lJxUAfGIr
 olWmBBKI+z1SYTPA4P1whgEQzb14UK3P5T5HmwX2s6GrbVZDb4PE5Xii+rn1LHLYgXq/HLD+Bvp
 HMA17mpVgQXtSEnBfSp9jlbyit9lK2i2kUB4GG82iHznSxtLMZ+2G77tEKh0DRjXLF1S+QvmSdB
 FM0qQSO1lunc3Uxk5T7yGCJwqHCtCuwfgD416ZKCP2afoafLUn+9mMoGYDV8UENg63oALVUo5lm
 VDLzCCkegoVxJsgDX6uDAELoZ2cQgTaN5nVp
X-Google-Smtp-Source: AGHT+IF3QTajn7PStmTBqJbdlzRs6GGNkYIQ3dpxDprTC+Rzl0dOgV8hkcgsA/1iVT5/bkc2uKqoyifRdKGk
X-Received: by 2002:a05:690c:6801:b0:705:750d:c359 with SMTP id
 00721157ae682-706cce122a0mr25021607b3.32.1744959637547; 
 Fri, 18 Apr 2025 00:00:37 -0700 (PDT)
Received: from postal.iol.unh.edu (postal.iol.unh.edu. [132.177.123.84])
 by smtp-relay.gmail.com with ESMTPS id
 00721157ae682-706ca49bfc0sm474087b3.23.2025.04.18.00.00.37
 (version=TLS1_2 cipher=ECDHE-ECDSA-AES128-GCM-SHA256 bits=128/128);
 Fri, 18 Apr 2025 00:00:37 -0700 (PDT)
X-Relaying-Domain: iol.unh.edu
Date: Fri, 18 Apr 2025 00:00:37 -0700 (PDT)
Message-ID: <6801f895.050a0220.cbbae.2b68SMTPIN_ADDED_MISSING@mx.google.com>
Received: from [172.21.0.5] (unknown [172.18.0.240])
 by postal.iol.unh.edu (Postfix) with ESMTP id B0ED36052471;
 Fri, 18 Apr 2025 03:00:34 -0400 (EDT)
Subject: |SUCCESS| [GIT MASTER] 4401486b5e30d43a134f80f9802f60b5f43e74a8
From: dpdklab@iol.unh.edu
To: Test Report <test-report@dpdk.org>
Cc: dpdk-test-reports@iol.unh.edu, Xueming Li <xuemingl@nvidia.com>,
 Christian Ehrhardt <christian.ehrhardt@canonical.com>,
 Kevin Traynor <ktraynor@redhat.com>, Luca Boccassi <bluca@debian.org>
Content-Type: text/plain
X-BeenThere: test-report@dpdk.org
X-Mailman-Version: 2.1.29
Precedence: list
List-Id: automatic DPDK test reports <test-report.dpdk.org>
List-Unsubscribe: <https://mails.dpdk.org/options/test-report>,
 <mailto:test-report-request@dpdk.org?subject=unsubscribe>
List-Archive: <http://mails.dpdk.org/archives/test-report/>
List-Post: <mailto:test-report@dpdk.org>
List-Help: <mailto:test-report-request@dpdk.org?subject=help>
List-Subscribe: <https://mails.dpdk.org/listinfo/test-report>,
 <mailto:test-report-request@dpdk.org?subject=subscribe>
Errors-To: test-report-bounces@dpdk.org

_Testing PASS_

Branch: tags/v22.11

4401486b5e30d43a134f80f9802f60b5f43e74a8 --> testing pass

Upstream job id: Generic-DPDK-Compile-ABI#123739

Test environment and result as below:

+-------------------+----------+
|    Environment    | abi_test |
+===================+==========+
| CentOS Stream 9   | PASS     |
+-------------------+----------+
| CentOS Stream 10  | PASS     |
+-------------------+----------+
| Debian 12         | PASS     |
+-------------------+----------+
| Fedora 41         | PASS     |
+-------------------+----------+
| RHEL9             | PASS     |
+-------------------+----------+
| openSUSE Leap 15  | PASS     |
+-------------------+----------+
| Fedora 40 (Clang) | PASS     |
+-------------------+----------+
| Ubuntu 22.04      | PASS     |
+-------------------+----------+
| Fedora 40         | PASS     |
+-------------------+----------+
| Ubuntu 24.04      | PASS     |
+-------------------+----------+
| RHEL8             | PASS     |
+-------------------+----------+
| Fedora 41 (Clang) | PASS     |
+-------------------+----------+


CentOS Stream 9
	Kernel: Depends on container host
	Compiler: gcc 11.5.0 20240719 (Red Hat 11.5.0-2)

CentOS Stream 10
	Kernel: Depends on container host
	Compiler: gcc 14.2.1 20241104 (Red Hat 14.2.1-6)

Debian 12
	Kernel: Depends on container host
	Compiler: gcc (Debian 12.2.0-14) 12.2.0

Fedora 41
	Kernel: Depends on container host
	Compiler: gcc 14.2.1 20240912 (Red Hat 14.2.1-3)

RHEL9
	Kernel: Depends on container host
	Compiler: gcc 11.5.0 20240719 (Red Hat 11.5.0-2)

openSUSE Leap 15
	Kernel: Depends on container host
	Compiler: gcc (SUSE Linux) 7.5.0

Fedora 40 (Clang)
	Kernel: Depends on container host
	Compiler: clang 18.1.8 (Fedora 18.1.8-1.fc40)

Ubuntu 22.04
	Kernel: Depends on container host
	Compiler: gcc (Ubuntu 11.4.0-1ubuntu1~22.04) 11.4.0

Fedora 40
	Kernel: Depends on container host
	Compiler: gcc 14.2.1 20240912 (Red Hat 14.2.1-3)

Ubuntu 24.04
	Kernel: Depends on container host
	Compiler: gcc (Ubuntu 13.3.0-6ubuntu2~24.04) 13.3.0

RHEL8
	Kernel: Depends on container host
	Compiler: gcc 8.5.0 20210514 (Red Hat 8.5.0-22)

Fedora 41 (Clang)
	Kernel: Depends on container host
	Compiler: clang 19.1.5 (Fedora 19.1.5-1.fc41)

To view detailed results, visit:
https://lab.dpdk.org/results/dashboard/tarballs/33294/

UNH-IOL DPDK Community Lab

To manage your email subscriptions, visit: 
https://lab.dpdk.org/results/dashboard/preferences/subscriptions/