From mboxrd@z Thu Jan  1 00:00:00 1970
Return-Path: <test-report-bounces@dpdk.org>
Received: from mails.dpdk.org (mails.dpdk.org [217.70.189.124])
	by inbox.dpdk.org (Postfix) with ESMTP id 0FFDB465C2
	for <public@inbox.dpdk.org>; Fri, 18 Apr 2025 14:35:38 +0200 (CEST)
Received: from mails.dpdk.org (localhost [127.0.0.1])
	by mails.dpdk.org (Postfix) with ESMTP id D5638402E2;
	Fri, 18 Apr 2025 14:35:37 +0200 (CEST)
Received: from mail-io1-f98.google.com (mail-io1-f98.google.com
 [209.85.166.98]) by mails.dpdk.org (Postfix) with ESMTP id 2B779402DD
 for <test-report@dpdk.org>; Fri, 18 Apr 2025 14:35:37 +0200 (CEST)
Received: by mail-io1-f98.google.com with SMTP id
 ca18e2360f4ac-861d7a09c88so32703439f.2
 for <test-report@dpdk.org>; Fri, 18 Apr 2025 05:35:37 -0700 (PDT)
DKIM-Signature: v=1; a=rsa-sha256; c=relaxed/relaxed;
 d=iol.unh.edu; s=unh-iol; t=1744979736; x=1745584536; darn=dpdk.org;
 h=cc:to:from:subject:message-id:date:from:to:cc:subject:date
 :message-id:reply-to;
 bh=+YscFAdmHR59ug+MwueXOVQ1djZvquFouRl2DbMYPkc=;
 b=baS6j/56t0qSi8RHE0CNmUbUKUegWqrWjp8M8NPbf7KAAe1S9G6TCqxwzdTbwLwFMH
 f+ehCZdOWQDNmYkZXQ5J4bGva+Trz6V6GCyIf9lijhrLcRDNj0Wq7yD9T53PrSjDIWc+
 Blexer7gGuPq8JV28RbSXBoXTuca5whT7zaQQ=
X-Google-DKIM-Signature: v=1; a=rsa-sha256; c=relaxed/relaxed;
 d=1e100.net; s=20230601; t=1744979736; x=1745584536;
 h=cc:to:from:subject:message-id:date:x-gm-message-state:from:to:cc
 :subject:date:message-id:reply-to;
 bh=+YscFAdmHR59ug+MwueXOVQ1djZvquFouRl2DbMYPkc=;
 b=m+NIua7x0V3tT4CbrOKpXqYjL+/Vpr4rRxMeGTH3xd02smV7L3i33T9ZcjCH+6eb43
 ghDQYzQ/1Shr7aoDprFlwFMZH4sgNEWeE67CoVUEgmy4muRe6pUN8tL8Zo1TjTCPM1RA
 6laRabNv8NG1uwpZ3IRWVYwJsH3Gy2YpRXVNmX1oJhAskarGmV4QcjkQDL5Ztc+TLVui
 pDtnRq2irl6SCkWmeXpGG7HjB0QRmBARxAuCovfmXv7M5/J8jxqf+FyqUKvOyzJj7KFh
 HGWZtdbLI4DplKl6ll9Zk689Bzcas+MnvrtdGC5c+7xgO/0ob5F10KP5F2Sk4e85G3Kg
 gPgQ==
X-Gm-Message-State: AOJu0YzXZobvq5kl0D9hOoGdFAxCRjhYAm+JNQh6eggR8Pm/6XKMG4N3
 +uearIAXbeIfRHlY79J0OJfA/GvM91QZCtobsyc+QeAfpX3C0ahGXHTq/a6AaRCbIpvZlBzDkP9
 fGcq46LEZmwluHJE7czDwh7Q+CwUf7uNAKsAXVXUS
X-Gm-Gg: ASbGncudvNTX0EkIpmCbJzloBrViwdwcpI6NxJ+48qSDk6whqTvQ2mG/cL+epD1wImA
 LttQqEv9PzlKb9XxOApKGGBRl3lTOh4HVjfFtVaX45c8yZNfMbzKp9N/1D9DTuQv+Y0t4f8llz/
 9mKPFhZabbTtoXuiSCwjcTfQ2zX4lPIA9tFNOF9aFE5OzafT2/LsOgPjF9kBeiJwyCbWISgwNbO
 tI7aK+FIuN3+MnaPNva2BYlAeB9Uwosgl6TY2xwezhkIp8p8db67ZBJuUzicDGpOutSjtGVr1vF
 bMecup195VT7sf12Z39zhM5mIaoHxn3kyzGo
X-Google-Smtp-Source: AGHT+IGGszEadBkWwTjDT2+2+HP2x3Llw21znvkeCGkCe65Ops1eUmujfqwgaSkN0pDYFeB17AIH3C4dDBHD
X-Received: by 2002:a05:6602:3e99:b0:861:7d41:1042 with SMTP id
 ca18e2360f4ac-861dbe29a31mr267751139f.4.1744979736220; 
 Fri, 18 Apr 2025 05:35:36 -0700 (PDT)
Received: from postal.iol.unh.edu (postal.iol.unh.edu. [132.177.123.84])
 by smtp-relay.gmail.com with ESMTPS id
 8926c6da1cb9f-4f6a383e5c4sm78030173.34.2025.04.18.05.35.36
 (version=TLS1_2 cipher=ECDHE-ECDSA-AES128-GCM-SHA256 bits=128/128);
 Fri, 18 Apr 2025 05:35:36 -0700 (PDT)
X-Relaying-Domain: iol.unh.edu
Date: Fri, 18 Apr 2025 05:35:36 -0700 (PDT)
Message-ID: <68024718.050a0220.28f825.473fSMTPIN_ADDED_MISSING@mx.google.com>
Received: from [172.17.0.6] (unknown [172.18.0.217])
 by postal.iol.unh.edu (Postfix) with ESMTP id 7A9286052471;
 Fri, 18 Apr 2025 08:35:33 -0400 (EDT)
Subject: |SUCCESS| [GIT MASTER] 8ab833fa810b00802c882c6612f8543e1329d563
From: dpdklab@iol.unh.edu
To: Test Report <test-report@dpdk.org>
Cc: dpdk-test-reports@iol.unh.edu,
 Stephen Hemminger <stephen@networkplumber.org>
Content-Type: text/plain
X-BeenThere: test-report@dpdk.org
X-Mailman-Version: 2.1.29
Precedence: list
List-Id: automatic DPDK test reports <test-report.dpdk.org>
List-Unsubscribe: <https://mails.dpdk.org/options/test-report>,
 <mailto:test-report-request@dpdk.org?subject=unsubscribe>
List-Archive: <http://mails.dpdk.org/archives/test-report/>
List-Post: <mailto:test-report@dpdk.org>
List-Help: <mailto:test-report-request@dpdk.org?subject=help>
List-Subscribe: <https://mails.dpdk.org/listinfo/test-report>,
 <mailto:test-report-request@dpdk.org?subject=subscribe>
Errors-To: test-report-bounces@dpdk.org

_Testing PASS_

Branch: dpdk-next-net

8ab833fa810b00802c882c6612f8543e1329d563 --> testing pass

Upstream job id: ACVP-FIPS-testing#9579

Test environment and result as below:

+--------------------+----------------------+----------------------+
|    Environment     | compressdev_zlib_pmd | dpdk_fips_validation |
+====================+======================+======================+
| Ubuntu 22.04 (ARM) | PASS                 | SKIPPED              |
+--------------------+----------------------+----------------------+
| Ubuntu 22.04       | PASS                 | SKIPPED              |
+--------------------+----------------------+----------------------+
| Ubuntu 20.04       | SKIPPED              | PASS                 |
+--------------------+----------------------+----------------------+


Ubuntu 22.04 (ARM)
	Kernel: 5.15.0-97-generic
	Compiler: gcc gcc (Ubuntu 11.4.0-1ubuntu1~22.04) 11.4.0

Ubuntu 22.04
	Kernel: 5.15.0-100-generic
	Compiler: gcc gcc (Ubuntu 11.4.0-1ubuntu1~22.04) 11.4.0

Ubuntu 20.04
	Kernel: Depends on container host
	Compiler: gcc (Ubuntu 9.4.0-1ubuntu1~20.04.2) 9.4.0

To view detailed results, visit:
https://lab.dpdk.org/results/dashboard/tarballs/33296/

UNH-IOL DPDK Community Lab

To manage your email subscriptions, visit: 
https://lab.dpdk.org/results/dashboard/preferences/subscriptions/