From mboxrd@z Thu Jan  1 00:00:00 1970
Return-Path: <test-report-bounces@dpdk.org>
Received: from mails.dpdk.org (mails.dpdk.org [217.70.189.124])
	by inbox.dpdk.org (Postfix) with ESMTP id 4E14E465C2
	for <public@inbox.dpdk.org>; Fri, 18 Apr 2025 15:03:33 +0200 (CEST)
Received: from mails.dpdk.org (localhost [127.0.0.1])
	by mails.dpdk.org (Postfix) with ESMTP id 49397402D2;
	Fri, 18 Apr 2025 15:03:33 +0200 (CEST)
Received: from mail-io1-f97.google.com (mail-io1-f97.google.com
 [209.85.166.97]) by mails.dpdk.org (Postfix) with ESMTP id 07FE240263
 for <test-report@dpdk.org>; Fri, 18 Apr 2025 15:03:32 +0200 (CEST)
Received: by mail-io1-f97.google.com with SMTP id
 ca18e2360f4ac-86135ac9542so58892939f.1
 for <test-report@dpdk.org>; Fri, 18 Apr 2025 06:03:31 -0700 (PDT)
DKIM-Signature: v=1; a=rsa-sha256; c=relaxed/relaxed;
 d=iol.unh.edu; s=unh-iol; t=1744981411; x=1745586211; darn=dpdk.org;
 h=references:in-reply-to:cc:to:from:subject:message-id:date:from:to
 :cc:subject:date:message-id:reply-to;
 bh=rj3lyeOuDv8sbeJ/zKqNRzdlkP1RBFilpiQjeSSqx0c=;
 b=NNb60GEY1hYQduFeBhs1/ucNb9lb5+8xY+EGOFIIzYNFR973smbTPu+rywGA0Z9fxX
 BcD9Bk9nOWMhpi19uhr8g3rKG54AnIVK4AdeQXMhjkExIROVKgr9J3RvOO2eb0G6Z3pB
 yWHiijrcjdJLXLruxdDExzJZbN+Jz5E5zYTNg=
X-Google-DKIM-Signature: v=1; a=rsa-sha256; c=relaxed/relaxed;
 d=1e100.net; s=20230601; t=1744981411; x=1745586211;
 h=references:in-reply-to:cc:to:from:subject:message-id:date
 :x-gm-message-state:from:to:cc:subject:date:message-id:reply-to;
 bh=rj3lyeOuDv8sbeJ/zKqNRzdlkP1RBFilpiQjeSSqx0c=;
 b=TyawjXet0lS4yFBzpsfvnEqFwaPtTQtRIUko3BvUMuLa10nl2DOXPY4CaPAcVAbNUg
 6lDSTnHPuVuwv3+f0MdGGHFgj7svdfkBPBfKrewC1zfk/Iyae0IB/L26zFqeS6ADV9A4
 d5g82ilrQ0gSYI/Cgq4DDhQNwUlzC73iTSjdswbMKVsPNhhqkTxyL80N93ilZ1jVT6ci
 XimyqYgjfOLo9/uC7tX8GTGUTwXxb2wBC7TyJu0EFEOlfDIQU+XD7h9TCWwWaFnOVkY2
 yd0kdgDOXjjGA8K4Fh6TWwbw/P6NksbcgPpP9DOGQahFBhF1zI8Z7Q19k+/ynNhIvgKi
 aRlg==
X-Gm-Message-State: AOJu0YzCD3UcE0P+S7cpFtPqnrGPEO3ltgQaMhrmdrcz6+ohbE5EHCxW
 nH2B/Ral7NTH+OZsXExcNYN+YIQNMuUC+ifUIyorYqqRR0I6P8APoHH+QSmM0m7sEGX+y6j2qRr
 RVZjHL1jmMCMgckf+pLcnfTk24P2zMyfBTWsZ/LJW
X-Gm-Gg: ASbGncs0TSo3HvuoTKZkfriNwUbNYX/vko6GTxwEUxbxz06YR4lg4AcA27I5UHexDs1
 IHUljOOB2XEYDRkcYM2ABF88IKfgn7DZQuIsDwAsZVOCQ3sCOevQ+JGgpiVtWLrGWA6HcqU5HVU
 thjT6lADLJdHTJxZ4ET6CIpo4p/z6sDIV5aM7jzTPtj5OAiwfJjS7ctxhQfNQ0yjfx4rtJUDJDB
 Fr2V181lLZQ3QgkndvgpQEO3LZVTulWf8JfVQQWXgGpYZA4chHC72HjabPFYnvuAQ/Weg9z4n/k
 OrRleG+P/eQsFsdoZl+/gWmeRIpVfY7lv9em
X-Google-Smtp-Source: AGHT+IEcBtDN6stTU/+LWko4U646fqT12SRqszep3hTRA08eAejBYo1F4YCG/rCDALvSWcXZT+aKPVEVHvm/
X-Received: by 2002:a05:6602:298d:b0:85b:3c49:8812 with SMTP id
 ca18e2360f4ac-861dbee921fmr207875739f.8.1744981410951; 
 Fri, 18 Apr 2025 06:03:30 -0700 (PDT)
Received: from postal.iol.unh.edu (postal.iol.unh.edu. [132.177.123.84])
 by smtp-relay.gmail.com with ESMTPS id
 8926c6da1cb9f-4f6a37ce092sm84733173.5.2025.04.18.06.03.30
 (version=TLS1_2 cipher=ECDHE-ECDSA-AES128-GCM-SHA256 bits=128/128);
 Fri, 18 Apr 2025 06:03:30 -0700 (PDT)
X-Relaying-Domain: iol.unh.edu
Date: Fri, 18 Apr 2025 06:03:30 -0700 (PDT)
Message-ID: <68024da2.050a0220.15b7f.4e0aSMTPIN_ADDED_MISSING@mx.google.com>
Received: from [172.17.0.3] (unknown [172.18.0.217])
 by postal.iol.unh.edu (Postfix) with ESMTP id 770196052471;
 Fri, 18 Apr 2025 09:03:30 -0400 (EDT)
Subject: |SUCCESS| pw153016 [PATCH] net/ixgbe: fix port mask default value in
From: dpdklab@iol.unh.edu
To: Test Report <test-report@dpdk.org>
Cc: dpdk-test-reports@iol.unh.edu
In-Reply-To: <20250418074309.705337-1-yuanx.wang@intel.com>
References: <20250418074309.705337-1-yuanx.wang@intel.com>
Content-Type: text/plain
X-BeenThere: test-report@dpdk.org
X-Mailman-Version: 2.1.29
Precedence: list
List-Id: automatic DPDK test reports <test-report.dpdk.org>
List-Unsubscribe: <https://mails.dpdk.org/options/test-report>,
 <mailto:test-report-request@dpdk.org?subject=unsubscribe>
List-Archive: <http://mails.dpdk.org/archives/test-report/>
List-Post: <mailto:test-report@dpdk.org>
List-Help: <mailto:test-report-request@dpdk.org?subject=help>
List-Subscribe: <https://mails.dpdk.org/listinfo/test-report>,
 <mailto:test-report-request@dpdk.org?subject=subscribe>
Errors-To: test-report-bounces@dpdk.org

Test-Label: iol-sample-apps-testing
Test-Status: SUCCESS
http://dpdk.org/patch/153016

_Testing PASS_

Submitter: Yuan Wang <yuanx.wang@intel.com>
Date: Friday, April 18 2025 07:43:09 
DPDK git baseline: Repo:dpdk
  Branch: master
  CommitID:d7817c378fecd07c59360667f93c25dff4b1a145

153016 --> testing pass

Upstream job id: ACVP-FIPS-testing#9580

Test environment and result as below:

+--------------------+----------------------+----------------------+
|    Environment     | compressdev_zlib_pmd | dpdk_fips_validation |
+====================+======================+======================+
| Ubuntu 22.04 (ARM) | PASS                 | SKIPPED              |
+--------------------+----------------------+----------------------+
| Ubuntu 22.04       | PASS                 | SKIPPED              |
+--------------------+----------------------+----------------------+
| Ubuntu 20.04       | SKIPPED              | PASS                 |
+--------------------+----------------------+----------------------+


Ubuntu 22.04 (ARM)
	Kernel: 5.15.0-97-generic
	Compiler: gcc gcc (Ubuntu 11.4.0-1ubuntu1~22.04) 11.4.0

Ubuntu 22.04
	Kernel: 5.15.0-100-generic
	Compiler: gcc gcc (Ubuntu 11.4.0-1ubuntu1~22.04) 11.4.0

Ubuntu 20.04
	Kernel: Depends on container host
	Compiler: gcc (Ubuntu 9.4.0-1ubuntu1~20.04.2) 9.4.0

To view detailed results, visit:
https://lab.dpdk.org/results/dashboard/patchsets/33032/

UNH-IOL DPDK Community Lab

To manage your email subscriptions, visit: 
https://lab.dpdk.org/results/dashboard/preferences/subscriptions/