From mboxrd@z Thu Jan  1 00:00:00 1970
Return-Path: <test-report-bounces@dpdk.org>
Received: from mails.dpdk.org (mails.dpdk.org [217.70.189.124])
	by inbox.dpdk.org (Postfix) with ESMTP id E6CFE465C6
	for <public@inbox.dpdk.org>; Fri, 18 Apr 2025 23:07:57 +0200 (CEST)
Received: from mails.dpdk.org (localhost [127.0.0.1])
	by mails.dpdk.org (Postfix) with ESMTP id BCC1C402E6;
	Fri, 18 Apr 2025 23:07:57 +0200 (CEST)
Received: from mail-pl1-f226.google.com (mail-pl1-f226.google.com
 [209.85.214.226])
 by mails.dpdk.org (Postfix) with ESMTP id 694BF402E2
 for <test-report@dpdk.org>; Fri, 18 Apr 2025 23:07:56 +0200 (CEST)
Received: by mail-pl1-f226.google.com with SMTP id
 d9443c01a7336-224019ad9edso33528635ad.1
 for <test-report@dpdk.org>; Fri, 18 Apr 2025 14:07:56 -0700 (PDT)
DKIM-Signature: v=1; a=rsa-sha256; c=relaxed/relaxed;
 d=iol.unh.edu; s=unh-iol; t=1745010475; x=1745615275; darn=dpdk.org;
 h=references:in-reply-to:cc:to:from:subject:message-id:date:from:to
 :cc:subject:date:message-id:reply-to;
 bh=BgJqfRl1uTCRCxUw2IW2peEQ4BBqbVNLZJXzKOzKFoo=;
 b=a3mtgOMA0CjTnaeLR1E9pBJJ3dqu+J8sfQOxvREJFYGY2dKwNArtTw2M32W5806UoQ
 dKZ3B7UFactyZ0zD4cdlglDov8o7mMqKca+9U6qFXb8i+lRX9gVZqnfvx4/EkXnBGMtV
 Og+Uhha8VQHlyBFZDGsKG7/FPvY+63Sqf6Kik=
X-Google-DKIM-Signature: v=1; a=rsa-sha256; c=relaxed/relaxed;
 d=1e100.net; s=20230601; t=1745010475; x=1745615275;
 h=references:in-reply-to:cc:to:from:subject:message-id:date
 :x-gm-message-state:from:to:cc:subject:date:message-id:reply-to;
 bh=BgJqfRl1uTCRCxUw2IW2peEQ4BBqbVNLZJXzKOzKFoo=;
 b=tHDFtO7HZx/zHB86mlxwcSJ9DhQ1euupTekvZQNQ+MqbiownpEI94VM7F0SsAwKnPZ
 sv2KNWOa1p4dAXK8p0K9IIIcqJhuQalXOw8M6CTbpeyvqCOuHHHm1AGlWRX//+sn6E2U
 gKVXkU9ASHc9QWYWKmO3+DvezvFKSWqz73Rrg4L3P5E7uqFPamsim1giPVzMfIFLKcdj
 994ZR96n29V7fgU4tVtZtZ09xz1La5A+XTId3PV1HyXx13tTwWi+0aVeecY13aqVA2Zg
 WcE7jYmZDvzcKQ5vyOHzw70Cmd2uxDA6TUSKDtqmSXZ/2n5320ywrqgaAbIr+x7Rrgdr
 /jFg==
X-Gm-Message-State: AOJu0YxpVRS6lPUL/WHnDXO+0TE/81yJuSEd5XMarKq5D1UGZVXkRnco
 Vhx0BbFa2KJ5o8BPiJlNEvYxHqZ+EWOL7huoc7owGWTFzCUUoOG5W0NNzF26EH8cyQow51Sb7lv
 bl5lHDI0OM4GWAMMaTFTvEt1/cvwbDNVY5Qw7UM2dD6wmD2wk6TM53w1N
X-Gm-Gg: ASbGncvddXia1d5a35+zTabKaqbJXIO7fMMggIEG4Uqy3ybQtZmZElhchCpdc0OcC1c
 ieRuSSdGC7ntzIyglUUrcVJ4bWVIOGyyUtsxpL/jvlp+jwhmOGaiEdm2ag3NTBni23wtTI5UAA3
 7Mnyshjnvu4wWesH467bHaYRS4Q3mIKCi9kXusr4u4NF7mU7B49sWkbcQGGe9YL3qgTu3Q/b1w5
 LGmZyEhXO4wyE29Ktp/P3yq9l2LCwvKfCIJSmkRQ4+PlAPGdS3SdBERagLxwwqhX6OHba28lWl0
 +DKGIsRr4PvrVNe8Zf1TTbgIVW2mz4wHtr8IcBTokk7WJ2uq
X-Google-Smtp-Source: AGHT+IH+Ikto9nVciV2wOt6+jYpcXRhaBhVmAChaCbzvuwRaguM6H3PP/tT0DpiRu9rf8hylMTYdtqR2st/V
X-Received: by 2002:a17:903:98f:b0:224:13a4:d61d with SMTP id
 d9443c01a7336-22c535c85eemr61903885ad.23.1745010475507; 
 Fri, 18 Apr 2025 14:07:55 -0700 (PDT)
Received: from postal.iol.unh.edu (postal.iol.unh.edu.
 [2606:4100:3880:1234::84]) by smtp-relay.gmail.com with ESMTPS id
 d9443c01a7336-22c50d5fe5bsm1203885ad.73.2025.04.18.14.07.55
 (version=TLS1_2 cipher=ECDHE-ECDSA-AES128-GCM-SHA256 bits=128/128);
 Fri, 18 Apr 2025 14:07:55 -0700 (PDT)
X-Relaying-Domain: iol.unh.edu
Date: Fri, 18 Apr 2025 14:07:55 -0700 (PDT)
Message-ID: <6802bf2b.170a0220.1b1a04.74c0SMTPIN_ADDED_MISSING@mx.google.com>
Received: from [172.17.0.5] (unknown [172.18.0.217])
 by postal.iol.unh.edu (Postfix) with ESMTP id 0C70C6052471;
 Fri, 18 Apr 2025 17:07:52 -0400 (EDT)
Subject: |SUCCESS| pw153042-153045 [PATCH] [4/4] net/netvsc: Use Hyper-V page
From: dpdklab@iol.unh.edu
To: Test Report <test-report@dpdk.org>
Cc: dpdk-test-reports@iol.unh.edu
In-Reply-To: <1745004770-9795-5-git-send-email-longli@linuxonhyperv.com>
References: <1745004770-9795-5-git-send-email-longli@linuxonhyperv.com>
Content-Type: text/plain
X-BeenThere: test-report@dpdk.org
X-Mailman-Version: 2.1.29
Precedence: list
List-Id: automatic DPDK test reports <test-report.dpdk.org>
List-Unsubscribe: <https://mails.dpdk.org/options/test-report>,
 <mailto:test-report-request@dpdk.org?subject=unsubscribe>
List-Archive: <http://mails.dpdk.org/archives/test-report/>
List-Post: <mailto:test-report@dpdk.org>
List-Help: <mailto:test-report-request@dpdk.org?subject=help>
List-Subscribe: <https://mails.dpdk.org/listinfo/test-report>,
 <mailto:test-report-request@dpdk.org?subject=subscribe>
Errors-To: test-report-bounces@dpdk.org

Test-Label: iol-unit-amd64-testing
Test-Status: SUCCESS
http://dpdk.org/patch/153045

_Testing PASS_

Submitter: Long Li <longli@linuxonhyperv.com>
Date: Friday, April 18 2025 19:32:50 
DPDK git baseline: Repo:dpdk
  Branch: master
  CommitID:e9e9e79faa3311b807da51bb502495aa9db0de75

153042-153045 --> testing pass

Upstream job id: Generic-Unit-Test-DPDK#332100

Test environment and result as below:

+---------------------+----------------+
|     Environment     | dpdk_unit_test |
+=====================+================+
| CentOS Stream 9     | PASS           |
+---------------------+----------------+
| Debian 12           | PASS           |
+---------------------+----------------+
| CentOS Stream 10    | PASS           |
+---------------------+----------------+
| Fedora 40           | PASS           |
+---------------------+----------------+
| Fedora 40 (Clang)   | PASS           |
+---------------------+----------------+
| Fedora 41           | PASS           |
+---------------------+----------------+
| RHEL8               | PASS           |
+---------------------+----------------+
| Fedora 41 (Clang)   | PASS           |
+---------------------+----------------+
| Ubuntu 20.04        | PASS           |
+---------------------+----------------+
| Ubuntu 22.04        | PASS           |
+---------------------+----------------+
| RHEL9               | PASS           |
+---------------------+----------------+
| Ubuntu 24.04        | PASS           |
+---------------------+----------------+
| Windows Server 2022 | PASS           |
+---------------------+----------------+


CentOS Stream 9
	Kernel: Depends on container host
	Compiler: gcc 11.5.0 20240719 (Red Hat 11.5.0-2)

Debian 12
	Kernel: Depends on container host
	Compiler: gcc (Debian 12.2.0-14) 12.2.0

CentOS Stream 10
	Kernel: Depends on container host
	Compiler: gcc 14.2.1 20241104 (Red Hat 14.2.1-6)

Fedora 40
	Kernel: Depends on container host
	Compiler: gcc 14.2.1 20240912 (Red Hat 14.2.1-3)

Fedora 40 (Clang)
	Kernel: Depends on container host
	Compiler: clang 18.1.8 (Fedora 18.1.8-1.fc40)

Fedora 41
	Kernel: Depends on container host
	Compiler: gcc 14.2.1 20240912 (Red Hat 14.2.1-3)

RHEL8
	Kernel: Depends on container host
	Compiler: gcc 8.5.0 20210514 (Red Hat 8.5.0-22)

Fedora 41 (Clang)
	Kernel: Depends on container host
	Compiler: clang 19.1.5 (Fedora 19.1.5-1.fc41)

Ubuntu 20.04
	Kernel: Depends on container host
	Compiler: gcc (Ubuntu 9.4.0-1ubuntu1~20.04.2) 9.4.0

Ubuntu 22.04
	Kernel: Depends on container host
	Compiler: gcc (Ubuntu 11.4.0-1ubuntu1~22.04) 11.4.0

RHEL9
	Kernel: Depends on container host
	Compiler: gcc 11.5.0 20240719 (Red Hat 11.5.0-2)

Ubuntu 24.04
	Kernel: Depends on container host
	Compiler: gcc (Ubuntu 13.3.0-6ubuntu2~24.04) 13.3.0

Windows Server 2022
	Kernel: 10.0.20348.2031
	Compiler: clang 15.0.7, gcc 14.1.0 (MinGW), and MSVC VS 19.39.33521

To view detailed results, visit:
https://lab.dpdk.org/results/dashboard/patchsets/33037/

UNH-IOL DPDK Community Lab

To manage your email subscriptions, visit: 
https://lab.dpdk.org/results/dashboard/preferences/subscriptions/