From mboxrd@z Thu Jan  1 00:00:00 1970
Return-Path: <test-report-bounces@dpdk.org>
Received: from mails.dpdk.org (mails.dpdk.org [217.70.189.124])
	by inbox.dpdk.org (Postfix) with ESMTP id 32784465C9
	for <public@inbox.dpdk.org>; Sat, 19 Apr 2025 07:24:13 +0200 (CEST)
Received: from mails.dpdk.org (localhost [127.0.0.1])
	by mails.dpdk.org (Postfix) with ESMTP id 1606B4027A;
	Sat, 19 Apr 2025 07:24:13 +0200 (CEST)
Received: from mail-pl1-f227.google.com (mail-pl1-f227.google.com
 [209.85.214.227])
 by mails.dpdk.org (Postfix) with ESMTP id A0738400D7
 for <test-report@dpdk.org>; Sat, 19 Apr 2025 07:24:11 +0200 (CEST)
Received: by mail-pl1-f227.google.com with SMTP id
 d9443c01a7336-22c33ac23edso26639375ad.0
 for <test-report@dpdk.org>; Fri, 18 Apr 2025 22:24:11 -0700 (PDT)
DKIM-Signature: v=1; a=rsa-sha256; c=relaxed/relaxed;
 d=iol.unh.edu; s=unh-iol; t=1745040251; x=1745645051; darn=dpdk.org;
 h=cc:to:from:subject:message-id:date:from:to:cc:subject:date
 :message-id:reply-to;
 bh=uMLlVnyxvRJn25WPz12CIlFekmKdKLdeGI7O6xjpO7Q=;
 b=C6TQZDHa07mFWuco0ZYNB5lBmgWy+iEsiZ//mcBWo5lDA7fwFSK2GjhjwqYqzjf+b2
 F66EhAL/mHr3rIHCYEadwr6OT5cHzpKex2lN6EHABWDPymM6iKUHBidtP7C1jFT6kn4K
 kYwdksnlMr2RoNQN/8kWeQRfzGujeTggyWUF0=
X-Google-DKIM-Signature: v=1; a=rsa-sha256; c=relaxed/relaxed;
 d=1e100.net; s=20230601; t=1745040251; x=1745645051;
 h=cc:to:from:subject:message-id:date:x-gm-message-state:from:to:cc
 :subject:date:message-id:reply-to;
 bh=uMLlVnyxvRJn25WPz12CIlFekmKdKLdeGI7O6xjpO7Q=;
 b=oYvX3mm5HHsxzgKLQmSKb91qpTLGAjh3RzVVfu0bm9art7LFmu/+1dg/Wq311OJrlz
 v9SlYg9rTgw57If3YZIU0GaJb2L164ASioHn8N6aDsGq87wPfyS9fLpSCgavDTaT20zV
 VFDDCdZpVb7TWbK4o4b67yh5a6wMwOglY74116mjUF00uOg06o+MnoWgbl3cFt7C//69
 3YnQyR7vLfz3ZEVcgi0gry83k00PKAzrkNDzio/mpeHP1e1uH5dwcHb4iTBU9gfAWfmg
 QC3/Sd7S5mWTSqMKEwiCkLpRwFjprKAy1S3GEXQkh8rp4mtLqvMCMvppiFFs53o+EblF
 hN1w==
X-Gm-Message-State: AOJu0Yxgs9NNSlFVfiLZB/DM9GhSagl2Ht87KeHAoeiyL1IxLnEy1VSW
 sQR+gSKmXrzfVVD4BSjkuyxTIKSMOtfR3SwX3XUwMk+mPA9/4VeTz8shPZFgeuPewhM/nltjvdo
 O7NXwUWe50T3fozd1wVpqt17e2GsEvjwp
X-Gm-Gg: ASbGnctKUe3qxXnCoq/jiXjR3mbCU3gcgWPwi6LM80ue+1ES7ABzZ8xyLW5kwgiUrqO
 NDBnpHE4EC3NLeqSSHDZQ4JcJoTx7K+2eSMi/UKd8Ps8Ke8BtD3eob5GrjrXl+/cUO7IUz+R41g
 tefhKPLq+HSDDgpbY7N82RGYllPblXe0yLEvD6+acQ6Xv37RwkYiMeek+RjaJEELbeLJPTmTOy8
 McqZQfAGA++F/RizhDACI/75hg091znObi+/KxohBLSy143kXfmPDneCet+cQqZ1uvbCwKW6kuJ
 mQUdPN5nHchIB8ru7ILcpQWj8uEleAQHfg4i
X-Google-Smtp-Source: AGHT+IF8jesEfhXtk4IDCwc3nNA8H8pcpXmFWWL0lGXmZkh53RgrtHtMMjQUxgvUSEo5GQcDPwWP7umaVyO+
X-Received: by 2002:a17:903:3c65:b0:223:54aa:6d15 with SMTP id
 d9443c01a7336-22c5359a190mr86629265ad.12.1745040250706; 
 Fri, 18 Apr 2025 22:24:10 -0700 (PDT)
Received: from postal.iol.unh.edu (postal.iol.unh.edu. [132.177.123.84])
 by smtp-relay.gmail.com with ESMTPS id
 d9443c01a7336-22c50d872aasm1523595ad.116.2025.04.18.22.24.10
 (version=TLS1_2 cipher=ECDHE-ECDSA-AES128-GCM-SHA256 bits=128/128);
 Fri, 18 Apr 2025 22:24:10 -0700 (PDT)
X-Relaying-Domain: iol.unh.edu
Date: Fri, 18 Apr 2025 22:24:10 -0700 (PDT)
Message-ID: <6803337a.170a0220.c8222.9150SMTPIN_ADDED_MISSING@mx.google.com>
Received: from [172.21.0.5] (unknown [172.18.0.240])
 by postal.iol.unh.edu (Postfix) with ESMTP id 984416052471;
 Sat, 19 Apr 2025 01:24:07 -0400 (EDT)
Subject: |SUCCESS| [GIT MASTER] 03f2ed63a5f4e4b57365e358b49095ef4a82cf7d
From: dpdklab@iol.unh.edu
To: Test Report <test-report@dpdk.org>
Cc: dpdk-test-reports@iol.unh.edu, Xueming Li <xuemingl@nvidia.com>,
 Christian Ehrhardt <christian.ehrhardt@canonical.com>,
 Kevin Traynor <ktraynor@redhat.com>, Luca Boccassi <bluca@debian.org>
Content-Type: text/plain
X-BeenThere: test-report@dpdk.org
X-Mailman-Version: 2.1.29
Precedence: list
List-Id: automatic DPDK test reports <test-report.dpdk.org>
List-Unsubscribe: <https://mails.dpdk.org/options/test-report>,
 <mailto:test-report-request@dpdk.org?subject=unsubscribe>
List-Archive: <http://mails.dpdk.org/archives/test-report/>
List-Post: <mailto:test-report@dpdk.org>
List-Help: <mailto:test-report-request@dpdk.org?subject=help>
List-Subscribe: <https://mails.dpdk.org/listinfo/test-report>,
 <mailto:test-report-request@dpdk.org?subject=subscribe>
Errors-To: test-report-bounces@dpdk.org

_Testing PASS_

Branch: tags/v24.11

03f2ed63a5f4e4b57365e358b49095ef4a82cf7d --> testing pass

Upstream job id: Generic-VM-Unit-Test-DPDK#28066

Test environment and result as below:

+---------------------+----------------+
|     Environment     | dpdk_unit_test |
+=====================+================+
| CentOS Stream 9     | PASS           |
+---------------------+----------------+
| Fedora 40           | PASS           |
+---------------------+----------------+
| CentOS Stream 10    | PASS           |
+---------------------+----------------+
| Fedora 41 (Clang)   | PASS           |
+---------------------+----------------+
| RHEL9               | PASS           |
+---------------------+----------------+
| Fedora 41           | PASS           |
+---------------------+----------------+
| Fedora 40 (Clang)   | PASS           |
+---------------------+----------------+
| Debian 12           | PASS           |
+---------------------+----------------+
| RHEL8               | PASS           |
+---------------------+----------------+
| Ubuntu 20.04        | PASS           |
+---------------------+----------------+
| Ubuntu 24.04        | PASS           |
+---------------------+----------------+
| Ubuntu 22.04        | PASS           |
+---------------------+----------------+
| Windows Server 2022 | PASS           |
+---------------------+----------------+


CentOS Stream 9
	Kernel: Depends on container host
	Compiler: gcc 11.5.0 20240719 (Red Hat 11.5.0-2)

Fedora 40
	Kernel: Depends on container host
	Compiler: gcc 14.2.1 20240912 (Red Hat 14.2.1-3)

CentOS Stream 10
	Kernel: Depends on container host
	Compiler: gcc 14.2.1 20241104 (Red Hat 14.2.1-6)

Fedora 41 (Clang)
	Kernel: Depends on container host
	Compiler: clang 19.1.5 (Fedora 19.1.5-1.fc41)

RHEL9
	Kernel: Depends on container host
	Compiler: gcc 11.5.0 20240719 (Red Hat 11.5.0-2)

Fedora 41
	Kernel: Depends on container host
	Compiler: gcc 14.2.1 20240912 (Red Hat 14.2.1-3)

Fedora 40 (Clang)
	Kernel: Depends on container host
	Compiler: clang 18.1.8 (Fedora 18.1.8-1.fc40)

Debian 12
	Kernel: Depends on container host
	Compiler: gcc (Debian 12.2.0-14) 12.2.0

RHEL8
	Kernel: Depends on container host
	Compiler: gcc 8.5.0 20210514 (Red Hat 8.5.0-22)

Ubuntu 20.04
	Kernel: Depends on container host
	Compiler: gcc (Ubuntu 9.4.0-1ubuntu1~20.04.2) 9.4.0

Ubuntu 24.04
	Kernel: Depends on container host
	Compiler: gcc (Ubuntu 13.3.0-6ubuntu2~24.04) 13.3.0

Ubuntu 22.04
	Kernel: Depends on container host
	Compiler: gcc (Ubuntu 11.4.0-1ubuntu1~22.04) 11.4.0

Windows Server 2022
	Kernel: 10.0.20348.2031
	Compiler: clang 15.0.7, gcc 14.1.0 (MinGW), and MSVC VS 19.39.33521

To view detailed results, visit:
https://lab.dpdk.org/results/dashboard/tarballs/33300/

UNH-IOL DPDK Community Lab

To manage your email subscriptions, visit: 
https://lab.dpdk.org/results/dashboard/preferences/subscriptions/