From mboxrd@z Thu Jan  1 00:00:00 1970
Return-Path: <test-report-bounces@dpdk.org>
Received: from mails.dpdk.org (mails.dpdk.org [217.70.189.124])
	by inbox.dpdk.org (Postfix) with ESMTP id 3FFAA465CC
	for <public@inbox.dpdk.org>; Sat, 19 Apr 2025 08:37:39 +0200 (CEST)
Received: from mails.dpdk.org (localhost [127.0.0.1])
	by mails.dpdk.org (Postfix) with ESMTP id 3B13740156;
	Sat, 19 Apr 2025 08:37:39 +0200 (CEST)
Received: from mail-pg1-f226.google.com (mail-pg1-f226.google.com
 [209.85.215.226])
 by mails.dpdk.org (Postfix) with ESMTP id 6134C400D7
 for <test-report@dpdk.org>; Sat, 19 Apr 2025 08:37:38 +0200 (CEST)
Received: by mail-pg1-f226.google.com with SMTP id
 41be03b00d2f7-af5085f7861so1718275a12.3
 for <test-report@dpdk.org>; Fri, 18 Apr 2025 23:37:38 -0700 (PDT)
DKIM-Signature: v=1; a=rsa-sha256; c=relaxed/relaxed;
 d=iol.unh.edu; s=unh-iol; t=1745044657; x=1745649457; darn=dpdk.org;
 h=cc:to:from:subject:message-id:date:from:to:cc:subject:date
 :message-id:reply-to;
 bh=hdUEbTlTmt6fa5eGfSCOC7sP9RKmvwxe46rrFTyqlkw=;
 b=My96uEEs6b/OJmsVerqM9ipcTP0Yi1wFLxTr/b7fJQQinSFoVaVX9HdyHdFg1zj2Qb
 9hRBSfHNRQO1czHPnCu6vxJD02QQiBKhJVLUDbmVlLcf/ry04Jy9JMlWS6GgB4JwowMk
 MzUoPtev8mDnBC33kE7I6f4bnZSxss/2doewk=
X-Google-DKIM-Signature: v=1; a=rsa-sha256; c=relaxed/relaxed;
 d=1e100.net; s=20230601; t=1745044657; x=1745649457;
 h=cc:to:from:subject:message-id:date:x-gm-message-state:from:to:cc
 :subject:date:message-id:reply-to;
 bh=hdUEbTlTmt6fa5eGfSCOC7sP9RKmvwxe46rrFTyqlkw=;
 b=Si2rD+OU8aLpu1yhsRmrugnbKVSkXC6Efeo6FCuKsBwNNgluB86GVDr+OLcXUbgB68
 mwc1LAdLhH/Tbe3B/vSKHDO/1zRmOEroTfZLckHtbPeGY3dZqgWyH+E65/tFj+k3aevl
 VNGg7biKB9sFJ2RPg+m10CoeXI3y5u3LMWSiJyaXeFYisLsIfpK0Px6Pc0fp3X2QDefp
 a6VghUDmFbz/PazpsYAWeKbK+P0Wu8zuF5Qiok//XLpydVFnH1e9MeAAwfpH1hj8gN54
 cFNdlTYAJb6YtRv1BUvGWzDokTlGkKM1RQE80fCOJJYK7pby35HUFXSfQs8Hxy/Rbs33
 T10A==
X-Gm-Message-State: AOJu0YzzPWp9ilF0udToZODsh2FrsAh55xziYDBS3PCaAlH+oZAJCyQR
 xRIFkLRWY+z0VQuwLKFkdsadYiGXKctmjldC5xWIq5/NtbhiiA7fHctXIeKWK9W4CKNSp2xtKKk
 R2/Pki+DTkqZs+fQBekXBf96m58P+qAn9
X-Gm-Gg: ASbGncuOh8c50NG2MJyU7SJ3tXhEkW0lS7yTN114c73oWmZaZcGUOTEsN72Us8ZB/1w
 MLyRsf8TDE6gne0BBc5Cyzk/Tc9K8TkR8NXHv9sKxoBF/f4rd/VL2MwQCXa/QUAMLx1ybGsYO1x
 x7LqHoy96kmBlA7VAgOwiD/qK7sxLVcOBDRxhcUa8AzNCLzBz7vju9LX1GDhUP15Ig4/pGl6Kdn
 /WYbfx1Ju0uDzb3A4Q4o08ZGkoMbIAHl4+xJlkqgCsdyGqOEB+6Gr7sof4n7BF9T6iR37i5H/qU
 e14s1Wd/9xxcWk2h+qg6xgLFBQbjasxwLvje
X-Google-Smtp-Source: AGHT+IGSlKW6pxn6tZEJyj10xM7OPbwzUAlGlRum6KfU3jJ7gEdIj1odsAmLSMDSDXbtIa1n4uZ3tM6hCLfl
X-Received: by 2002:a17:90b:2d0d:b0:2f9:9ddd:689b with SMTP id
 98e67ed59e1d1-3087bbbcdbfmr6742544a91.22.1745044657273; 
 Fri, 18 Apr 2025 23:37:37 -0700 (PDT)
Received: from postal.iol.unh.edu (postal.iol.unh.edu. [132.177.123.84])
 by smtp-relay.gmail.com with ESMTPS id
 98e67ed59e1d1-3087e05ee89sm175737a91.15.2025.04.18.23.37.37
 (version=TLS1_2 cipher=ECDHE-ECDSA-AES128-GCM-SHA256 bits=128/128);
 Fri, 18 Apr 2025 23:37:37 -0700 (PDT)
X-Relaying-Domain: iol.unh.edu
Date: Fri, 18 Apr 2025 23:37:37 -0700 (PDT)
Message-ID: <680344b1.170a0220.28cc8e.9f3aSMTPIN_ADDED_MISSING@mx.google.com>
Received: from [172.21.0.5] (unknown [172.18.0.240])
 by postal.iol.unh.edu (Postfix) with ESMTP id 7D25B6052471;
 Sat, 19 Apr 2025 02:37:33 -0400 (EDT)
Subject: |SUCCESS| [GIT MASTER] c66daa12e76d7b4912cfb7109a761856a7a873ab
From: dpdklab@iol.unh.edu
To: Test Report <test-report@dpdk.org>
Cc: dpdk-test-reports@iol.unh.edu, Xueming Li <xuemingl@nvidia.com>,
 Christian Ehrhardt <christian.ehrhardt@canonical.com>,
 Kevin Traynor <ktraynor@redhat.com>, Luca Boccassi <bluca@debian.org>
Content-Type: text/plain
X-BeenThere: test-report@dpdk.org
X-Mailman-Version: 2.1.29
Precedence: list
List-Id: automatic DPDK test reports <test-report.dpdk.org>
List-Unsubscribe: <https://mails.dpdk.org/options/test-report>,
 <mailto:test-report-request@dpdk.org?subject=unsubscribe>
List-Archive: <http://mails.dpdk.org/archives/test-report/>
List-Post: <mailto:test-report@dpdk.org>
List-Help: <mailto:test-report-request@dpdk.org?subject=help>
List-Subscribe: <https://mails.dpdk.org/listinfo/test-report>,
 <mailto:test-report-request@dpdk.org?subject=subscribe>
Errors-To: test-report-bounces@dpdk.org

_Testing PASS_

Branch: tags/v23.11

c66daa12e76d7b4912cfb7109a761856a7a873ab --> testing pass

Upstream job id: Generic-DPDK-Compile-ABI#123816

Test environment and result as below:

+-------------------+----------+
|    Environment    | abi_test |
+===================+==========+
| CentOS Stream 9   | PASS     |
+-------------------+----------+
| CentOS Stream 10  | PASS     |
+-------------------+----------+
| Debian 12         | PASS     |
+-------------------+----------+
| Fedora 40 (Clang) | PASS     |
+-------------------+----------+
| Fedora 40         | PASS     |
+-------------------+----------+
| Fedora 41 (Clang) | PASS     |
+-------------------+----------+
| Fedora 41         | PASS     |
+-------------------+----------+
| Ubuntu 24.04      | PASS     |
+-------------------+----------+
| RHEL8             | PASS     |
+-------------------+----------+
| openSUSE Leap 15  | PASS     |
+-------------------+----------+
| Ubuntu 22.04      | PASS     |
+-------------------+----------+
| RHEL9             | PASS     |
+-------------------+----------+


CentOS Stream 9
	Kernel: Depends on container host
	Compiler: gcc 11.5.0 20240719 (Red Hat 11.5.0-2)

CentOS Stream 10
	Kernel: Depends on container host
	Compiler: gcc 14.2.1 20241104 (Red Hat 14.2.1-6)

Debian 12
	Kernel: Depends on container host
	Compiler: gcc (Debian 12.2.0-14) 12.2.0

Fedora 40 (Clang)
	Kernel: Depends on container host
	Compiler: clang 18.1.8 (Fedora 18.1.8-1.fc40)

Fedora 40
	Kernel: Depends on container host
	Compiler: gcc 14.2.1 20240912 (Red Hat 14.2.1-3)

Fedora 41 (Clang)
	Kernel: Depends on container host
	Compiler: clang 19.1.5 (Fedora 19.1.5-1.fc41)

Fedora 41
	Kernel: Depends on container host
	Compiler: gcc 14.2.1 20240912 (Red Hat 14.2.1-3)

Ubuntu 24.04
	Kernel: Depends on container host
	Compiler: gcc (Ubuntu 13.3.0-6ubuntu2~24.04) 13.3.0

RHEL8
	Kernel: Depends on container host
	Compiler: gcc 8.5.0 20210514 (Red Hat 8.5.0-22)

openSUSE Leap 15
	Kernel: Depends on container host
	Compiler: gcc (SUSE Linux) 7.5.0

Ubuntu 22.04
	Kernel: Depends on container host
	Compiler: gcc (Ubuntu 11.4.0-1ubuntu1~22.04) 11.4.0

RHEL9
	Kernel: Depends on container host
	Compiler: gcc 11.5.0 20240719 (Red Hat 11.5.0-2)

To view detailed results, visit:
https://lab.dpdk.org/results/dashboard/tarballs/33301/

UNH-IOL DPDK Community Lab

To manage your email subscriptions, visit: 
https://lab.dpdk.org/results/dashboard/preferences/subscriptions/