From mboxrd@z Thu Jan  1 00:00:00 1970
Return-Path: <test-report-bounces@dpdk.org>
Received: from mails.dpdk.org (mails.dpdk.org [217.70.189.124])
	by inbox.dpdk.org (Postfix) with ESMTP id D7F09465CE
	for <public@inbox.dpdk.org>; Sat, 19 Apr 2025 11:01:45 +0200 (CEST)
Received: from mails.dpdk.org (localhost [127.0.0.1])
	by mails.dpdk.org (Postfix) with ESMTP id A5D3640156;
	Sat, 19 Apr 2025 11:01:45 +0200 (CEST)
Received: from mail-pg1-f225.google.com (mail-pg1-f225.google.com
 [209.85.215.225])
 by mails.dpdk.org (Postfix) with ESMTP id 8E966400D7
 for <test-report@dpdk.org>; Sat, 19 Apr 2025 11:01:44 +0200 (CEST)
Received: by mail-pg1-f225.google.com with SMTP id
 41be03b00d2f7-7fd581c2bf4so2134828a12.3
 for <test-report@dpdk.org>; Sat, 19 Apr 2025 02:01:44 -0700 (PDT)
DKIM-Signature: v=1; a=rsa-sha256; c=relaxed/relaxed;
 d=iol.unh.edu; s=unh-iol; t=1745053303; x=1745658103; darn=dpdk.org;
 h=cc:to:from:subject:message-id:date:from:to:cc:subject:date
 :message-id:reply-to;
 bh=RnIyvvERB7y5buSNZV/G6Tdt/32d44vdgRfAgxM8a5A=;
 b=Drr6mSchurDj+0wNGj2b8Cv7RZV5EpYHb4sHJQsS8FMmK193HXy7LpgPH3JRfQU8i7
 AAE+ZKXrYXjXhaNo/GdK6OlmBJtdolPAYRH1JuHZcF5WpQNEihVUw0K/4hM3XEGT+Z3b
 uKwy3XYpSIJEvDH+4jkcIhcXPuxBenmzRP0zU=
X-Google-DKIM-Signature: v=1; a=rsa-sha256; c=relaxed/relaxed;
 d=1e100.net; s=20230601; t=1745053303; x=1745658103;
 h=cc:to:from:subject:message-id:date:x-gm-message-state:from:to:cc
 :subject:date:message-id:reply-to;
 bh=RnIyvvERB7y5buSNZV/G6Tdt/32d44vdgRfAgxM8a5A=;
 b=NfJCK+YfnMP409u2Dqju/re/JMMoWoh32zKHF7TPXYuG3iXV/C25VSTpfEYFut25jU
 n7UKmXsA9pZC7YzqgUacVrho4uQMpg8PHht0qsV7IAbMc8zzlGeVTngyJVjIAz7CbdQS
 xDYM59mpyAeeMdDgxOkqyNVwr1SqKAtAkLK+iVzHyZS26/p2BzJpp9L0MZD6pEjBC+Uk
 ywzJfBT5SrmRhI+0kKjm7tE7Iokdb5NtcKk/m70eOJ6mSJ39gWuDZRL45F0LJWaDbaV7
 nkNJkl9r4hDas0tgS4vNrhnfhjeYYA4VOebWZsgDBoTCfRNbkW7B0Wglti8BIYQWAOLx
 0hdw==
X-Gm-Message-State: AOJu0Yz+ubnvpzC4/iG7aNEhtejSCfOI/TSmlIkZURGI+5hKhVch/r3L
 4ZVt4l0G3otZAoixf4gMaDYCUpEbbM6jP1UM7Iz251uQhqzRXUZdMI86wH6Z4Hj4D8xOc649e/R
 N6JPOIfb0mvyp3+VRZki+oL1ApFeT8xMwft4pi308
X-Gm-Gg: ASbGncvKwG+9+8jU6Ioi44AVLQbSimwnBwiwvGBHzvsbSjXnwqcwu3TtP6JBXVa0Nno
 V6s5GUK+DMRxKxRIdawUOinOfsYi71hELH3xsb7tu0FMHxV3SuVFs317cQsxt41OdoCN79rN0Li
 E7dcdS02nEoJAfHHSsF8LtS2FH4bTSa3Rhxe7vIas0tSLR7ndvYkie6NDCbn1IVkx4iTQXMBjp3
 Xslwuy6z8cQB5XOkKIYAhTsnmtEGx+L8I1THoAheIfPZxxT7uHewcjIoMPMKgCc8dcjYH/6zQXE
 kVKLvRLcY8RnBEqo1bQQtr5DP32hsUXTC2yg
X-Google-Smtp-Source: AGHT+IHY+EFNMQmsshNwB+aEcIcwcCVZQe8dB8zS8pLMM33XBaSIvGaWH86C5N0MKLvpnSYew8ziP4LwnerP
X-Received: by 2002:a17:90b:5690:b0:2ee:cded:9ac7 with SMTP id
 98e67ed59e1d1-3087bb6687dmr7458175a91.20.1745053303466; 
 Sat, 19 Apr 2025 02:01:43 -0700 (PDT)
Received: from postal.iol.unh.edu (postal.iol.unh.edu. [132.177.123.84])
 by smtp-relay.gmail.com with ESMTPS id
 98e67ed59e1d1-3087e05ee89sm188902a91.15.2025.04.19.02.01.43
 (version=TLS1_2 cipher=ECDHE-ECDSA-AES128-GCM-SHA256 bits=128/128);
 Sat, 19 Apr 2025 02:01:43 -0700 (PDT)
X-Relaying-Domain: iol.unh.edu
Date: Sat, 19 Apr 2025 02:01:43 -0700 (PDT)
Message-ID: <68036677.170a0220.28cc8e.ab1cSMTPIN_ADDED_MISSING@mx.google.com>
Received: from [172.17.0.3] (unknown [172.18.0.217])
 by postal.iol.unh.edu (Postfix) with ESMTP id 755B66052471;
 Sat, 19 Apr 2025 05:01:42 -0400 (EDT)
Subject: |SUCCESS| [GIT MASTER] e9e9e79faa3311b807da51bb502495aa9db0de75
From: dpdklab@iol.unh.edu
To: Test Report <test-report@dpdk.org>
Cc: dpdk-test-reports@iol.unh.edu,
 Stephen Hemminger <stephen@networkplumber.org>
Content-Type: text/plain
X-BeenThere: test-report@dpdk.org
X-Mailman-Version: 2.1.29
Precedence: list
List-Id: automatic DPDK test reports <test-report.dpdk.org>
List-Unsubscribe: <https://mails.dpdk.org/options/test-report>,
 <mailto:test-report-request@dpdk.org?subject=unsubscribe>
List-Archive: <http://mails.dpdk.org/archives/test-report/>
List-Post: <mailto:test-report@dpdk.org>
List-Help: <mailto:test-report-request@dpdk.org?subject=help>
List-Subscribe: <https://mails.dpdk.org/listinfo/test-report>,
 <mailto:test-report-request@dpdk.org?subject=subscribe>
Errors-To: test-report-bounces@dpdk.org

_Testing PASS_

Branch: dpdk-next-net

e9e9e79faa3311b807da51bb502495aa9db0de75 --> testing pass

Upstream job id: ACVP-FIPS-testing#9586

Test environment and result as below:

+--------------------+----------------------+----------------------+
|    Environment     | compressdev_zlib_pmd | dpdk_fips_validation |
+====================+======================+======================+
| Ubuntu 22.04 (ARM) | PASS                 | SKIPPED              |
+--------------------+----------------------+----------------------+
| Ubuntu 22.04       | PASS                 | SKIPPED              |
+--------------------+----------------------+----------------------+
| Ubuntu 20.04       | SKIPPED              | PASS                 |
+--------------------+----------------------+----------------------+


Ubuntu 22.04 (ARM)
	Kernel: 5.15.0-97-generic
	Compiler: gcc gcc (Ubuntu 11.4.0-1ubuntu1~22.04) 11.4.0

Ubuntu 22.04
	Kernel: 5.15.0-100-generic
	Compiler: gcc gcc (Ubuntu 11.4.0-1ubuntu1~22.04) 11.4.0

Ubuntu 20.04
	Kernel: Depends on container host
	Compiler: gcc (Ubuntu 9.4.0-1ubuntu1~20.04.2) 9.4.0

To view detailed results, visit:
https://lab.dpdk.org/results/dashboard/tarballs/33303/

UNH-IOL DPDK Community Lab

To manage your email subscriptions, visit: 
https://lab.dpdk.org/results/dashboard/preferences/subscriptions/