From mboxrd@z Thu Jan  1 00:00:00 1970
Return-Path: <test-report-bounces@dpdk.org>
Received: from mails.dpdk.org (mails.dpdk.org [217.70.189.124])
	by inbox.dpdk.org (Postfix) with ESMTP id 29284465E7
	for <public@inbox.dpdk.org>; Mon, 21 Apr 2025 07:27:35 +0200 (CEST)
Received: from mails.dpdk.org (localhost [127.0.0.1])
	by mails.dpdk.org (Postfix) with ESMTP id 23D8A40156;
	Mon, 21 Apr 2025 07:27:35 +0200 (CEST)
Received: from mail-pl1-f226.google.com (mail-pl1-f226.google.com
 [209.85.214.226])
 by mails.dpdk.org (Postfix) with ESMTP id 5B17240151
 for <test-report@dpdk.org>; Mon, 21 Apr 2025 07:27:34 +0200 (CEST)
Received: by mail-pl1-f226.google.com with SMTP id
 d9443c01a7336-227d6b530d8so36247075ad.3
 for <test-report@dpdk.org>; Sun, 20 Apr 2025 22:27:34 -0700 (PDT)
DKIM-Signature: v=1; a=rsa-sha256; c=relaxed/relaxed;
 d=iol.unh.edu; s=unh-iol; t=1745213253; x=1745818053; darn=dpdk.org;
 h=cc:to:from:subject:message-id:date:from:to:cc:subject:date
 :message-id:reply-to;
 bh=7aDDiNhbLBbUq9VtL4N3BB+EFltv8+uB9Ty8mbJX1kA=;
 b=fL+LQ3cMJsxeLkSZ/lJuKzrCxK2ZKynKDdkzo6bwTZTRSljJF0N+6EUCRbeBa5zKfD
 69xVa/rNWvVtAVT88GzhRYcTz8/4lSFI58CzcJ6Q6coVp4eFVR8iS56/xRvfmw8dAU9o
 Xdb4giCo2q+DuA2knVf9mYP1HssLvUIr462NM=
X-Google-DKIM-Signature: v=1; a=rsa-sha256; c=relaxed/relaxed;
 d=1e100.net; s=20230601; t=1745213253; x=1745818053;
 h=cc:to:from:subject:message-id:date:x-gm-message-state:from:to:cc
 :subject:date:message-id:reply-to;
 bh=7aDDiNhbLBbUq9VtL4N3BB+EFltv8+uB9Ty8mbJX1kA=;
 b=Q1LuRt1YvlSKvI1sqPct1TqjVh4WywSfXObMdGud7eG7aky5qqQduW/vbCr26qN2la
 fqcoiiflcvfeR3efARgRYUEFj/lnRiju3mk/74R/LGoCWx0exBR1yHH9QP0iQVB+GGGA
 HSjLV42QJ4oMt8g7nxHlzKOlCDgMyV/OYk0Tc+RQUp8S+TcXpQAx5Q5axiukNahJ92bL
 HbSlCUI4yKP11y6K8FHSvtpJ0k+i5zGUCGoVX4Qc8W1uOlUbWvro56k22sH8H9/aQkYF
 eUmeHsxnejaQSFLekIr8ay1bixEkL0BNXcZ4vZ3qeEqszSjJsUaIUOa5DJ32Ww+WRXFc
 acUA==
X-Gm-Message-State: AOJu0YzAfuSvw73bnubKE5GO6l64MkJvtz5U+ZGs2hG72XTz542HExE2
 kFsiDxudmHfT1suobxW8g7xW6CtQAp+/wgNWTIKmI90kme8JLpgF9TatSmrlJjOgCW0xvnXbbg6
 L6Byl3zuOwqA4iKR3Im1xpkaKniM0EgAbsuwkswYGhBS/XlAs
X-Gm-Gg: ASbGncvrtHVA2y9QHosabrN2hzT70G9hNMhn6O+w2weHOP3E5KdTAZjMLMloCiGJKDu
 vPEZjoBtu4FXPXBr8JAqqxr15vR+XrXQfxH67qS3IM7jYBKAiuf/cb+/mF5joNuGUkFG1ICq7Im
 E8DOGduvllfS41yBGGGzTmkUtFyN5V+fws6cYQbRc2ZtSIkcLpkHUx/60zdjyHivSi+Kz9KXUCg
 KaByhACIjAEiK99R7uKoCVnRv//0R1GRLazFitl1tkcFbGit2X4P78VQks0z/jxiOw9ky2F9ixV
 XtfO3C2jqUeJamIubM053pXWJ2eKOBybaADoBU+oDgBFtfmM
X-Google-Smtp-Source: AGHT+IHRFtI9cJH6svbDx/b83YLD9LZrhwkz3dpW78cJe+LGDEHkNdCcxXVEfsJeB9qJ8QgN5C6cbF7VI8dQ
X-Received: by 2002:a17:903:2411:b0:223:2630:6b82 with SMTP id
 d9443c01a7336-22c5356dddamr181497215ad.10.1745213253415; 
 Sun, 20 Apr 2025 22:27:33 -0700 (PDT)
Received: from postal.iol.unh.edu (postal.iol.unh.edu.
 [2606:4100:3880:1234::84]) by smtp-relay.gmail.com with ESMTPS id
 d9443c01a7336-22c50d5fcfcsm3374045ad.82.2025.04.20.22.27.33
 (version=TLS1_2 cipher=ECDHE-ECDSA-AES128-GCM-SHA256 bits=128/128);
 Sun, 20 Apr 2025 22:27:33 -0700 (PDT)
X-Relaying-Domain: iol.unh.edu
Date: Sun, 20 Apr 2025 22:27:33 -0700 (PDT)
Message-ID: <6805d745.170a0220.111209.36a5SMTPIN_ADDED_MISSING@mx.google.com>
Received: from [172.21.0.5] (unknown [172.18.0.240])
 by postal.iol.unh.edu (Postfix) with ESMTP id 623A96052471;
 Mon, 21 Apr 2025 01:27:30 -0400 (EDT)
Subject: |SUCCESS| [GIT MASTER] 4401486b5e30d43a134f80f9802f60b5f43e74a8
From: dpdklab@iol.unh.edu
To: Test Report <test-report@dpdk.org>
Cc: dpdk-test-reports@iol.unh.edu, Xueming Li <xuemingl@nvidia.com>,
 Christian Ehrhardt <christian.ehrhardt@canonical.com>,
 Kevin Traynor <ktraynor@redhat.com>, Luca Boccassi <bluca@debian.org>
Content-Type: text/plain
X-BeenThere: test-report@dpdk.org
X-Mailman-Version: 2.1.29
Precedence: list
List-Id: automatic DPDK test reports <test-report.dpdk.org>
List-Unsubscribe: <https://mails.dpdk.org/options/test-report>,
 <mailto:test-report-request@dpdk.org?subject=unsubscribe>
List-Archive: <http://mails.dpdk.org/archives/test-report/>
List-Post: <mailto:test-report@dpdk.org>
List-Help: <mailto:test-report-request@dpdk.org?subject=help>
List-Subscribe: <https://mails.dpdk.org/listinfo/test-report>,
 <mailto:test-report-request@dpdk.org?subject=subscribe>
Errors-To: test-report-bounces@dpdk.org

_Testing PASS_

Branch: tags/v22.11

4401486b5e30d43a134f80f9802f60b5f43e74a8 --> testing pass

Upstream job id: Generic-DPDK-Compile-ABI#123912

Test environment and result as below:

+-------------------+----------+
|    Environment    | abi_test |
+===================+==========+
| CentOS Stream 9   | PASS     |
+-------------------+----------+
| CentOS Stream 10  | PASS     |
+-------------------+----------+
| Fedora 40 (Clang) | PASS     |
+-------------------+----------+
| Debian 12         | PASS     |
+-------------------+----------+
| Fedora 40         | PASS     |
+-------------------+----------+
| openSUSE Leap 15  | PASS     |
+-------------------+----------+
| Fedora 41 (Clang) | PASS     |
+-------------------+----------+
| Fedora 41         | PASS     |
+-------------------+----------+
| RHEL8             | PASS     |
+-------------------+----------+
| RHEL9             | PASS     |
+-------------------+----------+
| Ubuntu 22.04      | PASS     |
+-------------------+----------+
| Ubuntu 24.04      | PASS     |
+-------------------+----------+


CentOS Stream 9
	Kernel: Depends on container host
	Compiler: gcc 11.5.0 20240719 (Red Hat 11.5.0-2)

CentOS Stream 10
	Kernel: Depends on container host
	Compiler: gcc 14.2.1 20241104 (Red Hat 14.2.1-6)

Fedora 40 (Clang)
	Kernel: Depends on container host
	Compiler: clang 18.1.8 (Fedora 18.1.8-1.fc40)

Debian 12
	Kernel: Depends on container host
	Compiler: gcc (Debian 12.2.0-14) 12.2.0

Fedora 40
	Kernel: Depends on container host
	Compiler: gcc 14.2.1 20240912 (Red Hat 14.2.1-3)

openSUSE Leap 15
	Kernel: Depends on container host
	Compiler: gcc (SUSE Linux) 7.5.0

Fedora 41 (Clang)
	Kernel: Depends on container host
	Compiler: clang 19.1.5 (Fedora 19.1.5-1.fc41)

Fedora 41
	Kernel: Depends on container host
	Compiler: gcc 14.2.1 20240912 (Red Hat 14.2.1-3)

RHEL8
	Kernel: Depends on container host
	Compiler: gcc 8.5.0 20210514 (Red Hat 8.5.0-22)

RHEL9
	Kernel: Depends on container host
	Compiler: gcc 11.5.0 20240719 (Red Hat 11.5.0-2)

Ubuntu 22.04
	Kernel: Depends on container host
	Compiler: gcc (Ubuntu 11.4.0-1ubuntu1~22.04) 11.4.0

Ubuntu 24.04
	Kernel: Depends on container host
	Compiler: gcc (Ubuntu 13.3.0-6ubuntu2~24.04) 13.3.0

To view detailed results, visit:
https://lab.dpdk.org/results/dashboard/tarballs/33311/

UNH-IOL DPDK Community Lab

To manage your email subscriptions, visit: 
https://lab.dpdk.org/results/dashboard/preferences/subscriptions/