From mboxrd@z Thu Jan  1 00:00:00 1970
Return-Path: <test-report-bounces@dpdk.org>
Received: from mails.dpdk.org (mails.dpdk.org [217.70.189.124])
	by inbox.dpdk.org (Postfix) with ESMTP id 80C43465E7
	for <public@inbox.dpdk.org>; Mon, 21 Apr 2025 07:30:21 +0200 (CEST)
Received: from mails.dpdk.org (localhost [127.0.0.1])
	by mails.dpdk.org (Postfix) with ESMTP id 7C35340156;
	Mon, 21 Apr 2025 07:30:21 +0200 (CEST)
Received: from mail-io1-f97.google.com (mail-io1-f97.google.com
 [209.85.166.97]) by mails.dpdk.org (Postfix) with ESMTP id 2BC1840151
 for <test-report@dpdk.org>; Mon, 21 Apr 2025 07:30:20 +0200 (CEST)
Received: by mail-io1-f97.google.com with SMTP id
 ca18e2360f4ac-85da5a3667bso81644739f.1
 for <test-report@dpdk.org>; Sun, 20 Apr 2025 22:30:20 -0700 (PDT)
DKIM-Signature: v=1; a=rsa-sha256; c=relaxed/relaxed;
 d=iol.unh.edu; s=unh-iol; t=1745213419; x=1745818219; darn=dpdk.org;
 h=cc:to:from:subject:message-id:date:from:to:cc:subject:date
 :message-id:reply-to;
 bh=uvt1Xs2KTcNn1LbJTOaQ+pDBcSkJhMLWNyKS7Y+EAYw=;
 b=Rkmxok3OGMXljnc8FVfUvhuBYDCuOIj3GMBLyyoO3omCZbZssoPV77EtwEiWHX9eiy
 gxHj/L+m5nKyOdae84U8+9GgzCHy6QFJ63OSiWzY76xrBIfiY3uDJclZ3tZ2qKoZCCR+
 EYWYpxAmPaDUirNogWp0LBv4RUwQs+d2giTIM=
X-Google-DKIM-Signature: v=1; a=rsa-sha256; c=relaxed/relaxed;
 d=1e100.net; s=20230601; t=1745213419; x=1745818219;
 h=cc:to:from:subject:message-id:date:x-gm-message-state:from:to:cc
 :subject:date:message-id:reply-to;
 bh=uvt1Xs2KTcNn1LbJTOaQ+pDBcSkJhMLWNyKS7Y+EAYw=;
 b=CjbY/98Z2fV7o3dMA+qt79xRAwuz2NnxXaR/gy1mVkJks7c7cU7VauViREfwff2cQS
 fBuRR/Q6gcJ6wEv+cPlk+c4HClf7GtwYScvxrPyXplbHCEmuwRXrAGGfknw076xLaOMT
 qX9yL5GuMWsGAHqPo4poha9wPc/120TyYSBKJzFYyBa3UD5Q+aPlOWxRXv1B+zPJ6+f5
 SsGdet6XyeDZxc6BaPYYbwSYiu/OagkTF7YRDipTXGcHecebE6Y+IVeiWH3brlqHWWB2
 /FngRxQZBKLH7D+Gh/b4YarKNuZcNUU5OgLdJVrcIHlGZ7z7TBVLBGu52brXqU1pIpbP
 nY+w==
X-Gm-Message-State: AOJu0Yzo4C8UsRgRInveyjWyeu4FL7/SMWNXF1khTvnHvbN/NcZWZOtb
 t/1GSjKB8tydW5As5+3AiGadNm5HKE7y8a7fer31KyLVBXIaPRF1aobQB5QqXmCM6SrP7Q+7hIu
 wOhz5589gVHt2ZEizgZfv6ncfQ+xGUiAKduSd2CTAlDLlWZEp
X-Gm-Gg: ASbGncsPTpZzyyck/5kk7YdlXG1gg1HYm65ankx09Ono3bY42k4tNsjSZLxtQeAgHbe
 kL1A66Fwnil8GkH9Yrl+1sasbAOOQglyXLhJs4tHwGrJtJA26z+zh51H9qy9a4h4AY81bExr/S5
 oN7G/rgT4CNeFTUbx6IolbjsVY/PxREnk+Xi5RY+bEZoJtTiNCxzbi+BWYf8UgWqTxyAwmJY0qM
 nLFQXxrLp/966gam01kX3/ZRHUkPiILAtHtpKXrTF8HJF6LQGiiIizfa8JntibQiQhSxAAiLouf
 kfJlKivjAfja1Pai2p0sIaAHh8GsPfw9+Qa85S9qxDXA1DPG
X-Google-Smtp-Source: AGHT+IGZARzodz4bvl64PbIBOpY4njc9Od7wQ3CzZTF7cGDxRsHF8xctXui/ZUANxgIA2OCbkKpJ4zDpexvP
X-Received: by 2002:a05:6602:4006:b0:85d:a5d3:619a with SMTP id
 ca18e2360f4ac-861dbeb2a2amr932957039f.10.1745213419411; 
 Sun, 20 Apr 2025 22:30:19 -0700 (PDT)
Received: from postal.iol.unh.edu (postal.iol.unh.edu.
 [2606:4100:3880:1234::84]) by smtp-relay.gmail.com with ESMTPS id
 8926c6da1cb9f-4f6a395c2ccsm239622173.60.2025.04.20.22.30.19
 (version=TLS1_2 cipher=ECDHE-ECDSA-AES128-GCM-SHA256 bits=128/128);
 Sun, 20 Apr 2025 22:30:19 -0700 (PDT)
X-Relaying-Domain: iol.unh.edu
Date: Sun, 20 Apr 2025 22:30:19 -0700 (PDT)
Message-ID: <6805d7eb.050a0220.2f2455.da22SMTPIN_ADDED_MISSING@mx.google.com>
Received: from [172.21.0.6] (unknown [172.18.0.240])
 by postal.iol.unh.edu (Postfix) with ESMTP id E56EF6052471;
 Mon, 21 Apr 2025 01:30:15 -0400 (EDT)
Subject: |SUCCESS| [GIT MASTER] 4401486b5e30d43a134f80f9802f60b5f43e74a8
From: dpdklab@iol.unh.edu
To: Test Report <test-report@dpdk.org>
Cc: dpdk-test-reports@iol.unh.edu, Xueming Li <xuemingl@nvidia.com>,
 Christian Ehrhardt <christian.ehrhardt@canonical.com>,
 Kevin Traynor <ktraynor@redhat.com>, Luca Boccassi <bluca@debian.org>
Content-Type: text/plain
X-BeenThere: test-report@dpdk.org
X-Mailman-Version: 2.1.29
Precedence: list
List-Id: automatic DPDK test reports <test-report.dpdk.org>
List-Unsubscribe: <https://mails.dpdk.org/options/test-report>,
 <mailto:test-report-request@dpdk.org?subject=unsubscribe>
List-Archive: <http://mails.dpdk.org/archives/test-report/>
List-Post: <mailto:test-report@dpdk.org>
List-Help: <mailto:test-report-request@dpdk.org?subject=help>
List-Subscribe: <https://mails.dpdk.org/listinfo/test-report>,
 <mailto:test-report-request@dpdk.org?subject=subscribe>
Errors-To: test-report-bounces@dpdk.org

_Testing PASS_

Branch: tags/v22.11

4401486b5e30d43a134f80f9802f60b5f43e74a8 --> testing pass

Upstream job id: Generic-DPDK-Compile-ABI#123897

Test environment and result as below:

+-------------------+----------+
|    Environment    | abi_test |
+===================+==========+
| CentOS Stream 9   | PASS     |
+-------------------+----------+
| CentOS Stream 10  | PASS     |
+-------------------+----------+
| Fedora 40 (Clang) | PASS     |
+-------------------+----------+
| Debian 12         | PASS     |
+-------------------+----------+
| Fedora 40         | PASS     |
+-------------------+----------+
| openSUSE Leap 15  | PASS     |
+-------------------+----------+
| Fedora 41 (Clang) | PASS     |
+-------------------+----------+
| Fedora 41         | PASS     |
+-------------------+----------+
| RHEL8             | PASS     |
+-------------------+----------+
| RHEL9             | PASS     |
+-------------------+----------+
| Ubuntu 22.04      | PASS     |
+-------------------+----------+
| Ubuntu 24.04      | PASS     |
+-------------------+----------+


CentOS Stream 9
	Kernel: Depends on container host
	Compiler: gcc 11.5.0 20240719 (Red Hat 11.5.0-2)

CentOS Stream 10
	Kernel: Depends on container host
	Compiler: gcc 14.2.1 20241104 (Red Hat 14.2.1-6)

Fedora 40 (Clang)
	Kernel: Depends on container host
	Compiler: clang 18.1.8 (Fedora 18.1.8-1.fc40)

Debian 12
	Kernel: Depends on container host
	Compiler: gcc (Debian 12.2.0-14) 12.2.0

Fedora 40
	Kernel: Depends on container host
	Compiler: gcc 14.2.1 20240912 (Red Hat 14.2.1-3)

openSUSE Leap 15
	Kernel: Depends on container host
	Compiler: gcc (SUSE Linux) 7.5.0

Fedora 41 (Clang)
	Kernel: Depends on container host
	Compiler: clang 19.1.5 (Fedora 19.1.5-1.fc41)

Fedora 41
	Kernel: Depends on container host
	Compiler: gcc 14.2.1 20240912 (Red Hat 14.2.1-3)

RHEL8
	Kernel: Depends on container host
	Compiler: gcc 8.5.0 20210514 (Red Hat 8.5.0-22)

RHEL9
	Kernel: Depends on container host
	Compiler: gcc 11.5.0 20240719 (Red Hat 11.5.0-2)

Ubuntu 22.04
	Kernel: Depends on container host
	Compiler: gcc (Ubuntu 11.4.0-1ubuntu1~22.04) 11.4.0

Ubuntu 24.04
	Kernel: Depends on container host
	Compiler: gcc (Ubuntu 13.3.0-6ubuntu2~24.04) 13.3.0

To view detailed results, visit:
https://lab.dpdk.org/results/dashboard/tarballs/33311/

UNH-IOL DPDK Community Lab

To manage your email subscriptions, visit: 
https://lab.dpdk.org/results/dashboard/preferences/subscriptions/