From mboxrd@z Thu Jan  1 00:00:00 1970
Return-Path: <test-report-bounces@dpdk.org>
Received: from mails.dpdk.org (mails.dpdk.org [217.70.189.124])
	by inbox.dpdk.org (Postfix) with ESMTP id 59975465EA
	for <public@inbox.dpdk.org>; Mon, 21 Apr 2025 08:30:41 +0200 (CEST)
Received: from mails.dpdk.org (localhost [127.0.0.1])
	by mails.dpdk.org (Postfix) with ESMTP id 3302B40156;
	Mon, 21 Apr 2025 08:30:41 +0200 (CEST)
Received: from mail-qv1-f100.google.com (mail-qv1-f100.google.com
 [209.85.219.100])
 by mails.dpdk.org (Postfix) with ESMTP id 18F2140151
 for <test-report@dpdk.org>; Mon, 21 Apr 2025 08:30:40 +0200 (CEST)
Received: by mail-qv1-f100.google.com with SMTP id
 6a1803df08f44-6ed0cc5eca4so49979026d6.1
 for <test-report@dpdk.org>; Sun, 20 Apr 2025 23:30:40 -0700 (PDT)
DKIM-Signature: v=1; a=rsa-sha256; c=relaxed/relaxed;
 d=iol.unh.edu; s=unh-iol; t=1745217039; x=1745821839; darn=dpdk.org;
 h=cc:to:from:subject:message-id:date:from:to:cc:subject:date
 :message-id:reply-to;
 bh=8TCxQAWc+owWIFvVFuZPqPc1ibgL7mfLDrETcnOXkp4=;
 b=PcHr8UBCDcJWdcB+8X1KPkr0xCEyw8vBgeHofK2FWS0I+4rKBz1YhzXjkxK492/Orj
 7otFovHX9QmwICvBe5TADYfUvue/BJlrG0fIHaiRvkcCtSsqNXZXDuXccNqYriNdpIFF
 8VzkCnwCdmQiZMYJBjH1wNKVawB4mauedGwm8=
X-Google-DKIM-Signature: v=1; a=rsa-sha256; c=relaxed/relaxed;
 d=1e100.net; s=20230601; t=1745217039; x=1745821839;
 h=cc:to:from:subject:message-id:date:x-gm-message-state:from:to:cc
 :subject:date:message-id:reply-to;
 bh=8TCxQAWc+owWIFvVFuZPqPc1ibgL7mfLDrETcnOXkp4=;
 b=UPSz3IAx6iutIWwy5QhUdL7LZrk2KIIV9voUWgbA+lC6Fgwf1RPEA6gABAAg4ayvZy
 mfV/hHubt2LSQfL76mdcuH6BvBJcXRghwDe5iJ0x2KZKXcI1fAKIuUXknOexYQgzJ0tN
 ujtJNFnKhupPK+42H+FvYxtMjosRShZA671X2hD7f9nJ0ZDRqFmZgneMwQzOeiubiGRW
 b5cOU4aAdOrF3W4vgMFsjPrTQW1rUrC/XJ9F4dRY0fSwhbjYSe5kDGqLEy5qB8JRiq3Y
 yQU1bDt1HrnYiq2vqX2lT6ABmsL7bd0IP8szu+9L9TqtNwL7sTP8RGsXwq4JEcd8XRy4
 XhRA==
X-Gm-Message-State: AOJu0Yy1vKTnNRrXvC8p4s8D2mop0HXBnI1vQzt7ptFIrBur0szOhUX2
 69i0dZx4Klo+Q3IL7PzzEOKAeOFfCdeVJsJvZw4KXutay7Xr0p//E3vCZhU+lYzox4tPvFB1V3L
 bPSvmAEU6xM28GNdcyNR3TuPp0SJ/DuK7
X-Gm-Gg: ASbGncu1TV3o03IGNGRr6lMd+iAYAEqrMFhNLPiCeV+3R0Gkrl34RPQp269qzzWsstd
 LyJHl7irj/+BkpJrEPxQwyQvAhX4jiWV0L/ST9jutjpq2GfRx8H/iqfAumseF2k84ZhTf2vUBaN
 1G5RO7H2N32AXm4a5MUxJWZGPvE5AWghEumNyhDFbTGvMS+sbSkl0RHhzG1CeapxHfKtoNQAAjU
 mqQSCAScuOUHXCa6So9dtLDegP2IExMNuzQqzOQ0YpxzsVbFkBcVpksEw+RmbO1K5fzRyJjPySR
 Bl2oHxr9BUvbff9lTtXV9OEcOi4H8Q80RqxG
X-Google-Smtp-Source: AGHT+IEY9E0+o0+1LIBORFGyAoEaT2HtshS1N3GrdQ/BJUcLFIxbFn+64vSn71zmtXC6t0USIdsC8+Fwb7Cl
X-Received: by 2002:a05:6214:212e:b0:6ef:a8:4062 with SMTP id
 6a1803df08f44-6f2c4b7550dmr206735296d6.0.1745217039079; 
 Sun, 20 Apr 2025 23:30:39 -0700 (PDT)
Received: from postal.iol.unh.edu (postal.iol.unh.edu. [132.177.123.84])
 by smtp-relay.gmail.com with ESMTPS id
 6a1803df08f44-6f2c2b1e111sm2883566d6.37.2025.04.20.23.30.39
 (version=TLS1_2 cipher=ECDHE-ECDSA-AES128-GCM-SHA256 bits=128/128);
 Sun, 20 Apr 2025 23:30:39 -0700 (PDT)
X-Relaying-Domain: iol.unh.edu
Date: Sun, 20 Apr 2025 23:30:39 -0700 (PDT)
Message-ID: <6805e60f.d40a0220.c1016.067eSMTPIN_ADDED_MISSING@mx.google.com>
Received: from [172.21.0.6] (unknown [172.18.0.240])
 by postal.iol.unh.edu (Postfix) with ESMTP id 1FDA26052471;
 Mon, 21 Apr 2025 02:30:36 -0400 (EDT)
Subject: |SUCCESS| [GIT MASTER] c66daa12e76d7b4912cfb7109a761856a7a873ab
From: dpdklab@iol.unh.edu
To: Test Report <test-report@dpdk.org>
Cc: dpdk-test-reports@iol.unh.edu, Xueming Li <xuemingl@nvidia.com>,
 Christian Ehrhardt <christian.ehrhardt@canonical.com>,
 Kevin Traynor <ktraynor@redhat.com>, Luca Boccassi <bluca@debian.org>
Content-Type: text/plain
X-BeenThere: test-report@dpdk.org
X-Mailman-Version: 2.1.29
Precedence: list
List-Id: automatic DPDK test reports <test-report.dpdk.org>
List-Unsubscribe: <https://mails.dpdk.org/options/test-report>,
 <mailto:test-report-request@dpdk.org?subject=unsubscribe>
List-Archive: <http://mails.dpdk.org/archives/test-report/>
List-Post: <mailto:test-report@dpdk.org>
List-Help: <mailto:test-report-request@dpdk.org?subject=help>
List-Subscribe: <https://mails.dpdk.org/listinfo/test-report>,
 <mailto:test-report-request@dpdk.org?subject=subscribe>
Errors-To: test-report-bounces@dpdk.org

_Testing PASS_

Branch: tags/v23.11

c66daa12e76d7b4912cfb7109a761856a7a873ab --> testing pass

Upstream job id: ACVP-FIPS-testing#9592

Test environment and result as below:

+--------------------+----------------------+----------------------+
|    Environment     | compressdev_zlib_pmd | dpdk_fips_validation |
+====================+======================+======================+
| Ubuntu 22.04 (ARM) | PASS                 | SKIPPED              |
+--------------------+----------------------+----------------------+
| Ubuntu 22.04       | PASS                 | SKIPPED              |
+--------------------+----------------------+----------------------+
| Ubuntu 20.04       | SKIPPED              | PASS                 |
+--------------------+----------------------+----------------------+


Ubuntu 22.04 (ARM)
	Kernel: 5.15.0-97-generic
	Compiler: gcc gcc (Ubuntu 11.4.0-1ubuntu1~22.04) 11.4.0

Ubuntu 22.04
	Kernel: 5.15.0-100-generic
	Compiler: gcc gcc (Ubuntu 11.4.0-1ubuntu1~22.04) 11.4.0

Ubuntu 20.04
	Kernel: Depends on container host
	Compiler: gcc (Ubuntu 9.4.0-1ubuntu1~20.04.2) 9.4.0

To view detailed results, visit:
https://lab.dpdk.org/results/dashboard/tarballs/33310/

UNH-IOL DPDK Community Lab

To manage your email subscriptions, visit: 
https://lab.dpdk.org/results/dashboard/preferences/subscriptions/