From mboxrd@z Thu Jan  1 00:00:00 1970
Return-Path: <test-report-bounces@dpdk.org>
Received: from mails.dpdk.org (mails.dpdk.org [217.70.189.124])
	by inbox.dpdk.org (Postfix) with ESMTP id 7EEC1465EA
	for <public@inbox.dpdk.org>; Mon, 21 Apr 2025 08:54:30 +0200 (CEST)
Received: from mails.dpdk.org (localhost [127.0.0.1])
	by mails.dpdk.org (Postfix) with ESMTP id 75EA540156;
	Mon, 21 Apr 2025 08:54:30 +0200 (CEST)
Received: from mail-pj1-f99.google.com (mail-pj1-f99.google.com
 [209.85.216.99]) by mails.dpdk.org (Postfix) with ESMTP id D97D640151
 for <test-report@dpdk.org>; Mon, 21 Apr 2025 08:54:28 +0200 (CEST)
Received: by mail-pj1-f99.google.com with SMTP id
 98e67ed59e1d1-2ff784dc055so3346310a91.1
 for <test-report@dpdk.org>; Sun, 20 Apr 2025 23:54:28 -0700 (PDT)
DKIM-Signature: v=1; a=rsa-sha256; c=relaxed/relaxed;
 d=iol.unh.edu; s=unh-iol; t=1745218468; x=1745823268; darn=dpdk.org;
 h=cc:to:from:subject:message-id:date:from:to:cc:subject:date
 :message-id:reply-to;
 bh=Fwcx70b8MvMFjA6yV7wKU3n0r5DsbZNKx7GZtc6PZjc=;
 b=gCTiUfdZQDyY0nP/cTm/+9ScAWyoC+qbdRvHoR938ofDADK/xR5yWwfPyvJo2UmTRV
 KvAmE6fpQoAf2BYrQIc9FfVel1+6KUlitgkALgPqyT39uuMOt91cFvO7mILS35N0M7lJ
 5Ij5VbGKcLU+oHgOcP+ns7K4xmzBRQNCVzCps=
X-Google-DKIM-Signature: v=1; a=rsa-sha256; c=relaxed/relaxed;
 d=1e100.net; s=20230601; t=1745218468; x=1745823268;
 h=cc:to:from:subject:message-id:date:x-gm-message-state:from:to:cc
 :subject:date:message-id:reply-to;
 bh=Fwcx70b8MvMFjA6yV7wKU3n0r5DsbZNKx7GZtc6PZjc=;
 b=AS0xAXs9umnG1P6v/djqFQChCc+LuyqOw2PzRPPeiLZJgH3/GAyJVFRGMzm+RDSA63
 mZQnRI283a4DSXr5BTQl2qo2IKBURStlEWzwpWWnXgsKB+I87ZzF7jH/XrbucG5BoUzT
 qWPB100YYkTQvSIm5vF60F2SnlL+WlUYSWr/NtNl1TPlyedS9YxgsURpRcJXF6Qpg0ft
 gfh8kfdpKYbTcvFo4q0+I2uk24ymhazuew2otukXayAhuqASV07juE3ymmoZn043oL7G
 JzBuneRwAT2H0UB9OCD/HZ94hMzj9p/rDZdUXJzVU/dquLybDmBVq/82WVh6BRTovXZp
 cNoQ==
X-Gm-Message-State: AOJu0YySKl0BS51cDNWqXXUnsq1XxPWWW58+olhkQQiYGNZiIHSSDJeB
 57HDoCJF53rI3hCoiZsl1QH3RfVE91Dac3IC3V7IUE9J2r7gHO1foGJSw7HAEMU7Gx22j4acVBN
 zYwA+MDI4ZEvnB0HzeOGR20ftqp3A4InX
X-Gm-Gg: ASbGncsK9dS6hrKNWBtzWqPhw/9Zp+UIQOYMFQvxn/y2uo2QE615+KZ6UrHSwHWLzGO
 agnwDT6IryPC82q2ZjctF0C+mecRwIi0k2PtBkOXgyjcal+tbv6ZTeU8uRNx9TnMclCZaOtSG+C
 Z41E+GBSbbYWeaIFB9gpDN22tpnPmc3lqFdLYZbU+vcTEhumgHH+zTbUAXEhNd+LkVtbd3B2oEx
 zgICcvUPSOtgCQgfslcpVXMgwTu9ka5DXTxbGrhNsjofb7bTFeI4d3bxtv3pkmBBufX1NC5IV1c
 ZPHgGvfO0vV+LbqsaCEqphARJAjs+q1RHvqI
X-Google-Smtp-Source: AGHT+IEl00yh/rwzvyZnmboCERx6Eu1/OSK5Bw4l03+T74yeuV2W6mg+aDxYdR5PBtdJ93Kgm3nEHG9nWkBU
X-Received: by 2002:a17:90b:4b90:b0:2ee:d433:7c50 with SMTP id
 98e67ed59e1d1-3087bbaeb8dmr12216794a91.23.1745218467779; 
 Sun, 20 Apr 2025 23:54:27 -0700 (PDT)
Received: from postal.iol.unh.edu (postal.iol.unh.edu. [132.177.123.84])
 by smtp-relay.gmail.com with ESMTPS id
 98e67ed59e1d1-3087df24089sm417460a91.9.2025.04.20.23.54.27
 (version=TLS1_2 cipher=ECDHE-ECDSA-AES128-GCM-SHA256 bits=128/128);
 Sun, 20 Apr 2025 23:54:27 -0700 (PDT)
X-Relaying-Domain: iol.unh.edu
Date: Sun, 20 Apr 2025 23:54:27 -0700 (PDT)
Message-ID: <6805eba3.170a0220.338b7.7fb2SMTPIN_ADDED_MISSING@mx.google.com>
Received: from [172.21.0.5] (unknown [172.18.0.240])
 by postal.iol.unh.edu (Postfix) with ESMTP id D9FCD6052471;
 Mon, 21 Apr 2025 02:54:26 -0400 (EDT)
Subject: |SUCCESS| [GIT MASTER] c66daa12e76d7b4912cfb7109a761856a7a873ab
From: dpdklab@iol.unh.edu
To: Test Report <test-report@dpdk.org>
Cc: dpdk-test-reports@iol.unh.edu, Xueming Li <xuemingl@nvidia.com>,
 Christian Ehrhardt <christian.ehrhardt@canonical.com>,
 Kevin Traynor <ktraynor@redhat.com>, Luca Boccassi <bluca@debian.org>
Content-Type: text/plain
X-BeenThere: test-report@dpdk.org
X-Mailman-Version: 2.1.29
Precedence: list
List-Id: automatic DPDK test reports <test-report.dpdk.org>
List-Unsubscribe: <https://mails.dpdk.org/options/test-report>,
 <mailto:test-report-request@dpdk.org?subject=unsubscribe>
List-Archive: <http://mails.dpdk.org/archives/test-report/>
List-Post: <mailto:test-report@dpdk.org>
List-Help: <mailto:test-report-request@dpdk.org?subject=help>
List-Subscribe: <https://mails.dpdk.org/listinfo/test-report>,
 <mailto:test-report-request@dpdk.org?subject=subscribe>
Errors-To: test-report-bounces@dpdk.org

_Testing PASS_

Branch: tags/v23.11

c66daa12e76d7b4912cfb7109a761856a7a873ab --> testing pass

Upstream job id: Generic-DPDK-Compile-Meson#381561

Test environment and result as below:

+---------------------+--------------------+-------------------+------------------+-------------------+-------------------------+----------------------+
|     Environment     | dpdk_meson_compile | dpdk_compile_spdk | dpdk_compile_ovs | dpdk_msvc_compile | dpdk_llvm_clang_compile | dpdk_mingw64_compile |
+=====================+====================+===================+==================+===================+=========================+======================+
| CentOS Stream 9     | PASS               | PASS              | SKIPPED          | SKIPPED           | SKIPPED                 | SKIPPED              |
+---------------------+--------------------+-------------------+------------------+-------------------+-------------------------+----------------------+
| Debian 12           | PASS               | PASS              | SKIPPED          | SKIPPED           | SKIPPED                 | SKIPPED              |
+---------------------+--------------------+-------------------+------------------+-------------------+-------------------------+----------------------+
| Fedora 40 (Clang)   | PASS               | PASS              | SKIPPED          | SKIPPED           | SKIPPED                 | SKIPPED              |
+---------------------+--------------------+-------------------+------------------+-------------------+-------------------------+----------------------+
| Fedora 41           | PASS               | PASS              | PASS             | SKIPPED           | SKIPPED                 | SKIPPED              |
+---------------------+--------------------+-------------------+------------------+-------------------+-------------------------+----------------------+
| Fedora 40           | PASS               | PASS              | SKIPPED          | SKIPPED           | SKIPPED                 | SKIPPED              |
+---------------------+--------------------+-------------------+------------------+-------------------+-------------------------+----------------------+
| Fedora 41 (Clang)   | PASS               | PASS              | PASS             | SKIPPED           | SKIPPED                 | SKIPPED              |
+---------------------+--------------------+-------------------+------------------+-------------------+-------------------------+----------------------+
| Ubuntu 24.04        | PASS               | PASS              | PASS             | SKIPPED           | SKIPPED                 | SKIPPED              |
+---------------------+--------------------+-------------------+------------------+-------------------+-------------------------+----------------------+
| openSUSE Leap 15    | PASS               | SKIPPED           | SKIPPED          | SKIPPED           | SKIPPED                 | SKIPPED              |
+---------------------+--------------------+-------------------+------------------+-------------------+-------------------------+----------------------+
| Ubuntu 20.04        | PASS               | SKIPPED           | SKIPPED          | SKIPPED           | SKIPPED                 | SKIPPED              |
+---------------------+--------------------+-------------------+------------------+-------------------+-------------------------+----------------------+
| RHEL8               | PASS               | SKIPPED           | SKIPPED          | SKIPPED           | SKIPPED                 | SKIPPED              |
+---------------------+--------------------+-------------------+------------------+-------------------+-------------------------+----------------------+
| Ubuntu 22.04        | PASS               | PASS              | SKIPPED          | SKIPPED           | SKIPPED                 | SKIPPED              |
+---------------------+--------------------+-------------------+------------------+-------------------+-------------------------+----------------------+
| RHEL9               | PASS               | SKIPPED           | SKIPPED          | SKIPPED           | SKIPPED                 | SKIPPED              |
+---------------------+--------------------+-------------------+------------------+-------------------+-------------------------+----------------------+
| Alpine              | PASS               | SKIPPED           | SKIPPED          | SKIPPED           | SKIPPED                 | SKIPPED              |
+---------------------+--------------------+-------------------+------------------+-------------------+-------------------------+----------------------+
| FreeBSD 13.5        | PASS               | SKIPPED           | SKIPPED          | SKIPPED           | SKIPPED                 | SKIPPED              |
+---------------------+--------------------+-------------------+------------------+-------------------+-------------------------+----------------------+
| FreeBSD 14.2        | PASS               | SKIPPED           | SKIPPED          | SKIPPED           | SKIPPED                 | SKIPPED              |
+---------------------+--------------------+-------------------+------------------+-------------------+-------------------------+----------------------+
| CentOS Stream 10    | PASS               | SKIPPED           | SKIPPED          | SKIPPED           | SKIPPED                 | SKIPPED              |
+---------------------+--------------------+-------------------+------------------+-------------------+-------------------------+----------------------+
| Windows Server 2022 | SKIPPED            | SKIPPED           | SKIPPED          | PASS              | PASS                    | PASS                 |
+---------------------+--------------------+-------------------+------------------+-------------------+-------------------------+----------------------+


CentOS Stream 9
	Kernel: Depends on container host
	Compiler: gcc 11.5.0 20240719 (Red Hat 11.5.0-2)

Debian 12
	Kernel: Depends on container host
	Compiler: gcc (Debian 12.2.0-14) 12.2.0

Fedora 40 (Clang)
	Kernel: Depends on container host
	Compiler: clang 18.1.8 (Fedora 18.1.8-1.fc40)

Fedora 41
	Kernel: Depends on container host
	Compiler: gcc 14.2.1 20240912 (Red Hat 14.2.1-3)

Fedora 40
	Kernel: Depends on container host
	Compiler: gcc 14.2.1 20240912 (Red Hat 14.2.1-3)

Fedora 41 (Clang)
	Kernel: Depends on container host
	Compiler: clang 19.1.5 (Fedora 19.1.5-1.fc41)

Ubuntu 24.04
	Kernel: Depends on container host
	Compiler: gcc (Ubuntu 13.3.0-6ubuntu2~24.04) 13.3.0

openSUSE Leap 15
	Kernel: Depends on container host
	Compiler: gcc (SUSE Linux) 7.5.0

Ubuntu 20.04
	Kernel: Depends on container host
	Compiler: gcc (Ubuntu 9.4.0-1ubuntu1~20.04.2) 9.4.0

RHEL8
	Kernel: Depends on container host
	Compiler: gcc 8.5.0 20210514 (Red Hat 8.5.0-22)

Ubuntu 22.04
	Kernel: Depends on container host
	Compiler: gcc (Ubuntu 11.4.0-1ubuntu1~22.04) 11.4.0

RHEL9
	Kernel: Depends on container host
	Compiler: gcc 11.5.0 20240719 (Red Hat 11.5.0-2)

Alpine
	Kernel: Depends on container host
	Compiler: gcc (Alpine 14.2.0) 14.2.0

FreeBSD 13.5
	Kernel: 13.5-RELEASE
	Compiler: clang 19.1.7

FreeBSD 14.2
	Kernel: 14.2-RELEASE
	Compiler: clang 18.1.6

CentOS Stream 10
	Kernel: Depends on container host
	Compiler: gcc 14.2.1 20241104 (Red Hat 14.2.1-6)

Windows Server 2022
	Kernel: 10.0.20348.2031
	Compiler: clang 15.0.7, gcc 14.1.0 (MinGW), and MSVC VS 19.39.33521

To view detailed results, visit:
https://lab.dpdk.org/results/dashboard/tarballs/33310/

UNH-IOL DPDK Community Lab

To manage your email subscriptions, visit: 
https://lab.dpdk.org/results/dashboard/preferences/subscriptions/