From mboxrd@z Thu Jan  1 00:00:00 1970
Return-Path: <test-report-bounces@dpdk.org>
Received: from mails.dpdk.org (mails.dpdk.org [217.70.189.124])
	by inbox.dpdk.org (Postfix) with ESMTP id 246E6465ED
	for <public@inbox.dpdk.org>; Mon, 21 Apr 2025 12:01:05 +0200 (CEST)
Received: from mails.dpdk.org (localhost [127.0.0.1])
	by mails.dpdk.org (Postfix) with ESMTP id 206D5402E6;
	Mon, 21 Apr 2025 12:01:05 +0200 (CEST)
Received: from mail-yw1-f225.google.com (mail-yw1-f225.google.com
 [209.85.128.225])
 by mails.dpdk.org (Postfix) with ESMTP id 2027F402DA
 for <test-report@dpdk.org>; Mon, 21 Apr 2025 12:01:03 +0200 (CEST)
Received: by mail-yw1-f225.google.com with SMTP id
 00721157ae682-6ef60e500d7so29525157b3.0
 for <test-report@dpdk.org>; Mon, 21 Apr 2025 03:01:03 -0700 (PDT)
DKIM-Signature: v=1; a=rsa-sha256; c=relaxed/relaxed;
 d=iol.unh.edu; s=unh-iol; t=1745229662; x=1745834462; darn=dpdk.org;
 h=references:in-reply-to:cc:to:from:subject:message-id:date:from:to
 :cc:subject:date:message-id:reply-to;
 bh=KMxMUEOutVTMxDFS+kR06YBFnf3128DeWAxfExlnqkY=;
 b=VjlRrSZwO0q0j0G3jXelu0S4dbT1/rbq8Nk4rNxD0tIaRE0HzMrjomNWyTcXGLNnxW
 sSfIROd5njc4u3VHQKgX/oFfgzzupvKP7ugOEcje10+K1K4v5H3DTFmb+zszRs94tcqv
 uiTEGfay4la3+jzSmyl2CEu+HnSv4nihpz7TU=
X-Google-DKIM-Signature: v=1; a=rsa-sha256; c=relaxed/relaxed;
 d=1e100.net; s=20230601; t=1745229662; x=1745834462;
 h=references:in-reply-to:cc:to:from:subject:message-id:date
 :x-gm-message-state:from:to:cc:subject:date:message-id:reply-to;
 bh=KMxMUEOutVTMxDFS+kR06YBFnf3128DeWAxfExlnqkY=;
 b=Hc33dIkFPuyV8aT/QDPUtf/s/w++WCxssIu59qBYZNZm4MaCRTMNleSen9LNYJruS/
 xJfnSBQiQdGKltRd2j0jDA3V+IRJ9sn9Hhk3k15vBG3FYnYScbq1AfKcICz6U5UgezWV
 5wmgfajbBX1fHcIpfQbZ3Pplk5ufFBqH4kudAnfe6cgQm0iOtril3Lmu2IQqkyCVgeg8
 jcLphFOAqzQOdEtCUV3d3xolQEObJBJ0UE+AZsB3ZC3tPuET9h0AAYsF7A2KlkK8z8MY
 sehBgfx3XGTm5ryn6/In40D8TjOqpf3QFh4okn6VMWcrg6q/Arvgd9Pc7Zz/J7DGNRV6
 xjrA==
X-Gm-Message-State: AOJu0YwziLp48687Pa6PxgpteG8OB7u7wBjrqmfFEW6+8Vr5VHeGAx1E
 11Phs2iKeI3OlRnVPoYeR6v6/Uxmn+gv3TQ+UDBsLdk0sDLcmL89oQAI0UJkjQPUYbCBLG5o6Hm
 1U7TK5r2Ms/B+2HK51KCN+p6u92EvVCt6OinLOZ5YIYH5fhmBYeWzYrI+
X-Gm-Gg: ASbGncs9u9Fi1UBQjGrb/uyU3A/g3+OiNb8S7B9Fk3Ut5vK37sYmukya/ZnHwf/q2Ca
 s9svIwvxMWlh0cCYAxvFgJNoljG2hBAj/SCw7W3SpbqO0l2fM5rSTwDPOJ9skp3z4OryEOk/0Nx
 NYuOtlcKwByXoMGGmJTUvHruk4E9qqK+KC/blNGlOmsAvftXw/BW99uNfa24kA+EkAPVUr+40aF
 bF0m0lYlsm2xeSCXpjCofL48WYcyq3sFoYyt69rOmYcb/OFfsHCTL8V/apDDMBn68MzX5uOQ2Nx
 lM7sjOrRv5u2QGhSo5JgIbvSTyKtWRJmSVYzjT6TnOKdzH+U
X-Google-Smtp-Source: AGHT+IEPdGl7iXjvAVDfd5YLt0+dlWLeerQYNFFYcymKu3ZqEEWq45iBBrNNakIalcEqusKzPPfatJs3Siii
X-Received: by 2002:a05:690c:74c7:b0:703:d7a6:6266 with SMTP id
 00721157ae682-706ccce45famr171665057b3.10.1745229662478; 
 Mon, 21 Apr 2025 03:01:02 -0700 (PDT)
Received: from postal.iol.unh.edu (postal.iol.unh.edu.
 [2606:4100:3880:1234::84]) by smtp-relay.gmail.com with ESMTPS id
 00721157ae682-706ca49bfc0sm2418617b3.23.2025.04.21.03.01.02
 (version=TLS1_2 cipher=ECDHE-ECDSA-AES128-GCM-SHA256 bits=128/128);
 Mon, 21 Apr 2025 03:01:02 -0700 (PDT)
X-Relaying-Domain: iol.unh.edu
Date: Mon, 21 Apr 2025 03:01:02 -0700 (PDT)
Message-ID: <6806175e.050a0220.cbbae.d9b1SMTPIN_ADDED_MISSING@mx.google.com>
Received: from [172.17.0.3] (unknown [172.18.0.217])
 by postal.iol.unh.edu (Postfix) with ESMTP id 9AA2D6052471;
 Mon, 21 Apr 2025 06:00:59 -0400 (EDT)
Subject: |SUCCESS| pw153056 [PATCH] test/crypto: add test case for modex grou
From: dpdklab@iol.unh.edu
To: Test Report <test-report@dpdk.org>
Cc: dpdk-test-reports@iol.unh.edu
In-Reply-To: <20250421064629.1743-1-gmuthukrishn@marvell.com>
References: <20250421064629.1743-1-gmuthukrishn@marvell.com>
Content-Type: text/plain
X-BeenThere: test-report@dpdk.org
X-Mailman-Version: 2.1.29
Precedence: list
List-Id: automatic DPDK test reports <test-report.dpdk.org>
List-Unsubscribe: <https://mails.dpdk.org/options/test-report>,
 <mailto:test-report-request@dpdk.org?subject=unsubscribe>
List-Archive: <http://mails.dpdk.org/archives/test-report/>
List-Post: <mailto:test-report@dpdk.org>
List-Help: <mailto:test-report-request@dpdk.org?subject=help>
List-Subscribe: <https://mails.dpdk.org/listinfo/test-report>,
 <mailto:test-report-request@dpdk.org?subject=subscribe>
Errors-To: test-report-bounces@dpdk.org

Test-Label: iol-unit-amd64-testing
Test-Status: SUCCESS
http://dpdk.org/patch/153056

_Testing PASS_

Submitter: Gowrishankar Muthukrishnan <gmuthukrishn@marvell.com>
Date: Monday, April 21 2025 06:46:25 
DPDK git baseline: Repo:dpdk
  Branch: master
  CommitID:ca1690ebd224f148268285b15b97441ccdbdd07e

153056 --> testing pass

Upstream job id: Generic-Unit-Test-DPDK#332429

Test environment and result as below:

+-------------------+----------------+
|    Environment    | dpdk_unit_test |
+===================+================+
| CentOS Stream 9   | PASS           |
+-------------------+----------------+
| CentOS Stream 10  | PASS           |
+-------------------+----------------+
| Debian 12         | PASS           |
+-------------------+----------------+
| Fedora 41         | PASS           |
+-------------------+----------------+
| Fedora 40         | PASS           |
+-------------------+----------------+
| Fedora 40 (Clang) | PASS           |
+-------------------+----------------+
| RHEL8             | PASS           |
+-------------------+----------------+
| Ubuntu 24.04      | PASS           |
+-------------------+----------------+
| Fedora 41 (Clang) | PASS           |
+-------------------+----------------+
| Ubuntu 20.04      | PASS           |
+-------------------+----------------+
| RHEL9             | PASS           |
+-------------------+----------------+
| Ubuntu 22.04      | PASS           |
+-------------------+----------------+


CentOS Stream 9
	Kernel: Depends on container host
	Compiler: gcc 11.5.0 20240719 (Red Hat 11.5.0-2)

CentOS Stream 10
	Kernel: Depends on container host
	Compiler: gcc 14.2.1 20241104 (Red Hat 14.2.1-6)

Debian 12
	Kernel: Depends on container host
	Compiler: gcc (Debian 12.2.0-14) 12.2.0

Fedora 41
	Kernel: Depends on container host
	Compiler: gcc 14.2.1 20240912 (Red Hat 14.2.1-3)

Fedora 40
	Kernel: Depends on container host
	Compiler: gcc 14.2.1 20240912 (Red Hat 14.2.1-3)

Fedora 40 (Clang)
	Kernel: Depends on container host
	Compiler: clang 18.1.8 (Fedora 18.1.8-1.fc40)

RHEL8
	Kernel: Depends on container host
	Compiler: gcc 8.5.0 20210514 (Red Hat 8.5.0-22)

Ubuntu 24.04
	Kernel: Depends on container host
	Compiler: gcc (Ubuntu 13.3.0-6ubuntu2~24.04) 13.3.0

Fedora 41 (Clang)
	Kernel: Depends on container host
	Compiler: clang 19.1.5 (Fedora 19.1.5-1.fc41)

Ubuntu 20.04
	Kernel: Depends on container host
	Compiler: gcc (Ubuntu 9.4.0-1ubuntu1~20.04.2) 9.4.0

RHEL9
	Kernel: Depends on container host
	Compiler: gcc 11.5.0 20240719 (Red Hat 11.5.0-2)

Ubuntu 22.04
	Kernel: Depends on container host
	Compiler: gcc (Ubuntu 11.4.0-1ubuntu1~22.04) 11.4.0

To view detailed results, visit:
https://lab.dpdk.org/results/dashboard/patchsets/33040/

UNH-IOL DPDK Community Lab

To manage your email subscriptions, visit: 
https://lab.dpdk.org/results/dashboard/preferences/subscriptions/