From mboxrd@z Thu Jan  1 00:00:00 1970
Return-Path: <test-report-bounces@dpdk.org>
Received: from mails.dpdk.org (mails.dpdk.org [217.70.189.124])
	by inbox.dpdk.org (Postfix) with ESMTP id 3BDDD465ED
	for <public@inbox.dpdk.org>; Mon, 21 Apr 2025 12:23:48 +0200 (CEST)
Received: from mails.dpdk.org (localhost [127.0.0.1])
	by mails.dpdk.org (Postfix) with ESMTP id 20A65402BB;
	Mon, 21 Apr 2025 12:23:47 +0200 (CEST)
Received: from mail-pl1-f226.google.com (mail-pl1-f226.google.com
 [209.85.214.226])
 by mails.dpdk.org (Postfix) with ESMTP id 0BE62402A9
 for <test-report@dpdk.org>; Mon, 21 Apr 2025 12:23:46 +0200 (CEST)
Received: by mail-pl1-f226.google.com with SMTP id
 d9443c01a7336-22c33e4fdb8so38696555ad.2
 for <test-report@dpdk.org>; Mon, 21 Apr 2025 03:23:45 -0700 (PDT)
DKIM-Signature: v=1; a=rsa-sha256; c=relaxed/relaxed;
 d=iol.unh.edu; s=unh-iol; t=1745231025; x=1745835825; darn=dpdk.org;
 h=references:in-reply-to:cc:to:from:subject:message-id:date:from:to
 :cc:subject:date:message-id:reply-to;
 bh=5JT3MspEJO3VNZg9aOAII8ZGzXOMJHA8k6MYXdbrJDU=;
 b=dp6vw6R5xMQ47lzKqhkO2vrH8Dg/qHLMOf0mVCzTCX1qVZv14rfXMZ4486wKtFQRfd
 68hPN1NTb2VNWJczGhdqQKAhgk1FmCdicQkc3rFlheQzClP0HhedgwCW3yNYBtEip/rz
 iCHKH2CiKZZeB/5MY/fEvCl119QnefDsFCxV8=
X-Google-DKIM-Signature: v=1; a=rsa-sha256; c=relaxed/relaxed;
 d=1e100.net; s=20230601; t=1745231025; x=1745835825;
 h=references:in-reply-to:cc:to:from:subject:message-id:date
 :x-gm-message-state:from:to:cc:subject:date:message-id:reply-to;
 bh=5JT3MspEJO3VNZg9aOAII8ZGzXOMJHA8k6MYXdbrJDU=;
 b=ZXbtR6yX5M3xpRjiwQv3LFhVitNsT5mTLefIhCnGv/mHYOil9evJBAQKb6ctopdmX1
 9BAIZB80l7CfBcLajtImHm4VTiRP4fqAX2s4R/ldxonIx5UqLHn34Mkq5PnW4PfuIWpm
 RNSWuh4tlF4zgzda8HcM0MwZpwhc+EuJH3tYC8ew9mA8KdT8a9RT0/LgEPZOrf5hZ488
 RIY3a1eMkXzNIMm5ap8ySBiXfQ2BlT1ml3WybJrxhLN0hO/b0WyeXKKUwnhqJaazjN3f
 ij2FrRjdMM+uwPHz3foy7QRJtACIVblFLOZAuRUWpBg/MnAtPb5PM8xYqtiH+rL3spVx
 j2ng==
X-Gm-Message-State: AOJu0YzdlfoBz/+OuY5rCPj5ylkMBHAOeizSx32OgtVEMiChVu9g6qmZ
 nLFk0eHjCC3zbi9yzp2mvVP5GYbdJBh3XucoBZhuRt22GWUH61fstRivpOoli5ZERYbVFSZsUBx
 DO0uhvhX6Yc2ScsDKcA9WplhIwNgrXVAD/+5+D51j
X-Gm-Gg: ASbGncvCwlfEaNWyHhkxha8LTQ47kHbiiSRTPEAN1S2sOEMpnslBQ3YgvjwDiki2gBj
 CCSSPTqBCzqQda7gvH32/Nkt2PDLDh5Zl7Wn5DqHh8Pl4WKSBIat9xiSy/gzK24IMB/N9sCkZLb
 ManBvAdkzeLsL6Ne3Ny80lnwaDmZ7cM+nykTM77Sz4sun4P8p1pdptJJBVX6DVn6XHFaJBUn1F8
 1CEAd5b+9NUhBVFWmW1AqAkirF6OdHuGcCYf0pmorqSHu/0Ra6X5fFq4gmjcsxta22iXkIpUUvA
 Z81zxbc7gSDy2PfFZ8a2NbcTKVQG5YyTjWwc
X-Google-Smtp-Source: AGHT+IGdstPA/skYIV6QkxLhKOrrl7x+1MzUEDd66vi3eM2C94AyyavK4xdrnWXCBZ1y1/bNpEhKgpc0L36s
X-Received: by 2002:a17:903:3202:b0:220:faa2:c917 with SMTP id
 d9443c01a7336-22c53611075mr175319625ad.34.1745231024874; 
 Mon, 21 Apr 2025 03:23:44 -0700 (PDT)
Received: from postal.iol.unh.edu (postal.iol.unh.edu. [132.177.123.84])
 by smtp-relay.gmail.com with ESMTPS id
 d9443c01a7336-22c50cf1ebdsm3504735ad.60.2025.04.21.03.23.44
 (version=TLS1_2 cipher=ECDHE-ECDSA-AES128-GCM-SHA256 bits=128/128);
 Mon, 21 Apr 2025 03:23:44 -0700 (PDT)
X-Relaying-Domain: iol.unh.edu
Date: Mon, 21 Apr 2025 03:23:44 -0700 (PDT)
Message-ID: <68061cb0.170a0220.6839a.46feSMTPIN_ADDED_MISSING@mx.google.com>
Received: from [172.17.0.3] (unknown [172.18.0.217])
 by postal.iol.unh.edu (Postfix) with ESMTP id 903A26052471;
 Mon, 21 Apr 2025 06:23:41 -0400 (EDT)
Subject: |SUCCESS| pw153056 [PATCH] test/crypto: add test case for modex grou
From: dpdklab@iol.unh.edu
To: Test Report <test-report@dpdk.org>
Cc: dpdk-test-reports@iol.unh.edu
In-Reply-To: <20250421064629.1743-1-gmuthukrishn@marvell.com>
References: <20250421064629.1743-1-gmuthukrishn@marvell.com>
Content-Type: text/plain
X-BeenThere: test-report@dpdk.org
X-Mailman-Version: 2.1.29
Precedence: list
List-Id: automatic DPDK test reports <test-report.dpdk.org>
List-Unsubscribe: <https://mails.dpdk.org/options/test-report>,
 <mailto:test-report-request@dpdk.org?subject=unsubscribe>
List-Archive: <http://mails.dpdk.org/archives/test-report/>
List-Post: <mailto:test-report@dpdk.org>
List-Help: <mailto:test-report-request@dpdk.org?subject=help>
List-Subscribe: <https://mails.dpdk.org/listinfo/test-report>,
 <mailto:test-report-request@dpdk.org?subject=subscribe>
Errors-To: test-report-bounces@dpdk.org

Test-Label: iol-unit-amd64-testing
Test-Status: SUCCESS
http://dpdk.org/patch/153056

_Testing PASS_

Submitter: Gowrishankar Muthukrishnan <gmuthukrishn@marvell.com>
Date: Monday, April 21 2025 06:46:25 
DPDK git baseline: Repo:dpdk
  Branch: master
  CommitID:ca1690ebd224f148268285b15b97441ccdbdd07e

153056 --> testing pass

Upstream job id: Generic-VM-Unit-Test-DPDK#28091

Test environment and result as below:

+---------------------+----------------+
|     Environment     | dpdk_unit_test |
+=====================+================+
| CentOS Stream 9     | PASS           |
+---------------------+----------------+
| CentOS Stream 10    | PASS           |
+---------------------+----------------+
| Debian 12           | PASS           |
+---------------------+----------------+
| Fedora 41           | PASS           |
+---------------------+----------------+
| Fedora 40           | PASS           |
+---------------------+----------------+
| Fedora 40 (Clang)   | PASS           |
+---------------------+----------------+
| RHEL8               | PASS           |
+---------------------+----------------+
| Ubuntu 24.04        | PASS           |
+---------------------+----------------+
| Fedora 41 (Clang)   | PASS           |
+---------------------+----------------+
| Ubuntu 20.04        | PASS           |
+---------------------+----------------+
| RHEL9               | PASS           |
+---------------------+----------------+
| Ubuntu 22.04        | PASS           |
+---------------------+----------------+
| Windows Server 2022 | PASS           |
+---------------------+----------------+


CentOS Stream 9
	Kernel: Depends on container host
	Compiler: gcc 11.5.0 20240719 (Red Hat 11.5.0-2)

CentOS Stream 10
	Kernel: Depends on container host
	Compiler: gcc 14.2.1 20241104 (Red Hat 14.2.1-6)

Debian 12
	Kernel: Depends on container host
	Compiler: gcc (Debian 12.2.0-14) 12.2.0

Fedora 41
	Kernel: Depends on container host
	Compiler: gcc 14.2.1 20240912 (Red Hat 14.2.1-3)

Fedora 40
	Kernel: Depends on container host
	Compiler: gcc 14.2.1 20240912 (Red Hat 14.2.1-3)

Fedora 40 (Clang)
	Kernel: Depends on container host
	Compiler: clang 18.1.8 (Fedora 18.1.8-1.fc40)

RHEL8
	Kernel: Depends on container host
	Compiler: gcc 8.5.0 20210514 (Red Hat 8.5.0-22)

Ubuntu 24.04
	Kernel: Depends on container host
	Compiler: gcc (Ubuntu 13.3.0-6ubuntu2~24.04) 13.3.0

Fedora 41 (Clang)
	Kernel: Depends on container host
	Compiler: clang 19.1.5 (Fedora 19.1.5-1.fc41)

Ubuntu 20.04
	Kernel: Depends on container host
	Compiler: gcc (Ubuntu 9.4.0-1ubuntu1~20.04.2) 9.4.0

RHEL9
	Kernel: Depends on container host
	Compiler: gcc 11.5.0 20240719 (Red Hat 11.5.0-2)

Ubuntu 22.04
	Kernel: Depends on container host
	Compiler: gcc (Ubuntu 11.4.0-1ubuntu1~22.04) 11.4.0

Windows Server 2022
	Kernel: 10.0.20348.2031
	Compiler: clang 15.0.7, gcc 14.1.0 (MinGW), and MSVC VS 19.39.33521

To view detailed results, visit:
https://lab.dpdk.org/results/dashboard/patchsets/33040/

UNH-IOL DPDK Community Lab

To manage your email subscriptions, visit: 
https://lab.dpdk.org/results/dashboard/preferences/subscriptions/