From mboxrd@z Thu Jan  1 00:00:00 1970
Return-Path: <test-report-bounces@dpdk.org>
Received: from mails.dpdk.org (mails.dpdk.org [217.70.189.124])
	by inbox.dpdk.org (Postfix) with ESMTP id 65F6A465EF
	for <public@inbox.dpdk.org>; Mon, 21 Apr 2025 17:01:13 +0200 (CEST)
Received: from mails.dpdk.org (localhost [127.0.0.1])
	by mails.dpdk.org (Postfix) with ESMTP id 25A5D402A9;
	Mon, 21 Apr 2025 17:01:13 +0200 (CEST)
Received: from mail-pj1-f99.google.com (mail-pj1-f99.google.com
 [209.85.216.99]) by mails.dpdk.org (Postfix) with ESMTP id 564FC40299
 for <test-report@dpdk.org>; Mon, 21 Apr 2025 17:01:12 +0200 (CEST)
Received: by mail-pj1-f99.google.com with SMTP id
 98e67ed59e1d1-306b602d2ffso4069677a91.0
 for <test-report@dpdk.org>; Mon, 21 Apr 2025 08:01:12 -0700 (PDT)
DKIM-Signature: v=1; a=rsa-sha256; c=relaxed/relaxed;
 d=iol.unh.edu; s=unh-iol; t=1745247671; x=1745852471; darn=dpdk.org;
 h=references:in-reply-to:cc:to:from:subject:message-id:date:from:to
 :cc:subject:date:message-id:reply-to;
 bh=sSuhamvnf/6E9Wb9gxfYEQzXCLES9hJJQx+O4VvsTzo=;
 b=br8GOV+4EfN1ZaD8YMBGTSEBl6i/IvSBvViTqTMB96w8bje8D0YmpM635vnnkTvUU/
 wLuGj8e4OjqRN56g9622H2BoSR0Lk5iA9mBWKC0Mw/ejHX2p1tr9UMXi4pe67JNrVQmb
 Uo/14qJ8aWYD3/hx9HmenZGJhzSlbY4VueHe8=
X-Google-DKIM-Signature: v=1; a=rsa-sha256; c=relaxed/relaxed;
 d=1e100.net; s=20230601; t=1745247671; x=1745852471;
 h=references:in-reply-to:cc:to:from:subject:message-id:date
 :x-gm-message-state:from:to:cc:subject:date:message-id:reply-to;
 bh=sSuhamvnf/6E9Wb9gxfYEQzXCLES9hJJQx+O4VvsTzo=;
 b=pMcqE4sOHHLmPpTO4j2F9s8mvZfOGLK/3QBLXBm8zsEyASoQtfmM/qkdWzta+KzHva
 JfI2aHLA9V4VPlPFmxdmFkF14VITD669MNvPcpUswELm/QtxbtdfZTI1pipNbJ80jCxI
 4GzvuuT4T1CPKjteMI0ADfsaIPt/JnW2qmsbW1Sziwz/+fwNnjVYNy41E3TPk1pDZaJ8
 /lfvPqGYrtxS7LJ38zNMaKq4i7RwxKfT1O5RlbhoJXNpWg8lnw2/RcN+AAlQxhOZgiJ5
 +CP2Xr0h426zboYf4Ohd06W4RDJ1ZGGDOdCgcboz/LAGMbyGLH1q797fQd2zHrwJVjRv
 WUEQ==
X-Gm-Message-State: AOJu0YxRoQWPhEbQ3jauNSTB0U1awaQg5qcz74coYdK9R8xOhaH83qIP
 9MGCoFvZbJB1HjOtDvTvWkbLd4Firtkwo6zZhO/vxbMj0i5oFYZUvuBeQdlCGfxvlawME5ujfsT
 5qaU5tec/d2yosIp8as1KwvfWcjeybc5kit/8bkmP
X-Gm-Gg: ASbGncukL292PF1UVD5iIihzGeZ3VSMYd4CYDQyXsDAZGCViEHb7XFmFQejH5JouIq8
 bl6GFW2hEYab0e1C8v4QY9+C31haN9QgVOno5yOvjtM59ScnpcFAHsfM3BhVLRDIaBODK16spfN
 wM7/CfBQZ/knxso9v11NHlIzOHeeQl1KrFo14vJDytmooDS/YWuqcDJ/yYVk7tsShDLTD9PYChh
 lS52kNp3t+OSn5XaCOylkFtqcQQg7G94ijEaF3HT4atg8hMpmSq6TuPy20hThVJLR0R674/c2Eq
 Lhu9PAnShsZTaPOe6fJdhOxZQHE49Ut1QW4C
X-Google-Smtp-Source: AGHT+IF/SbgF0X1R75LxkwqaGIeW/mUKsraUGlGgGHqEVPC9Hl10oGg+HW5skpXUM7wpnmn9OOdaefPNT5it
X-Received: by 2002:a17:90a:c105:b0:2f9:c56b:6ec8 with SMTP id
 98e67ed59e1d1-3087bb579b7mr18886503a91.10.1745247670966; 
 Mon, 21 Apr 2025 08:01:10 -0700 (PDT)
Received: from postal.iol.unh.edu (postal.iol.unh.edu. [132.177.123.84])
 by smtp-relay.gmail.com with ESMTPS id
 98e67ed59e1d1-3087df24d06sm454212a91.9.2025.04.21.08.01.10
 (version=TLS1_2 cipher=ECDHE-ECDSA-AES128-GCM-SHA256 bits=128/128);
 Mon, 21 Apr 2025 08:01:10 -0700 (PDT)
X-Relaying-Domain: iol.unh.edu
Date: Mon, 21 Apr 2025 08:01:10 -0700 (PDT)
Message-ID: <68065db6.170a0220.2fb3f3.a19cSMTPIN_ADDED_MISSING@mx.google.com>
Received: from [172.21.0.7] (unknown [172.18.0.240])
 by postal.iol.unh.edu (Postfix) with ESMTP id A49F86052471;
 Mon, 21 Apr 2025 11:01:07 -0400 (EDT)
Subject: |SUCCESS| pw153058-153061 [PATCH] [v2,4/4] app/testpmd: support disa
From: dpdklab@iol.unh.edu
To: Test Report <test-report@dpdk.org>
Cc: dpdk-test-reports@iol.unh.edu
In-Reply-To: <20250421072229.33200-5-fengchengwen@huawei.com>
References: <20250421072229.33200-5-fengchengwen@huawei.com>
Content-Type: text/plain
X-BeenThere: test-report@dpdk.org
X-Mailman-Version: 2.1.29
Precedence: list
List-Id: automatic DPDK test reports <test-report.dpdk.org>
List-Unsubscribe: <https://mails.dpdk.org/options/test-report>,
 <mailto:test-report-request@dpdk.org?subject=unsubscribe>
List-Archive: <http://mails.dpdk.org/archives/test-report/>
List-Post: <mailto:test-report@dpdk.org>
List-Help: <mailto:test-report-request@dpdk.org?subject=help>
List-Subscribe: <https://mails.dpdk.org/listinfo/test-report>,
 <mailto:test-report-request@dpdk.org?subject=subscribe>
Errors-To: test-report-bounces@dpdk.org

Test-Label: iol-sample-apps-testing
Test-Status: SUCCESS
http://dpdk.org/patch/153061

_Testing PASS_

Submitter: Chengwen Feng <fengchengwen@huawei.com>
Date: Monday, April 21 2025 07:22:29 
DPDK git baseline: Repo:dpdk
  Branch: master
  CommitID:e9e9e79faa3311b807da51bb502495aa9db0de75

153058-153061 --> testing pass

Upstream job id: ACVP-FIPS-testing#9598

Test environment and result as below:

+--------------------+----------------------+----------------------+
|    Environment     | compressdev_zlib_pmd | dpdk_fips_validation |
+====================+======================+======================+
| Ubuntu 22.04 (ARM) | PASS                 | SKIPPED              |
+--------------------+----------------------+----------------------+
| Ubuntu 22.04       | PASS                 | SKIPPED              |
+--------------------+----------------------+----------------------+
| Ubuntu 20.04       | SKIPPED              | PASS                 |
+--------------------+----------------------+----------------------+


Ubuntu 22.04 (ARM)
	Kernel: 5.15.0-97-generic
	Compiler: gcc gcc (Ubuntu 11.4.0-1ubuntu1~22.04) 11.4.0

Ubuntu 22.04
	Kernel: 5.15.0-100-generic
	Compiler: gcc gcc (Ubuntu 11.4.0-1ubuntu1~22.04) 11.4.0

Ubuntu 20.04
	Kernel: Depends on container host
	Compiler: gcc (Ubuntu 9.4.0-1ubuntu1~20.04.2) 9.4.0

To view detailed results, visit:
https://lab.dpdk.org/results/dashboard/patchsets/33042/

UNH-IOL DPDK Community Lab

To manage your email subscriptions, visit: 
https://lab.dpdk.org/results/dashboard/preferences/subscriptions/