From mboxrd@z Thu Jan  1 00:00:00 1970
Return-Path: <test-report-bounces@dpdk.org>
Received: from mails.dpdk.org (mails.dpdk.org [217.70.189.124])
	by inbox.dpdk.org (Postfix) with ESMTP id 31B76465EF
	for <public@inbox.dpdk.org>; Mon, 21 Apr 2025 17:15:28 +0200 (CEST)
Received: from mails.dpdk.org (localhost [127.0.0.1])
	by mails.dpdk.org (Postfix) with ESMTP id 15791402A9;
	Mon, 21 Apr 2025 17:15:28 +0200 (CEST)
Received: from mail-io1-f97.google.com (mail-io1-f97.google.com
 [209.85.166.97]) by mails.dpdk.org (Postfix) with ESMTP id 4939E40299
 for <test-report@dpdk.org>; Mon, 21 Apr 2025 17:15:27 +0200 (CEST)
Received: by mail-io1-f97.google.com with SMTP id
 ca18e2360f4ac-85b3f92c866so56985839f.3
 for <test-report@dpdk.org>; Mon, 21 Apr 2025 08:15:27 -0700 (PDT)
DKIM-Signature: v=1; a=rsa-sha256; c=relaxed/relaxed;
 d=iol.unh.edu; s=unh-iol; t=1745248526; x=1745853326; darn=dpdk.org;
 h=references:in-reply-to:cc:to:from:subject:message-id:date:from:to
 :cc:subject:date:message-id:reply-to;
 bh=rzskRFUreF1h4sp16CNOcUb0zdqmb3HnMWQ2tfzqkgs=;
 b=BBETSniWLTbb6REiEJ2aWV+Ez7lT/Sy6kSC7Ac9VHJafKy6L3YfYy7XXrDd4AT3bHn
 vIUwATDsliozpnziEZVkwPKShOttwClnAjYEUYN1I7+VnVKWSNMktG6k3zlF/8KX3W7E
 Wz6e2dwDacOwSoaPbtfpXQrwsaYkRZb+hJ5a8=
X-Google-DKIM-Signature: v=1; a=rsa-sha256; c=relaxed/relaxed;
 d=1e100.net; s=20230601; t=1745248526; x=1745853326;
 h=references:in-reply-to:cc:to:from:subject:message-id:date
 :x-gm-message-state:from:to:cc:subject:date:message-id:reply-to;
 bh=rzskRFUreF1h4sp16CNOcUb0zdqmb3HnMWQ2tfzqkgs=;
 b=HXKe4ifj2DJM2SvYJeSkwnBlj8FGUPH4mBMVttWEVtXVXL9K8pfzOK93nQDtRFEh7P
 s43YgnuOXQqMS5YaxTNcsi//mfaZtEZ8UoAsjTKgUCXuuNIitVD06pTg36O6/dLYjDZ2
 u+4XPjuenzMSnYLMtRWdAyPdIrzBYfkYD81JqpygLgjYtPOrubJ8+pVvSBeiUH7/vqZs
 VZlXBhty7Ehr7iCcfBkID3zX32XZeNbEYerhuiPLROUL8KaEhzTuJRovOgThbaNsZaJe
 ODJt2iYsgt3tbN+7Ph9gkuk1gc/1kKE0muTK6gUfY1Piatz/S+vRlgFEBk/sf6bKMKxf
 l0Tw==
X-Gm-Message-State: AOJu0Ywnp9C+SLshga4vyBQAGVP6HT+EPZWrIrCPWV0Z+t/DeQgF84Eh
 8WEFuScGiq4a7fCU+5NcN9P8BZYkJhRpKlmbhxKzVAWTb2HgflHECYeQy5Dzcppt+h/pDLbNLtV
 pFPWDqf3+NzeLnyEIILUQubk32UL1wRvwrqdNxL7Oj6l7e9BUEKzIq/Y5
X-Gm-Gg: ASbGncssNEa04aToBvGRFC1wb/c4W+1MY6Ggllpu64rxQk3Ys3gZwqEto1KpB78iRDP
 Hqe0uyyiOALvNkxIbMKiYW8KoSQ6gWdp2sQdB9cibsMd0YNiTbTMfP+Qgs7/P6H0ETx6oUCYWvt
 YcrlE48yz0TolfXcOrk1e+/z6Cm/XtPgmcvnwcAtIFPxyKVO8H3c0YNbT4vpfOH7U/UKQEPOBNT
 Tkey6mfjZTcOBB6e5XjU10W/BjV6pNxVrTm0e3qReiwD5SZi3tZ3pCf8ZBkiGfxeN+JTlNOB0Z/
 iuREeErCkIut/HlpePxiU91pYYgLUA0lNYpAHrwn3l0Rdt2w
X-Google-Smtp-Source: AGHT+IGR3m+zmvs5pcaMG07KsSbpYblrRadaZVOD+MVNayR7xiTuRbQJcGMGoe4PQM7TYALdqYy8UE/ks9Sr
X-Received: by 2002:a05:6602:3789:b0:85b:3885:159e with SMTP id
 ca18e2360f4ac-861dbdc71e1mr1284552539f.3.1745248526495; 
 Mon, 21 Apr 2025 08:15:26 -0700 (PDT)
Received: from postal.iol.unh.edu (postal.iol.unh.edu.
 [2606:4100:3880:1234::84]) by smtp-relay.gmail.com with ESMTPS id
 8926c6da1cb9f-4f6a37cd9c4sm266569173.3.2025.04.21.08.15.26
 (version=TLS1_2 cipher=ECDHE-ECDSA-AES128-GCM-SHA256 bits=128/128);
 Mon, 21 Apr 2025 08:15:26 -0700 (PDT)
X-Relaying-Domain: iol.unh.edu
Date: Mon, 21 Apr 2025 08:15:26 -0700 (PDT)
Message-ID: <6806610e.050a0220.cce9.fe09SMTPIN_ADDED_MISSING@mx.google.com>
Received: from [172.17.0.3] (unknown [172.18.0.217])
 by postal.iol.unh.edu (Postfix) with ESMTP id 718F56052471;
 Mon, 21 Apr 2025 11:15:23 -0400 (EDT)
Subject: |SUCCESS| pw153058-153061 [PATCH] [v2,4/4] app/testpmd: support disa
From: dpdklab@iol.unh.edu
To: Test Report <test-report@dpdk.org>
Cc: dpdk-test-reports@iol.unh.edu
In-Reply-To: <20250421072229.33200-5-fengchengwen@huawei.com>
References: <20250421072229.33200-5-fengchengwen@huawei.com>
Content-Type: text/plain
X-BeenThere: test-report@dpdk.org
X-Mailman-Version: 2.1.29
Precedence: list
List-Id: automatic DPDK test reports <test-report.dpdk.org>
List-Unsubscribe: <https://mails.dpdk.org/options/test-report>,
 <mailto:test-report-request@dpdk.org?subject=unsubscribe>
List-Archive: <http://mails.dpdk.org/archives/test-report/>
List-Post: <mailto:test-report@dpdk.org>
List-Help: <mailto:test-report-request@dpdk.org?subject=help>
List-Subscribe: <https://mails.dpdk.org/listinfo/test-report>,
 <mailto:test-report-request@dpdk.org?subject=subscribe>
Errors-To: test-report-bounces@dpdk.org

Test-Label: iol-unit-amd64-testing
Test-Status: SUCCESS
http://dpdk.org/patch/153061

_Testing PASS_

Submitter: Chengwen Feng <fengchengwen@huawei.com>
Date: Monday, April 21 2025 07:22:29 
DPDK git baseline: Repo:dpdk
  Branch: master
  CommitID:e9e9e79faa3311b807da51bb502495aa9db0de75

153058-153061 --> testing pass

Upstream job id: Generic-VM-Unit-Test-DPDK#28096

Test environment and result as below:

+---------------------+----------------+
|     Environment     | dpdk_unit_test |
+=====================+================+
| CentOS Stream 9     | PASS           |
+---------------------+----------------+
| Debian 12           | PASS           |
+---------------------+----------------+
| CentOS Stream 10    | PASS           |
+---------------------+----------------+
| Fedora 41           | PASS           |
+---------------------+----------------+
| Fedora 40 (Clang)   | PASS           |
+---------------------+----------------+
| Fedora 40           | PASS           |
+---------------------+----------------+
| Fedora 41 (Clang)   | PASS           |
+---------------------+----------------+
| RHEL8               | PASS           |
+---------------------+----------------+
| RHEL9               | PASS           |
+---------------------+----------------+
| Ubuntu 20.04        | PASS           |
+---------------------+----------------+
| Ubuntu 22.04        | PASS           |
+---------------------+----------------+
| Ubuntu 24.04        | PASS           |
+---------------------+----------------+
| Windows Server 2022 | PASS           |
+---------------------+----------------+


CentOS Stream 9
	Kernel: Depends on container host
	Compiler: gcc 11.5.0 20240719 (Red Hat 11.5.0-2)

Debian 12
	Kernel: Depends on container host
	Compiler: gcc (Debian 12.2.0-14) 12.2.0

CentOS Stream 10
	Kernel: Depends on container host
	Compiler: gcc 14.2.1 20241104 (Red Hat 14.2.1-6)

Fedora 41
	Kernel: Depends on container host
	Compiler: gcc 14.2.1 20240912 (Red Hat 14.2.1-3)

Fedora 40 (Clang)
	Kernel: Depends on container host
	Compiler: clang 18.1.8 (Fedora 18.1.8-1.fc40)

Fedora 40
	Kernel: Depends on container host
	Compiler: gcc 14.2.1 20240912 (Red Hat 14.2.1-3)

Fedora 41 (Clang)
	Kernel: Depends on container host
	Compiler: clang 19.1.5 (Fedora 19.1.5-1.fc41)

RHEL8
	Kernel: Depends on container host
	Compiler: gcc 8.5.0 20210514 (Red Hat 8.5.0-22)

RHEL9
	Kernel: Depends on container host
	Compiler: gcc 11.5.0 20240719 (Red Hat 11.5.0-2)

Ubuntu 20.04
	Kernel: Depends on container host
	Compiler: gcc (Ubuntu 9.4.0-1ubuntu1~20.04.2) 9.4.0

Ubuntu 22.04
	Kernel: Depends on container host
	Compiler: gcc (Ubuntu 11.4.0-1ubuntu1~22.04) 11.4.0

Ubuntu 24.04
	Kernel: Depends on container host
	Compiler: gcc (Ubuntu 13.3.0-6ubuntu2~24.04) 13.3.0

Windows Server 2022
	Kernel: 10.0.20348.2031
	Compiler: clang 15.0.7, gcc 14.1.0 (MinGW), and MSVC VS 19.39.33521

To view detailed results, visit:
https://lab.dpdk.org/results/dashboard/patchsets/33042/

UNH-IOL DPDK Community Lab

To manage your email subscriptions, visit: 
https://lab.dpdk.org/results/dashboard/preferences/subscriptions/