From mboxrd@z Thu Jan  1 00:00:00 1970
Return-Path: <test-report-bounces@dpdk.org>
Received: from mails.dpdk.org (mails.dpdk.org [217.70.189.124])
	by inbox.dpdk.org (Postfix) with ESMTP id D85B2465F0
	for <public@inbox.dpdk.org>; Mon, 21 Apr 2025 19:32:58 +0200 (CEST)
Received: from mails.dpdk.org (localhost [127.0.0.1])
	by mails.dpdk.org (Postfix) with ESMTP id D3625402A9;
	Mon, 21 Apr 2025 19:32:57 +0200 (CEST)
Received: from mail-pg1-f226.google.com (mail-pg1-f226.google.com
 [209.85.215.226])
 by mails.dpdk.org (Postfix) with ESMTP id CF33640299
 for <test-report@dpdk.org>; Mon, 21 Apr 2025 19:32:56 +0200 (CEST)
Received: by mail-pg1-f226.google.com with SMTP id
 41be03b00d2f7-af50f56b862so3018236a12.1
 for <test-report@dpdk.org>; Mon, 21 Apr 2025 10:32:56 -0700 (PDT)
DKIM-Signature: v=1; a=rsa-sha256; c=relaxed/relaxed;
 d=iol.unh.edu; s=unh-iol; t=1745256775; x=1745861575; darn=dpdk.org;
 h=references:in-reply-to:cc:to:from:subject:message-id:date:from:to
 :cc:subject:date:message-id:reply-to;
 bh=2gP9Ht/mL4PSxpSQ4BqugzMk+BXiY018pf1DFCeNfgY=;
 b=LQXzMPSAMiZSt3t4+B9lKM4gXDA/w5uLqZXG7v7zLvIfasnRZ5JqR5qzTX5e5LQnHv
 KNTdFidFFnj623NO4XdZHvIRmXAwPnOMlipaB2zDNIszMTVGP0JOl6u3H56RCdDRbwkF
 FrEUYJimRAnBR8NCj7kx4Djiz6d3zLSZBkF50=
X-Google-DKIM-Signature: v=1; a=rsa-sha256; c=relaxed/relaxed;
 d=1e100.net; s=20230601; t=1745256775; x=1745861575;
 h=references:in-reply-to:cc:to:from:subject:message-id:date
 :x-gm-message-state:from:to:cc:subject:date:message-id:reply-to;
 bh=2gP9Ht/mL4PSxpSQ4BqugzMk+BXiY018pf1DFCeNfgY=;
 b=PrnD6++N+TSawST+YQaFPJP0rVAOL7ZBlOWqkmyyy7hq9ELn7+ukfesaTkwO96E+Gi
 zTm9CYSAGobcyWEmZBdQjQ8eXhlmtIYci8guKQpBcUDjk/eh0E7TvqtsKD6BL1SM2Kas
 1AmgF9KkMI7XrVtP9TS+91721bsYq0gHmOylPZXLAfTJ2UdBBxhXTEsJN2Kt31nlmeTC
 tmy+t8cWv2K31F+ydDBWY2cyyXz2htTL+2TpV4A9zDjqisGjkN6tHgijOPXwFMBcL5qa
 7nAi8CaSvpCpD+ChywrOkKZWY8XhivLDGM8L77UdbPnU2nSIj8ax95lUZlRd/CJ9uYcu
 L4uA==
X-Gm-Message-State: AOJu0Yy76pTcXP9a0ZJafCIYXnDGMw3uQs3geaznB7iaMRKGp2Dp0qRU
 wWmNqnYDYpp/ZBDnW+llYZtRJ+xIxo0uKsuct/yVSqxnjbo/sDy7Uoz13sQhpy0uSwHKpaE08eM
 6hq/brra77mWsL5ld0OVwOluJVR7mjnT8xz93CsBYenzIQUJdJ5hV+4np
X-Gm-Gg: ASbGncvy+xIZfmqR6kVI4ayA7AbAGlQrLthYPFe/bQz5y/1DfeyxsZ4pxv9WxPahPcz
 xWNRh4E3D1CClnvxzKPUO9tdZHYCg/dFJ5lX9J+bA9eNZxm/4AHsDuascXw6/gtTYr1BCnhAQUz
 3n9OQDR1j1ubj+1NXGlLiYqEevHgVRnLHideGT6mP+Y+rOV+jc9tsC88/kajjPkkEUD9y9UUpvU
 lOrV+50kMUkUUq1dyq+QyCMivHDQSqmTgSTWXekzTBEolUsZpaTD5dfXs8jDLONj+LhQJq3oWJ6
 x7XAEumIawKwDGAscuEhlq5x2p6ODcY38nDosX7wh+W586s/
X-Google-Smtp-Source: AGHT+IFmE+P0trYVw3gRguESRbX6hcSpNpOjpUHY+Tj/xf+P3KBJbxkZ5F9f/MnTJKm+5nymuGoCKWs1UzEA
X-Received: by 2002:a05:6a21:6d8e:b0:1f5:a3e8:64dd with SMTP id
 adf61e73a8af0-203cba9754fmr18376597637.0.1745256775526; 
 Mon, 21 Apr 2025 10:32:55 -0700 (PDT)
Received: from postal.iol.unh.edu (postal.iol.unh.edu.
 [2606:4100:3880:1234::84]) by smtp-relay.gmail.com with ESMTPS id
 41be03b00d2f7-b0db1271700sm202863a12.15.2025.04.21.10.32.55
 (version=TLS1_2 cipher=ECDHE-ECDSA-AES128-GCM-SHA256 bits=128/128);
 Mon, 21 Apr 2025 10:32:55 -0700 (PDT)
X-Relaying-Domain: iol.unh.edu
Date: Mon, 21 Apr 2025 10:32:55 -0700 (PDT)
Message-ID: <68068147.630a0220.249c68.ba9fSMTPIN_ADDED_MISSING@mx.google.com>
Received: from [172.17.0.3] (unknown [172.18.0.217])
 by postal.iol.unh.edu (Postfix) with ESMTP id A64FC6052471;
 Mon, 21 Apr 2025 13:32:54 -0400 (EDT)
Subject: |SUCCESS| pw153058-153061 [PATCH] [v2,4/4] app/testpmd: support disa
From: dpdklab@iol.unh.edu
To: Test Report <test-report@dpdk.org>
Cc: dpdk-test-reports@iol.unh.edu
In-Reply-To: <20250421072229.33200-5-fengchengwen@huawei.com>
References: <20250421072229.33200-5-fengchengwen@huawei.com>
Content-Type: text/plain
X-BeenThere: test-report@dpdk.org
X-Mailman-Version: 2.1.29
Precedence: list
List-Id: automatic DPDK test reports <test-report.dpdk.org>
List-Unsubscribe: <https://mails.dpdk.org/options/test-report>,
 <mailto:test-report-request@dpdk.org?subject=unsubscribe>
List-Archive: <http://mails.dpdk.org/archives/test-report/>
List-Post: <mailto:test-report@dpdk.org>
List-Help: <mailto:test-report-request@dpdk.org?subject=help>
List-Subscribe: <https://mails.dpdk.org/listinfo/test-report>,
 <mailto:test-report-request@dpdk.org?subject=subscribe>
Errors-To: test-report-bounces@dpdk.org

Test-Label: iol-compile-arm64-testing
Test-Status: SUCCESS
http://dpdk.org/patch/153061

_Testing PASS_

Submitter: Chengwen Feng <fengchengwen@huawei.com>
Date: Monday, April 21 2025 07:22:29 
DPDK git baseline: Repo:dpdk
  Branch: master
  CommitID:e9e9e79faa3311b807da51bb502495aa9db0de75

153058-153061 --> testing pass

Upstream job id: Generic-DPDK-Compile-Meson#381740

Test environment and result as below:

+----------------------------------------+--------------------+
|              Environment               | dpdk_meson_compile |
+========================================+====================+
| RHEL9 (ARM)                            | PASS               |
+----------------------------------------+--------------------+
| Ubuntu 20.04 ARM GCC Cross Compile     | PASS               |
+----------------------------------------+--------------------+
| Ubuntu 20.04 ARM SVE                   | PASS               |
+----------------------------------------+--------------------+
| Debian 12 with MUSDK                   | PASS               |
+----------------------------------------+--------------------+
| Fedora 40 (ARM)                        | PASS               |
+----------------------------------------+--------------------+
| Fedora 40 (ARM Clang)                  | PASS               |
+----------------------------------------+--------------------+
| Fedora 41 (ARM)                        | PASS               |
+----------------------------------------+--------------------+
| Fedora 41 (ARM Clang)                  | PASS               |
+----------------------------------------+--------------------+
| Ubuntu 20.04 (ARM)                     | PASS               |
+----------------------------------------+--------------------+
| Ubuntu 24.04 (ARM)                     | PASS               |
+----------------------------------------+--------------------+
| Ubuntu 22.04 (ARM)                     | PASS               |
+----------------------------------------+--------------------+
| CentOS Stream 9 (ARM)                  | PASS               |
+----------------------------------------+--------------------+
| CentOS Stream 10 (ARM)                 | PASS               |
+----------------------------------------+--------------------+
| Debian 12 (arm)                        | PASS               |
+----------------------------------------+--------------------+
| Ubuntu 20.04 ARM Clang Cross Compile   | PASS               |
+----------------------------------------+--------------------+
| Ubuntu 20.04 aarch32 GCC Cross Compile | PASS               |
+----------------------------------------+--------------------+


RHEL9 (ARM)
	Kernel: Depends on container host
	Compiler: gcc 11.5.0 20240719 (Red Hat 11.5.0-2)

Ubuntu 20.04 ARM GCC Cross Compile
	Kernel: Depends on container host
	Compiler: aarch64-linux-gnu-gcc (Ubuntu 9.4.0-1ubuntu1~20.04.2) 9.4.0

Ubuntu 20.04 ARM SVE
	Kernel: Depends on container host
	Compiler: gcc (Ubuntu 10.5.0-1ubuntu1~20.04) 10.5.0

Debian 12 with MUSDK
	Kernel: Depends on container host
	Compiler: gcc (Debian 12.2.0-14) 12.2.0

Fedora 40 (ARM)
	Kernel: Depends on container host
	Compiler: gcc 14.2.1 20240912 (Red Hat 14.2.1-3)

Fedora 40 (ARM Clang)
	Kernel: Depends on container host
	Compiler: clang 18.1.8 (Fedora 18.1.8-1.fc40)

Fedora 41 (ARM)
	Kernel: Depends on container host
	Compiler: gcc 14.2.1 20240912 (Red Hat 14.2.1-3)

Fedora 41 (ARM Clang)
	Kernel: Depends on container host
	Compiler: clang 19.1.5 (Fedora 19.1.5-1.fc41)

Ubuntu 20.04 (ARM)
	Kernel: Depends on container host
	Compiler: gcc (Ubuntu 9.4.0-1ubuntu1~20.04.2) 9.4.0

Ubuntu 24.04 (ARM)
	Kernel: Depends on container host
	Compiler: gcc (Ubuntu 13.3.0-6ubuntu2~24.04) 13.3.0

Ubuntu 22.04 (ARM)
	Kernel: Depends on container host
	Compiler: gcc (Ubuntu 11.4.0-1ubuntu1~22.04) 11.4.0

CentOS Stream 9 (ARM)
	Kernel: Depends on container host
	Compiler: gcc 11.5.0 20240719 (Red Hat 11.5.0-2)

CentOS Stream 10 (ARM)
	Kernel: Depends on container host
	Compiler: gcc 14.2.1 20241104 (Red Hat 14.2.1-6)

Debian 12 (arm)
	Kernel: Depends on container host
	Compiler: gcc (Debian 12.2.0-14) 12.2.0

Ubuntu 20.04 ARM Clang Cross Compile
	Kernel: Depends on container host
	Compiler: clang 10.0.0-4ubuntu1

Ubuntu 20.04 aarch32 GCC Cross Compile
	Kernel: Depends on container host
	Compiler: gcc 9.4.0

To view detailed results, visit:
https://lab.dpdk.org/results/dashboard/patchsets/33042/

UNH-IOL DPDK Community Lab

To manage your email subscriptions, visit: 
https://lab.dpdk.org/results/dashboard/preferences/subscriptions/