From mboxrd@z Thu Jan  1 00:00:00 1970
Return-Path: <test-report-bounces@dpdk.org>
Received: from mails.dpdk.org (mails.dpdk.org [217.70.189.124])
	by inbox.dpdk.org (Postfix) with ESMTP id AE94C465F1
	for <public@inbox.dpdk.org>; Mon, 21 Apr 2025 21:37:56 +0200 (CEST)
Received: from mails.dpdk.org (localhost [127.0.0.1])
	by mails.dpdk.org (Postfix) with ESMTP id 82E70402A9;
	Mon, 21 Apr 2025 21:37:56 +0200 (CEST)
Received: from mail-il1-f228.google.com (mail-il1-f228.google.com
 [209.85.166.228])
 by mails.dpdk.org (Postfix) with ESMTP id 1745A40299
 for <test-report@dpdk.org>; Mon, 21 Apr 2025 21:37:55 +0200 (CEST)
Received: by mail-il1-f228.google.com with SMTP id
 e9e14a558f8ab-3d818add2a3so12074425ab.1
 for <test-report@dpdk.org>; Mon, 21 Apr 2025 12:37:55 -0700 (PDT)
DKIM-Signature: v=1; a=rsa-sha256; c=relaxed/relaxed;
 d=iol.unh.edu; s=unh-iol; t=1745264274; x=1745869074; darn=dpdk.org;
 h=references:in-reply-to:cc:to:from:subject:message-id:date:from:to
 :cc:subject:date:message-id:reply-to;
 bh=uzyT6A8RuZfd6EhCA0atPeBdvBhJqU7zl6OV+0ksYYA=;
 b=KEg5cnSxc4HEfQ9/FJ6aWeHhg3STF+QoVkhLGBXXTd2fp2YGqmm7FwTu7gY2EuiccY
 hjW2pHH8xrX2b6v2nCPqXCmO13WOThW+bxx1pA/7+mPzcP8orDF5YEfvZNLkUT/SP6qp
 CwmRhnmpKXL8kVYdBTGoHwjqFCzkQsejQQnNk=
X-Google-DKIM-Signature: v=1; a=rsa-sha256; c=relaxed/relaxed;
 d=1e100.net; s=20230601; t=1745264274; x=1745869074;
 h=references:in-reply-to:cc:to:from:subject:message-id:date
 :x-gm-message-state:from:to:cc:subject:date:message-id:reply-to;
 bh=uzyT6A8RuZfd6EhCA0atPeBdvBhJqU7zl6OV+0ksYYA=;
 b=B3FNOvfCgXIdzOrd02iU2SKBCqWTLU8MwdQyVbdFfEHol9P8pRMCTGNM4DZ73MRkBR
 8zq4ZNg+w+aTQ8QxuO8oiX8r72g30YScxHYVKRzl5kZv/HJfV7XmIs9o7ONsFw+ClNIi
 YJWH+yjE+ejqVXAH6cRV44b5y6G9NtoaQlwL1gkVMnCJ3uPuV865BuX6LXoX6wfA9uAG
 ZiOQ2njC8EosTSANj3w8w+ypfGpdfTCVtQszSqP8z5sW8ueSQpUv/GJvJHlvKWFgFih/
 TrXUs52CXwIpGnKkiUs2pDt7ctS9iFQg4Rgrt1+fRJ2DLc6aAlZfKR7xlL9Vemaed+76
 NOgw==
X-Gm-Message-State: AOJu0YyhtcHl8Zqkw1NjXZ3EtDXdLVVMgdZoehrH6qQ2bQGkaiNJYqmt
 dQqAQcbqnfX9Ksqh0ljM5BIAcokyqltvEEwIeHo2BScdw0AWGP6oWALEDSH76jxutnd95codLJK
 N6jQYpdrq+QaJ+X7M87BHQlWKI+Og+30wT7tQGzy5
X-Gm-Gg: ASbGncv6i8QXmQktqMTQK76Iq1RagGRTkmarFUFrw/G3N4/zTdmBatmDRXuB+GhPhIP
 jeX+b8wNkwIwnA+jUxSMoClkiiGfpeetQs6q0gjbx1z8+MJZnZFy0zuNbtDtWoyLadmX89sOIkT
 G//4SXCs2XnyOhzzv9LbI9YPjXx9UFBa/bEJx33cpYIxNkn9iXZhzecDdndMeikB7xI5LyHhsVu
 lryP3tSRjolMEYU0upriLvXhFPSx0a7Sls7+wlgfIQjqs48A790WbhqAgdbVSBsQ0KB+R4AsJ6s
 jGgZUD+gqzM3C2hKeS6mP+dElQUGUEsBXkRn
X-Google-Smtp-Source: AGHT+IF0IQiEGfrPyknqmLXEKX0qlCmBV0PLwQhD3mal1po+8cvcqN85lwMh5c+4YX7OmXBVayEGuF3C13wy
X-Received: by 2002:a05:6e02:3787:b0:3d8:122f:9f07 with SMTP id
 e9e14a558f8ab-3d821ecf5e3mr141348185ab.10.1745264274260; 
 Mon, 21 Apr 2025 12:37:54 -0700 (PDT)
Received: from postal.iol.unh.edu (postal.iol.unh.edu. [132.177.123.84])
 by smtp-relay.gmail.com with ESMTPS id
 8926c6da1cb9f-4f6a395c286sm289405173.59.2025.04.21.12.37.54
 (version=TLS1_2 cipher=ECDHE-ECDSA-AES128-GCM-SHA256 bits=128/128);
 Mon, 21 Apr 2025 12:37:54 -0700 (PDT)
X-Relaying-Domain: iol.unh.edu
Date: Mon, 21 Apr 2025 12:37:54 -0700 (PDT)
Message-ID: <68069e92.050a0220.b20cd.213bSMTPIN_ADDED_MISSING@mx.google.com>
Received: from [172.17.0.3] (unknown [172.18.0.217])
 by postal.iol.unh.edu (Postfix) with ESMTP id A7A506052471;
 Mon, 21 Apr 2025 15:37:53 -0400 (EDT)
Subject: |SUCCESS| pw153063-153067 [PATCH] [v9,5/5] test/graph_feature_arc: a
From: dpdklab@iol.unh.edu
To: Test Report <test-report@dpdk.org>
Cc: dpdk-test-reports@iol.unh.edu
In-Reply-To: <20250421151718.2172470-6-nsaxena@marvell.com>
References: <20250421151718.2172470-6-nsaxena@marvell.com>
Content-Type: text/plain
X-BeenThere: test-report@dpdk.org
X-Mailman-Version: 2.1.29
Precedence: list
List-Id: automatic DPDK test reports <test-report.dpdk.org>
List-Unsubscribe: <https://mails.dpdk.org/options/test-report>,
 <mailto:test-report-request@dpdk.org?subject=unsubscribe>
List-Archive: <http://mails.dpdk.org/archives/test-report/>
List-Post: <mailto:test-report@dpdk.org>
List-Help: <mailto:test-report-request@dpdk.org?subject=help>
List-Subscribe: <https://mails.dpdk.org/listinfo/test-report>,
 <mailto:test-report-request@dpdk.org?subject=subscribe>
Errors-To: test-report-bounces@dpdk.org

Test-Label: iol-compile-arm64-testing
Test-Status: SUCCESS
http://dpdk.org/patch/153067

_Testing PASS_

Submitter: Nitin Saxena <nsaxena@marvell.com>
Date: Monday, April 21 2025 15:17:16 
DPDK git baseline: Repo:dpdk
  Branch: master
  CommitID:ca1690ebd224f148268285b15b97441ccdbdd07e

153063-153067 --> testing pass

Upstream job id: Generic-DPDK-Compile-Meson#381769

Test environment and result as below:

+----------------------------------------+--------------------+
|              Environment               | dpdk_meson_compile |
+========================================+====================+
| RHEL9 (ARM)                            | PASS               |
+----------------------------------------+--------------------+
| Ubuntu 20.04 ARM GCC Cross Compile     | PASS               |
+----------------------------------------+--------------------+
| Ubuntu 20.04 ARM SVE                   | PASS               |
+----------------------------------------+--------------------+
| Debian 12 with MUSDK                   | PASS               |
+----------------------------------------+--------------------+
| Fedora 40 (ARM)                        | PASS               |
+----------------------------------------+--------------------+
| Fedora 40 (ARM Clang)                  | PASS               |
+----------------------------------------+--------------------+
| Fedora 41 (ARM)                        | PASS               |
+----------------------------------------+--------------------+
| Fedora 41 (ARM Clang)                  | PASS               |
+----------------------------------------+--------------------+
| Ubuntu 20.04 (ARM)                     | PASS               |
+----------------------------------------+--------------------+
| Ubuntu 22.04 (ARM)                     | PASS               |
+----------------------------------------+--------------------+
| Ubuntu 24.04 (ARM)                     | PASS               |
+----------------------------------------+--------------------+
| CentOS Stream 9 (ARM)                  | PASS               |
+----------------------------------------+--------------------+
| CentOS Stream 10 (ARM)                 | PASS               |
+----------------------------------------+--------------------+
| Ubuntu 20.04 ARM Clang Cross Compile   | PASS               |
+----------------------------------------+--------------------+
| Debian 12 (arm)                        | PASS               |
+----------------------------------------+--------------------+
| Ubuntu 20.04 aarch32 GCC Cross Compile | PASS               |
+----------------------------------------+--------------------+


RHEL9 (ARM)
	Kernel: Depends on container host
	Compiler: gcc 11.5.0 20240719 (Red Hat 11.5.0-2)

Ubuntu 20.04 ARM GCC Cross Compile
	Kernel: Depends on container host
	Compiler: aarch64-linux-gnu-gcc (Ubuntu 9.4.0-1ubuntu1~20.04.2) 9.4.0

Ubuntu 20.04 ARM SVE
	Kernel: Depends on container host
	Compiler: gcc (Ubuntu 10.5.0-1ubuntu1~20.04) 10.5.0

Debian 12 with MUSDK
	Kernel: Depends on container host
	Compiler: gcc (Debian 12.2.0-14) 12.2.0

Fedora 40 (ARM)
	Kernel: Depends on container host
	Compiler: gcc 14.2.1 20240912 (Red Hat 14.2.1-3)

Fedora 40 (ARM Clang)
	Kernel: Depends on container host
	Compiler: clang 18.1.8 (Fedora 18.1.8-1.fc40)

Fedora 41 (ARM)
	Kernel: Depends on container host
	Compiler: gcc 14.2.1 20240912 (Red Hat 14.2.1-3)

Fedora 41 (ARM Clang)
	Kernel: Depends on container host
	Compiler: clang 19.1.5 (Fedora 19.1.5-1.fc41)

Ubuntu 20.04 (ARM)
	Kernel: Depends on container host
	Compiler: gcc (Ubuntu 9.4.0-1ubuntu1~20.04.2) 9.4.0

Ubuntu 22.04 (ARM)
	Kernel: Depends on container host
	Compiler: gcc (Ubuntu 11.4.0-1ubuntu1~22.04) 11.4.0

Ubuntu 24.04 (ARM)
	Kernel: Depends on container host
	Compiler: gcc (Ubuntu 13.3.0-6ubuntu2~24.04) 13.3.0

CentOS Stream 9 (ARM)
	Kernel: Depends on container host
	Compiler: gcc 11.5.0 20240719 (Red Hat 11.5.0-2)

CentOS Stream 10 (ARM)
	Kernel: Depends on container host
	Compiler: gcc 14.2.1 20241104 (Red Hat 14.2.1-6)

Ubuntu 20.04 ARM Clang Cross Compile
	Kernel: Depends on container host
	Compiler: clang 10.0.0-4ubuntu1

Debian 12 (arm)
	Kernel: Depends on container host
	Compiler: gcc (Debian 12.2.0-14) 12.2.0

Ubuntu 20.04 aarch32 GCC Cross Compile
	Kernel: Depends on container host
	Compiler: gcc 9.4.0

To view detailed results, visit:
https://lab.dpdk.org/results/dashboard/patchsets/33044/

UNH-IOL DPDK Community Lab

To manage your email subscriptions, visit: 
https://lab.dpdk.org/results/dashboard/preferences/subscriptions/