From mboxrd@z Thu Jan  1 00:00:00 1970
Return-Path: <test-report-bounces@dpdk.org>
Received: from mails.dpdk.org (mails.dpdk.org [217.70.189.124])
	by inbox.dpdk.org (Postfix) with ESMTP id C1B6F465F4
	for <public@inbox.dpdk.org>; Tue, 22 Apr 2025 05:09:33 +0200 (CEST)
Received: from mails.dpdk.org (localhost [127.0.0.1])
	by mails.dpdk.org (Postfix) with ESMTP id 975A8402A9;
	Tue, 22 Apr 2025 05:09:33 +0200 (CEST)
Received: from mail-il1-f227.google.com (mail-il1-f227.google.com
 [209.85.166.227])
 by mails.dpdk.org (Postfix) with ESMTP id 0503A40299
 for <test-report@dpdk.org>; Tue, 22 Apr 2025 05:09:31 +0200 (CEST)
Received: by mail-il1-f227.google.com with SMTP id
 e9e14a558f8ab-3d6e11cd7e2so36427105ab.3
 for <test-report@dpdk.org>; Mon, 21 Apr 2025 20:09:31 -0700 (PDT)
DKIM-Signature: v=1; a=rsa-sha256; c=relaxed/relaxed;
 d=iol.unh.edu; s=unh-iol; t=1745291371; x=1745896171; darn=dpdk.org;
 h=cc:to:from:subject:message-id:date:from:to:cc:subject:date
 :message-id:reply-to;
 bh=+iKrPRt78TSF5QPhlMToQ7oGRvpe7uiV6XvAGI2wSU8=;
 b=Nn9eIQKrgpBw3ztBsZ79jKSXZ80vs0Vnhv994OhFiXkN12pmN+0GBG5/vv0qrdvfn0
 95lZu+ZyR3qQnVKwYhvnhR9+PtGuEYDMx/Waa7TzU0yFm1QKj92N7Il6Fj6Zmp/JGERR
 /oSxzmonSOje/jyWbEQJT97rpfr7Jk3ic6prs=
X-Google-DKIM-Signature: v=1; a=rsa-sha256; c=relaxed/relaxed;
 d=1e100.net; s=20230601; t=1745291371; x=1745896171;
 h=cc:to:from:subject:message-id:date:x-gm-message-state:from:to:cc
 :subject:date:message-id:reply-to;
 bh=+iKrPRt78TSF5QPhlMToQ7oGRvpe7uiV6XvAGI2wSU8=;
 b=C/g8GHvUoZYABsK1ruz3xO1pmpz/K2F6LnA4sflaVLkaN3ug4rxP2ddgfeKLBMRPgH
 50A/yhP5e+zj6UBiOMk/BvU6W9UkW/DP4TxnNPJ67646M83Cg7/R/GXUO+qS4V6R6dz6
 atwuOOgOqvTVdigmctX1mYXCTD6DKIRupbJP430ShbEGVql/bPq/WIwOx3OyuSjYr3XW
 UNls2uxTP+xT9XzH3OUmym0XF5K/eZrlAqpFgreYqvT14s2Q6mQFYyQSKp541wmvZ1VS
 QJFk6ElIg2Md/w/fxdr67Wh/6IVz+20sXoqA459tmY9QZ/u1UDLJYJ1HHszmH0P3DvA8
 ZrlQ==
X-Gm-Message-State: AOJu0YxbVA6cavPMFTABFmm+94El8gdWCKhi6Q7KamnD3Vj93nVG2ljm
 mtw6sdja8jsL2fws2sKK5Zms50vLAxSh9FtEe/ajpexQ7TXMMgBMuqorBB4N/sAYt9A4XxiJGhs
 fFKE0l2r8CNgHUjuDfQS54d6Ro8EFcdUjDyObRcjACBayyaJRo8Wm+jfI
X-Gm-Gg: ASbGnct72thm7g6XSIyUliXSwlfMlQ+fLEGUrzy2XL7HcRwKK+oYSpIQ/TxyMt+ljMo
 uegDbQ1gbs5S2nJZqbqWshe3kMEb9dFSB+gdJHt4Gxi1cFL59/qTOHsNsj9zgDVmATgsGBv3/H6
 SM6YLrlBlQPf7VmYlqGydFYyDbPyGxXyU6WfqW/0juSCn+SZUJDFcc/ANckZiTp1opzpgU09QIE
 oJn51Mr3jId5gJ+OOWZo7w/dGC9h7BSAzSIMEkjIR7ZV9VxscWQp7J4HWrDdpvqarSc3OZiTgG9
 yiCS9Ofx6vVNttoi+T0jhLfBjohgX1+aRiuEAlrqJpOkHz63
X-Google-Smtp-Source: AGHT+IEVtEZBNp3eUhSZ/gaCSmtv5zdMMeFMl/ACBczofTk19I8zffxo5RTOOJnVJ7VqoGFd7I9IWkUK9AE9
X-Received: by 2002:a05:6e02:190d:b0:3d5:eb14:9c85 with SMTP id
 e9e14a558f8ab-3d88ed95605mr143292555ab.6.1745291371140; 
 Mon, 21 Apr 2025 20:09:31 -0700 (PDT)
Received: from postal.iol.unh.edu (postal.iol.unh.edu.
 [2606:4100:3880:1234::84]) by smtp-relay.gmail.com with ESMTPS id
 8926c6da1cb9f-4f6a395fb9fsm301654173.62.2025.04.21.20.09.31
 (version=TLS1_2 cipher=ECDHE-ECDSA-AES128-GCM-SHA256 bits=128/128);
 Mon, 21 Apr 2025 20:09:31 -0700 (PDT)
X-Relaying-Domain: iol.unh.edu
Date: Mon, 21 Apr 2025 20:09:31 -0700 (PDT)
Message-ID: <6807086b.050a0220.191abe.0d8fSMTPIN_ADDED_MISSING@mx.google.com>
Received: from [172.17.0.3] (unknown [172.18.0.217])
 by postal.iol.unh.edu (Postfix) with ESMTP id 846B76052471;
 Mon, 21 Apr 2025 23:09:30 -0400 (EDT)
Subject: |SUCCESS| [GIT MASTER] ca1690ebd224f148268285b15b97441ccdbdd07e
From: dpdklab@iol.unh.edu
To: Test Report <test-report@dpdk.org>
Cc: dpdk-test-reports@iol.unh.edu
Content-Type: text/plain
X-BeenThere: test-report@dpdk.org
X-Mailman-Version: 2.1.29
Precedence: list
List-Id: automatic DPDK test reports <test-report.dpdk.org>
List-Unsubscribe: <https://mails.dpdk.org/options/test-report>,
 <mailto:test-report-request@dpdk.org?subject=unsubscribe>
List-Archive: <http://mails.dpdk.org/archives/test-report/>
List-Post: <mailto:test-report@dpdk.org>
List-Help: <mailto:test-report-request@dpdk.org?subject=help>
List-Subscribe: <https://mails.dpdk.org/listinfo/test-report>,
 <mailto:test-report-request@dpdk.org?subject=subscribe>
Errors-To: test-report-bounces@dpdk.org

_Testing PASS_

Branch: dpdk

ca1690ebd224f148268285b15b97441ccdbdd07e --> testing pass

Upstream job id: Generic-DPDK-Compile-Meson#381797

Test environment and result as below:

+----------------------------------------+--------------------+
|              Environment               | dpdk_meson_compile |
+========================================+====================+
| RHEL9 (ARM)                            | PASS               |
+----------------------------------------+--------------------+
| Ubuntu 20.04 ARM GCC Cross Compile     | PASS               |
+----------------------------------------+--------------------+
| Debian 12 with MUSDK                   | PASS               |
+----------------------------------------+--------------------+
| Ubuntu 20.04 ARM SVE                   | PASS               |
+----------------------------------------+--------------------+
| Fedora 40 (ARM Clang)                  | PASS               |
+----------------------------------------+--------------------+
| Fedora 40 (ARM)                        | PASS               |
+----------------------------------------+--------------------+
| Fedora 41 (ARM Clang)                  | PASS               |
+----------------------------------------+--------------------+
| Fedora 41 (ARM)                        | PASS               |
+----------------------------------------+--------------------+
| Ubuntu 20.04 (ARM)                     | PASS               |
+----------------------------------------+--------------------+
| CentOS Stream 10 (ARM)                 | PASS               |
+----------------------------------------+--------------------+
| Ubuntu 24.04 (ARM)                     | PASS               |
+----------------------------------------+--------------------+
| Ubuntu 22.04 (ARM)                     | PASS               |
+----------------------------------------+--------------------+
| CentOS Stream 9 (ARM)                  | PASS               |
+----------------------------------------+--------------------+
| Ubuntu 20.04 aarch32 GCC Cross Compile | PASS               |
+----------------------------------------+--------------------+
| Ubuntu 20.04 ARM Clang Cross Compile   | PASS               |
+----------------------------------------+--------------------+
| Debian 12 (arm)                        | PASS               |
+----------------------------------------+--------------------+


RHEL9 (ARM)
	Kernel: Depends on container host
	Compiler: gcc 11.5.0 20240719 (Red Hat 11.5.0-2)

Ubuntu 20.04 ARM GCC Cross Compile
	Kernel: Depends on container host
	Compiler: aarch64-linux-gnu-gcc (Ubuntu 9.4.0-1ubuntu1~20.04.2) 9.4.0

Debian 12 with MUSDK
	Kernel: Depends on container host
	Compiler: gcc (Debian 12.2.0-14) 12.2.0

Ubuntu 20.04 ARM SVE
	Kernel: Depends on container host
	Compiler: gcc (Ubuntu 10.5.0-1ubuntu1~20.04) 10.5.0

Fedora 40 (ARM Clang)
	Kernel: Depends on container host
	Compiler: clang 18.1.8 (Fedora 18.1.8-1.fc40)

Fedora 40 (ARM)
	Kernel: Depends on container host
	Compiler: gcc 14.2.1 20240912 (Red Hat 14.2.1-3)

Fedora 41 (ARM Clang)
	Kernel: Depends on container host
	Compiler: clang 19.1.5 (Fedora 19.1.5-1.fc41)

Fedora 41 (ARM)
	Kernel: Depends on container host
	Compiler: gcc 14.2.1 20240912 (Red Hat 14.2.1-3)

Ubuntu 20.04 (ARM)
	Kernel: Depends on container host
	Compiler: gcc (Ubuntu 9.4.0-1ubuntu1~20.04.2) 9.4.0

CentOS Stream 10 (ARM)
	Kernel: Depends on container host
	Compiler: gcc 14.2.1 20241104 (Red Hat 14.2.1-6)

Ubuntu 24.04 (ARM)
	Kernel: Depends on container host
	Compiler: gcc (Ubuntu 13.3.0-6ubuntu2~24.04) 13.3.0

Ubuntu 22.04 (ARM)
	Kernel: Depends on container host
	Compiler: gcc (Ubuntu 11.4.0-1ubuntu1~22.04) 11.4.0

CentOS Stream 9 (ARM)
	Kernel: Depends on container host
	Compiler: gcc 11.5.0 20240719 (Red Hat 11.5.0-2)

Ubuntu 20.04 aarch32 GCC Cross Compile
	Kernel: Depends on container host
	Compiler: gcc 9.4.0

Ubuntu 20.04 ARM Clang Cross Compile
	Kernel: Depends on container host
	Compiler: clang 10.0.0-4ubuntu1

Debian 12 (arm)
	Kernel: Depends on container host
	Compiler: gcc (Debian 12.2.0-14) 12.2.0

To view detailed results, visit:
https://lab.dpdk.org/results/dashboard/tarballs/33317/

UNH-IOL DPDK Community Lab

To manage your email subscriptions, visit: 
https://lab.dpdk.org/results/dashboard/preferences/subscriptions/