From mboxrd@z Thu Jan 1 00:00:00 1970 Return-Path: Received: from mails.dpdk.org (mails.dpdk.org [217.70.189.124]) by inbox.dpdk.org (Postfix) with ESMTP id 6262C465FC for ; Tue, 22 Apr 2025 10:10:11 +0200 (CEST) Received: from mails.dpdk.org (localhost [127.0.0.1]) by mails.dpdk.org (Postfix) with ESMTP id 20A2B402E7; Tue, 22 Apr 2025 10:10:11 +0200 (CEST) Received: from mail-qv1-f100.google.com (mail-qv1-f100.google.com [209.85.219.100]) by mails.dpdk.org (Postfix) with ESMTP id E7A6B402E6 for ; Tue, 22 Apr 2025 10:10:09 +0200 (CEST) Received: by mail-qv1-f100.google.com with SMTP id 6a1803df08f44-6e8fb83e137so42378736d6.0 for ; Tue, 22 Apr 2025 01:10:09 -0700 (PDT) DKIM-Signature: v=1; a=rsa-sha256; c=relaxed/relaxed; d=iol.unh.edu; s=unh-iol; t=1745309409; x=1745914209; darn=dpdk.org; h=cc:to:from:subject:message-id:date:from:to:cc:subject:date :message-id:reply-to; bh=9MOV/yz0xeTWqveLVZSE3OPUF8m/vOXfj2GKryvteaA=; b=ec6hJFNOaGOaSF9SGhYMMfpBkQazD5kYsre4lxlK29vFDUVkpOppFnKbRixuK1Z63k exeTDF0jGjfY3H8yHuAn29or3+jN5XPP2XesTdabkMwu3+01zi+5//ffFYc1H1qr/rpg LenzExerP9xekMvmCq4dVSjC8BJj7IdjmDhvU= X-Google-DKIM-Signature: v=1; a=rsa-sha256; c=relaxed/relaxed; d=1e100.net; s=20230601; t=1745309409; x=1745914209; h=cc:to:from:subject:message-id:date:x-gm-message-state:from:to:cc :subject:date:message-id:reply-to; bh=9MOV/yz0xeTWqveLVZSE3OPUF8m/vOXfj2GKryvteaA=; b=iTDHXf4r7xrCx+IKqOamofFPx6fT88gXrIs2iLIkxovV4GLuRY4IAyPNksS4p94+44 LjlTfOnaRE103dKr9j+ZqoqWobxUmsPILq8nlqi1ogOaxdCf89LGTc7fdgvjeaR44Pqb MbU05419EcNK5pkQT4F7Vw7UzdA/AZOnKCkIOZjPctUx6SbTDwdWZtDtixe+jl9M/tQr kEvr6yNSpdixkVT6WN48xmP878HvR9DiJgKJ+WgfedkCNKwMnbXyDyLJkxxX0VE2OEUY 4IpQ3aoABchHCHbimsYKWZycBZOa6+ZBqBKT5fdFZnC7UCPSgjp0CQymhie5U6ACgo8k 7nGw== X-Gm-Message-State: AOJu0YwV761I4YvMoI9DdiVtxxb/dVr5y3DJPfFnfUsUACt2J7anNyrJ gn645CjYMWnHk/xvbVCOsnvgRDkRDa5/y7oPZEY9XBRCgTe+bP7xpZkR64VpM36FqBpUb5qy9Z/ IPVoR++KOwI6ADzu16lq8mMSPQa10EdRl X-Gm-Gg: ASbGncuR5wClh6It3E3zdclK1/yhRyJz6inLdRNkp8dc6ohaDvi0HQ9Y+nxAbNoWjpY maB4fm05By4BqFwloeFGymayjr4hiwqnzXbCiJYR7KLT90iTlrFErDtgt97feQsWAJcqhBtjXvh m00+tNyfK2NRl3gsld8SaVnNOuyDmtRr6GVgj6jJ35zJV5GN9le6Su/Zdxcchh4WnEvnSgwXxpW hueE2WIOUFIVSHpdyyvQUMSZo54kfIs7yYqm6ZAlCvK3iwl8qT2ZfUpk8oTHu9oylmmjXoKwnPj RtslzEvEs5o/eWgr7Dy2qxg8U4Nwv8BvLFI4 X-Google-Smtp-Source: AGHT+IHzIObnoUQcGBoxV9Ph1Z5hy6eHAoB/Jd1I9VDjI/kyRIsdzWoKlqp8YNUNfTpuWoRtQsHjnDHbT+3+ X-Received: by 2002:a05:6214:224d:b0:6e8:f8ef:d659 with SMTP id 6a1803df08f44-6f2c4545f64mr296810606d6.10.1745309409127; Tue, 22 Apr 2025 01:10:09 -0700 (PDT) Received: from postal.iol.unh.edu (postal.iol.unh.edu. [132.177.123.84]) by smtp-relay.gmail.com with ESMTPS id 6a1803df08f44-6f2d1f05747sm2811696d6.10.2025.04.22.01.10.09 (version=TLS1_2 cipher=ECDHE-ECDSA-AES128-GCM-SHA256 bits=128/128); Tue, 22 Apr 2025 01:10:09 -0700 (PDT) X-Relaying-Domain: iol.unh.edu Date: Tue, 22 Apr 2025 01:10:09 -0700 (PDT) Message-ID: <68074ee1.d40a0220.23e36a.f7c1SMTPIN_ADDED_MISSING@mx.google.com> Received: from [172.17.0.5] (unknown [172.18.0.217]) by postal.iol.unh.edu (Postfix) with ESMTP id C5D196052471; Tue, 22 Apr 2025 04:10:08 -0400 (EDT) Subject: |SUCCESS| [GIT MASTER] 03f2ed63a5f4e4b57365e358b49095ef4a82cf7d From: dpdklab@iol.unh.edu To: Test Report Cc: dpdk-test-reports@iol.unh.edu, Xueming Li , Christian Ehrhardt , Kevin Traynor , Luca Boccassi Content-Type: text/plain X-BeenThere: test-report@dpdk.org X-Mailman-Version: 2.1.29 Precedence: list List-Id: automatic DPDK test reports List-Unsubscribe: , List-Archive: List-Post: List-Help: List-Subscribe: , Errors-To: test-report-bounces@dpdk.org _Testing PASS_ Branch: tags/v24.11 03f2ed63a5f4e4b57365e358b49095ef4a82cf7d --> testing pass Upstream job id: ACVP-FIPS-testing#9603 Test environment and result as below: +--------------------+----------------------+----------------------+ | Environment | compressdev_zlib_pmd | dpdk_fips_validation | +====================+======================+======================+ | Ubuntu 22.04 | PASS | SKIPPED | +--------------------+----------------------+----------------------+ | Ubuntu 22.04 (ARM) | PASS | SKIPPED | +--------------------+----------------------+----------------------+ | Ubuntu 20.04 | SKIPPED | PASS | +--------------------+----------------------+----------------------+ Ubuntu 22.04 Kernel: 5.15.0-100-generic Compiler: gcc gcc (Ubuntu 11.4.0-1ubuntu1~22.04) 11.4.0 Ubuntu 22.04 (ARM) Kernel: 5.15.0-97-generic Compiler: gcc gcc (Ubuntu 11.4.0-1ubuntu1~22.04) 11.4.0 Ubuntu 20.04 Kernel: Depends on container host Compiler: gcc (Ubuntu 9.4.0-1ubuntu1~20.04.2) 9.4.0 To view detailed results, visit: https://lab.dpdk.org/results/dashboard/tarballs/33318/ UNH-IOL DPDK Community Lab To manage your email subscriptions, visit: https://lab.dpdk.org/results/dashboard/preferences/subscriptions/