From mboxrd@z Thu Jan 1 00:00:00 1970 Return-Path: Received: from mails.dpdk.org (mails.dpdk.org [217.70.189.124]) by inbox.dpdk.org (Postfix) with ESMTP id C3DAD465F8 for ; Tue, 22 Apr 2025 11:22:03 +0200 (CEST) Received: from mails.dpdk.org (localhost [127.0.0.1]) by mails.dpdk.org (Postfix) with ESMTP id 905C3402E7; Tue, 22 Apr 2025 11:22:03 +0200 (CEST) Received: from mail-il1-f228.google.com (mail-il1-f228.google.com [209.85.166.228]) by mails.dpdk.org (Postfix) with ESMTP id 8C36B402E6 for ; Tue, 22 Apr 2025 11:22:01 +0200 (CEST) Received: by mail-il1-f228.google.com with SMTP id e9e14a558f8ab-3d813c1c39eso39887715ab.0 for ; Tue, 22 Apr 2025 02:22:01 -0700 (PDT) DKIM-Signature: v=1; a=rsa-sha256; c=relaxed/relaxed; d=iol.unh.edu; s=unh-iol; t=1745313721; x=1745918521; darn=dpdk.org; h=cc:to:from:subject:message-id:date:from:to:cc:subject:date :message-id:reply-to; bh=BDX+HfGDJs4Uhh1m4+CmPq/j05v5uKRNwpARo/JnQU4=; b=TmnMT6Dl0CnuOWxYwFYcOGfIlmYGAAuvupX3ZmTFSslSwVTO0f03YO71YHCf66ExNg OFSeeSs4qKUMRFQaOmRfPSYUjpsJopiYNr71gUXyENAEtdQvHXwfXRudkXO0tbewIZxU dRqmGk54Ez6mVCm5VEDEOCvfOl1F6TeP6Klac= X-Google-DKIM-Signature: v=1; a=rsa-sha256; c=relaxed/relaxed; d=1e100.net; s=20230601; t=1745313721; x=1745918521; h=cc:to:from:subject:message-id:date:x-gm-message-state:from:to:cc :subject:date:message-id:reply-to; bh=BDX+HfGDJs4Uhh1m4+CmPq/j05v5uKRNwpARo/JnQU4=; b=G3GVmSQxtyswnxkJ4RUlfslZyMDilJJjq+M+5+Sb+mf+aCbPKdDjF6onfWQz005Utd soHD6ZSKC4nvW2oLWZZ28GBacCychbuYKS9CYf8iRl5pAuuGBplfP/mHJ+R8UkA8Tbn9 l/cVYjzSgMRVLK5asRx2JWA2CEf7c8jvZWv1iZs0DTEMJTQWmIWP2q0Y2RHd4/SdiAhk jCJbZtP3sgiL1JnrdAOiDj4pSlkgmcT0lFh5xRfJLkKhSft4uE0eocLtbjjBM+nK2MaA RLPArmvNrJxBR4ERo3TlYO2kk6bxBBHSK8CfjPMETTa/CUxBTvEW5nZvN+T5rHXLTCNp ca+A== X-Gm-Message-State: AOJu0YyOQPSv114caBCojG8bghWn0dyYRqeP8TxzgM4xvS+W7Na8MQBJ SMr6j8N9wymm1XHWXmFnzZ3M3YIHmaxutCKu8juic62ENBi5v0eTIhTpXtcQynGqycq6WmOaFzq a/Bi5ljHraWhnGqhl1Gcl/VEFFZ21FKJe0FR46kDo X-Gm-Gg: ASbGncvtR7TxS/g+tDYb+Ws6URCDE39YWdUX69HvCTzG396m9utZcAxELaiOjXd2A+c 3Df2wNdKt2iM17FWD0G+hErPStYH+eeUegQp+YTOFm1kwfR6J3rwUixptX/9b25Dn6pfxspI3zY Kzcm2JhVZk5/tSBpeWWWgiqPVj/RXBfE3aS1qsfoznNxlJL+6lrco5qzK+FYL7d0RRhc+USRFoF f8UVfEaEHjadav0kooeDmsWULKj4YxIa6mKTrIwnJ51ArcKuJmn0dDnqsR+tsghPbIPX3Z4oVMR oU8jCLLq0XEsHuc2Zq1VOPD+Y4ttzMySoczG X-Google-Smtp-Source: AGHT+IEb1O01tAOk7NiCwsbI7U4+PHwLgQqBb7r8GFcC7LWSa86iPlkQ9q16RQ0eDzvGPfgybJKIIAXCHndZ X-Received: by 2002:a05:6e02:3083:b0:3d3:f4fc:a291 with SMTP id e9e14a558f8ab-3d89428c213mr172457625ab.19.1745313720828; Tue, 22 Apr 2025 02:22:00 -0700 (PDT) Received: from postal.iol.unh.edu (postal.iol.unh.edu. [132.177.123.84]) by smtp-relay.gmail.com with ESMTPS id e9e14a558f8ab-3d821ed4bd1sm4774435ab.44.2025.04.22.02.22.00 (version=TLS1_2 cipher=ECDHE-ECDSA-AES128-GCM-SHA256 bits=128/128); Tue, 22 Apr 2025 02:22:00 -0700 (PDT) X-Relaying-Domain: iol.unh.edu Date: Tue, 22 Apr 2025 02:22:00 -0700 (PDT) Message-ID: <68075fb8.050a0220.1e24e9.ae22SMTPIN_ADDED_MISSING@mx.google.com> Received: from [172.21.0.6] (unknown [172.18.0.240]) by postal.iol.unh.edu (Postfix) with ESMTP id 43A0C6052471; Tue, 22 Apr 2025 05:22:00 -0400 (EDT) Subject: |SUCCESS| [GIT MASTER] e1079be7f8cd78c0952a2b52404814c926dde2a8 From: dpdklab@iol.unh.edu To: Test Report Cc: dpdk-test-reports@iol.unh.edu, Stephen Hemminger Content-Type: text/plain X-BeenThere: test-report@dpdk.org X-Mailman-Version: 2.1.29 Precedence: list List-Id: automatic DPDK test reports List-Unsubscribe: , List-Archive: List-Post: List-Help: List-Subscribe: , Errors-To: test-report-bounces@dpdk.org _Testing PASS_ Branch: dpdk-next-net e1079be7f8cd78c0952a2b52404814c926dde2a8 --> testing pass Upstream job id: Generic-Unit-Test-DPDK#332661 Test environment and result as below: +-------------------+----------------+ | Environment | dpdk_unit_test | +===================+================+ | CentOS Stream 9 | PASS | +-------------------+----------------+ | Debian 12 | PASS | +-------------------+----------------+ | Fedora 40 | PASS | +-------------------+----------------+ | Fedora 40 (Clang) | PASS | +-------------------+----------------+ | CentOS Stream 10 | PASS | +-------------------+----------------+ | RHEL8 | PASS | +-------------------+----------------+ | Ubuntu 22.04 | PASS | +-------------------+----------------+ | Fedora 41 | PASS | +-------------------+----------------+ | Ubuntu 20.04 | PASS | +-------------------+----------------+ | RHEL9 | PASS | +-------------------+----------------+ | Fedora 41 (Clang) | PASS | +-------------------+----------------+ | Ubuntu 24.04 | PASS | +-------------------+----------------+ CentOS Stream 9 Kernel: Depends on container host Compiler: gcc 11.5.0 20240719 (Red Hat 11.5.0-2) Debian 12 Kernel: Depends on container host Compiler: gcc (Debian 12.2.0-14) 12.2.0 Fedora 40 Kernel: Depends on container host Compiler: gcc 14.2.1 20240912 (Red Hat 14.2.1-3) Fedora 40 (Clang) Kernel: Depends on container host Compiler: clang 18.1.8 (Fedora 18.1.8-1.fc40) CentOS Stream 10 Kernel: Depends on container host Compiler: gcc 14.2.1 20241104 (Red Hat 14.2.1-6) RHEL8 Kernel: Depends on container host Compiler: gcc 8.5.0 20210514 (Red Hat 8.5.0-22) Ubuntu 22.04 Kernel: Depends on container host Compiler: gcc (Ubuntu 11.4.0-1ubuntu1~22.04) 11.4.0 Fedora 41 Kernel: Depends on container host Compiler: gcc 14.2.1 20240912 (Red Hat 14.2.1-3) Ubuntu 20.04 Kernel: Depends on container host Compiler: gcc (Ubuntu 9.4.0-1ubuntu1~20.04.2) 9.4.0 RHEL9 Kernel: Depends on container host Compiler: gcc 11.5.0 20240719 (Red Hat 11.5.0-2) Fedora 41 (Clang) Kernel: Depends on container host Compiler: clang 19.1.5 (Fedora 19.1.5-1.fc41) Ubuntu 24.04 Kernel: Depends on container host Compiler: gcc (Ubuntu 13.3.0-6ubuntu2~24.04) 13.3.0 To view detailed results, visit: https://lab.dpdk.org/results/dashboard/tarballs/33322/ UNH-IOL DPDK Community Lab To manage your email subscriptions, visit: https://lab.dpdk.org/results/dashboard/preferences/subscriptions/