From mboxrd@z Thu Jan 1 00:00:00 1970 Return-Path: Received: from mails.dpdk.org (mails.dpdk.org [217.70.189.124]) by inbox.dpdk.org (Postfix) with ESMTP id 66F6B465F8 for ; Tue, 22 Apr 2025 11:56:47 +0200 (CEST) Received: from mails.dpdk.org (localhost [127.0.0.1]) by mails.dpdk.org (Postfix) with ESMTP id 71090402E7; Tue, 22 Apr 2025 11:56:46 +0200 (CEST) Received: from mail-yw1-f226.google.com (mail-yw1-f226.google.com [209.85.128.226]) by mails.dpdk.org (Postfix) with ESMTP id CF083402E6 for ; Tue, 22 Apr 2025 11:56:44 +0200 (CEST) Received: by mail-yw1-f226.google.com with SMTP id 00721157ae682-702599fa7c5so37036267b3.1 for ; Tue, 22 Apr 2025 02:56:44 -0700 (PDT) DKIM-Signature: v=1; a=rsa-sha256; c=relaxed/relaxed; d=iol.unh.edu; s=unh-iol; t=1745315804; x=1745920604; darn=dpdk.org; h=cc:to:from:subject:message-id:date:from:to:cc:subject:date :message-id:reply-to; bh=XmApEwEIbLeubJGTryXwt5pWn5KiH6RiDo7TJngFYrs=; b=gBWS4xVqx+ASBtbbxoSjuHBy2qNA9W+n1EzXiQm2Cvs8V/6oUVYUGIHS4qWmjmbh93 YwvqUg8sclKRdem8e8zn1TKOmG4IYXzTTKCPKV88Ke9+yA5lZ8vHqKdB/Y2p1kDaHJk8 cyczqbXTPDuTJsDT9hSjYRdaU2vy8UJl1P/uE= X-Google-DKIM-Signature: v=1; a=rsa-sha256; c=relaxed/relaxed; d=1e100.net; s=20230601; t=1745315804; x=1745920604; h=cc:to:from:subject:message-id:date:x-gm-message-state:from:to:cc :subject:date:message-id:reply-to; bh=XmApEwEIbLeubJGTryXwt5pWn5KiH6RiDo7TJngFYrs=; b=rDf/3v5F0ooMt6AJn/WZD6ETeykuE4ohL3kjF9wAxvB0XsMQmqcxsNhLkCbCuPIFxe sojWQ75anm+Y1G+fvht8rWOfHqlQ7NX1dCXdJPYcYNQPeav2bjpNp7E61wpm/8psxTrt 50FSTu9siv0qJvuHrwxqBTZuvCStGILY8los/MNuIcjHv4uVg7/HTZYztSREHWX+pgSP 9jXzPgrtIFM7v4hUJ7VKifM5gM4MvIdzdXZTWpcwZxW12W7HBloBkDJ4/nT5GWLGZ8S1 QtDu0v0zdhnhMRVxpowqsz1KZw344nbztYJYjJMcd+8wsd+w8BpWhqo+sdYipI8tBW2A H1DA== X-Gm-Message-State: AOJu0YzS3HRbKbMbsZzHzCXVfGg++qEr0kfFOaFrl/1arin8ec205x6k EQjHGTDWXqYq1tei/t0gMk6WMxPM6EP6eMPVhLetBUo87q/1haamTOMHV2Dcz2k6sFrmYWcna+K JKS9n4a/EoYyFXfmicy1B65fbv0X+RELmoNGo5aI3rKancDWH0q7u91tF X-Gm-Gg: ASbGncv9waiODvDrgu6VYkvGmNhv8AqPCFCdsoiulcnj/Ed5DLV1vQ+qh6jlcqB/4gU F+SwqtttsXkVaiqUCp4v6oCOxRHjqelFEdf7vV5r1QZhoYiBdjQZl8D2EV5RiUdaLj7g0Oh4aMF HFPRzbxyw6EFRq02x0iQWBdnNtxzgYMNx/03/LSoZT9/13ZEJwLdztQ3ye4EuGcucPTsrcsX9H+ QlKrjbDXXIeCwP6J7P614iKwZiHk2420Gd8jyujPF2QUOn0PSxxVBHKFX0VC9oG9tsjfDpfLSv0 vWWfcUK9i3UZ+kXBvy2H9t+5u28AJYMxr8n1BdWHWjrsLz3Z X-Google-Smtp-Source: AGHT+IH9wnjVhS1vafb5nKid0DD4GxZQmHiu1nEzdhWvbgtCdTDi8ETDcu5Mg1KJxJBrFPRf+E38fMq2xJBm X-Received: by 2002:a05:690c:5c09:b0:6fe:c2b4:f099 with SMTP id 00721157ae682-706ca482bf1mr164819547b3.7.1745315804129; Tue, 22 Apr 2025 02:56:44 -0700 (PDT) Received: from postal.iol.unh.edu (postal.iol.unh.edu. [2606:4100:3880:1234::84]) by smtp-relay.gmail.com with ESMTPS id 00721157ae682-706ca5ced60sm5842577b3.61.2025.04.22.02.56.44 (version=TLS1_2 cipher=ECDHE-ECDSA-AES128-GCM-SHA256 bits=128/128); Tue, 22 Apr 2025 02:56:44 -0700 (PDT) X-Relaying-Domain: iol.unh.edu Date: Tue, 22 Apr 2025 02:56:44 -0700 (PDT) Message-ID: <680767dc.810a0220.302b08.3a32SMTPIN_ADDED_MISSING@mx.google.com> Received: from [172.17.0.3] (unknown [172.18.0.217]) by postal.iol.unh.edu (Postfix) with ESMTP id B68916052471; Tue, 22 Apr 2025 05:56:43 -0400 (EDT) Subject: |SUCCESS| [GIT MASTER] e1079be7f8cd78c0952a2b52404814c926dde2a8 From: dpdklab@iol.unh.edu To: Test Report Cc: dpdk-test-reports@iol.unh.edu, Stephen Hemminger Content-Type: text/plain X-BeenThere: test-report@dpdk.org X-Mailman-Version: 2.1.29 Precedence: list List-Id: automatic DPDK test reports List-Unsubscribe: , List-Archive: List-Post: List-Help: List-Subscribe: , Errors-To: test-report-bounces@dpdk.org _Testing PASS_ Branch: dpdk-next-net e1079be7f8cd78c0952a2b52404814c926dde2a8 --> testing pass Upstream job id: Generic-DPDK-Compile-Meson#381922 Test environment and result as below: +-----------------------------------+--------------------+-------------------+------------------+-------------------+-------------------------+ | Environment | dpdk_meson_compile | dpdk_compile_spdk | dpdk_compile_ovs | dpdk_msvc_compile | dpdk_llvm_clang_compile | +===================================+====================+===================+==================+===================+=========================+ | CentOS Stream 9 | PASS | PASS | SKIPPED | SKIPPED | SKIPPED | +-----------------------------------+--------------------+-------------------+------------------+-------------------+-------------------------+ | Debian 12 | PASS | PASS | SKIPPED | SKIPPED | SKIPPED | +-----------------------------------+--------------------+-------------------+------------------+-------------------+-------------------------+ | CentOS Stream 10 | PASS | SKIPPED | SKIPPED | SKIPPED | SKIPPED | +-----------------------------------+--------------------+-------------------+------------------+-------------------+-------------------------+ | Fedora 41 (Clang) | PASS | PASS | PASS | SKIPPED | SKIPPED | +-----------------------------------+--------------------+-------------------+------------------+-------------------+-------------------------+ | Fedora 40 (Clang) | PASS | PASS | SKIPPED | SKIPPED | SKIPPED | +-----------------------------------+--------------------+-------------------+------------------+-------------------+-------------------------+ | Fedora 40 | PASS | PASS | SKIPPED | SKIPPED | SKIPPED | +-----------------------------------+--------------------+-------------------+------------------+-------------------+-------------------------+ | Fedora 41 | PASS | PASS | PASS | SKIPPED | SKIPPED | +-----------------------------------+--------------------+-------------------+------------------+-------------------+-------------------------+ | openSUSE Leap 15 | PASS | SKIPPED | SKIPPED | SKIPPED | SKIPPED | +-----------------------------------+--------------------+-------------------+------------------+-------------------+-------------------------+ | RHEL8 | PASS | SKIPPED | SKIPPED | SKIPPED | SKIPPED | +-----------------------------------+--------------------+-------------------+------------------+-------------------+-------------------------+ | RHEL9 | PASS | SKIPPED | SKIPPED | SKIPPED | SKIPPED | +-----------------------------------+--------------------+-------------------+------------------+-------------------+-------------------------+ | Ubuntu 22.04 | PASS | PASS | SKIPPED | SKIPPED | SKIPPED | +-----------------------------------+--------------------+-------------------+------------------+-------------------+-------------------------+ | Ubuntu 20.04 | PASS | SKIPPED | SKIPPED | SKIPPED | SKIPPED | +-----------------------------------+--------------------+-------------------+------------------+-------------------+-------------------------+ | Ubuntu 24.04 | PASS | PASS | PASS | SKIPPED | SKIPPED | +-----------------------------------+--------------------+-------------------+------------------+-------------------+-------------------------+ | Alpine | PASS | SKIPPED | SKIPPED | SKIPPED | SKIPPED | +-----------------------------------+--------------------+-------------------+------------------+-------------------+-------------------------+ | Ubuntu 24.04 32 Bit Cross Compile | PASS | SKIPPED | SKIPPED | SKIPPED | SKIPPED | +-----------------------------------+--------------------+-------------------+------------------+-------------------+-------------------------+ | FreeBSD 13.5 | PASS | SKIPPED | SKIPPED | SKIPPED | SKIPPED | +-----------------------------------+--------------------+-------------------+------------------+-------------------+-------------------------+ | FreeBSD 14.2 | PASS | SKIPPED | SKIPPED | SKIPPED | SKIPPED | +-----------------------------------+--------------------+-------------------+------------------+-------------------+-------------------------+ | Windows Server 2022 | SKIPPED | SKIPPED | SKIPPED | PASS | PASS | +-----------------------------------+--------------------+-------------------+------------------+-------------------+-------------------------+ CentOS Stream 9 Kernel: Depends on container host Compiler: gcc 11.5.0 20240719 (Red Hat 11.5.0-2) Debian 12 Kernel: Depends on container host Compiler: gcc (Debian 12.2.0-14) 12.2.0 CentOS Stream 10 Kernel: Depends on container host Compiler: gcc 14.2.1 20241104 (Red Hat 14.2.1-6) Fedora 41 (Clang) Kernel: Depends on container host Compiler: clang 19.1.5 (Fedora 19.1.5-1.fc41) Fedora 40 (Clang) Kernel: Depends on container host Compiler: clang 18.1.8 (Fedora 18.1.8-1.fc40) Fedora 40 Kernel: Depends on container host Compiler: gcc 14.2.1 20240912 (Red Hat 14.2.1-3) Fedora 41 Kernel: Depends on container host Compiler: gcc 14.2.1 20240912 (Red Hat 14.2.1-3) openSUSE Leap 15 Kernel: Depends on container host Compiler: gcc (SUSE Linux) 7.5.0 RHEL8 Kernel: Depends on container host Compiler: gcc 8.5.0 20210514 (Red Hat 8.5.0-22) RHEL9 Kernel: Depends on container host Compiler: gcc 11.5.0 20240719 (Red Hat 11.5.0-2) Ubuntu 22.04 Kernel: Depends on container host Compiler: gcc (Ubuntu 11.4.0-1ubuntu1~22.04) 11.4.0 Ubuntu 20.04 Kernel: 4.19.325-0419325-generic Compiler: gcc (Ubuntu 9.4.0-1ubuntu1~20.04.2) 9.4.0 Ubuntu 24.04 Kernel: Depends on container host Compiler: gcc (Ubuntu 13.3.0-6ubuntu2~24.04) 13.3.0 Alpine Kernel: Depends on container host Compiler: gcc (Alpine 14.2.0) 14.2.0 Ubuntu 24.04 32 Bit Cross Compile Kernel: Depends on container host Compiler: gcc (Ubuntu 13.3.0-6ubuntu2~24.04) 13.3.0 FreeBSD 13.5 Kernel: 13.5-RELEASE Compiler: clang 19.1.7 FreeBSD 14.2 Kernel: 14.2-RELEASE Compiler: clang 18.1.6 Windows Server 2022 Kernel: 10.0.20348.2031 Compiler: clang 15.0.7, gcc 14.1.0 (MinGW), and MSVC VS 19.39.33521 To view detailed results, visit: https://lab.dpdk.org/results/dashboard/tarballs/33322/ UNH-IOL DPDK Community Lab To manage your email subscriptions, visit: https://lab.dpdk.org/results/dashboard/preferences/subscriptions/