From mboxrd@z Thu Jan  1 00:00:00 1970
Return-Path: <test-report-bounces@dpdk.org>
Received: from mails.dpdk.org (mails.dpdk.org [217.70.189.124])
	by inbox.dpdk.org (Postfix) with ESMTP id 39B29465F9
	for <public@inbox.dpdk.org>; Tue, 22 Apr 2025 12:07:02 +0200 (CEST)
Received: from mails.dpdk.org (localhost [127.0.0.1])
	by mails.dpdk.org (Postfix) with ESMTP id 1BD7D402E7;
	Tue, 22 Apr 2025 12:07:02 +0200 (CEST)
Received: from mail-pf1-f225.google.com (mail-pf1-f225.google.com
 [209.85.210.225])
 by mails.dpdk.org (Postfix) with ESMTP id 97CFE402E6
 for <test-report@dpdk.org>; Tue, 22 Apr 2025 12:07:00 +0200 (CEST)
Received: by mail-pf1-f225.google.com with SMTP id
 d2e1a72fcca58-736c1138ae5so4353532b3a.3
 for <test-report@dpdk.org>; Tue, 22 Apr 2025 03:07:00 -0700 (PDT)
DKIM-Signature: v=1; a=rsa-sha256; c=relaxed/relaxed;
 d=iol.unh.edu; s=unh-iol; t=1745316419; x=1745921219; darn=dpdk.org;
 h=references:in-reply-to:cc:to:from:subject:message-id:date:from:to
 :cc:subject:date:message-id:reply-to;
 bh=UPOxWnH7GPdiWHkoZhy3sXLH36VMLfaipfQizCu4cIk=;
 b=TmA8a7KISImMlmt5q6BQ2fMqynZT/DhRKiRIcei5iCq91kFpfiDc3VScLwe5c23DIf
 UuMDF2PNt3NcOcaterRsCDsru0GqYaK82QRKD81fA7eYwH4Y3X8JhwD/lHK6xAPuhXYg
 Jd6A7JgIUkig8jIU90HEn8ErF5TK7KxRgcaNE=
X-Google-DKIM-Signature: v=1; a=rsa-sha256; c=relaxed/relaxed;
 d=1e100.net; s=20230601; t=1745316419; x=1745921219;
 h=references:in-reply-to:cc:to:from:subject:message-id:date
 :x-gm-message-state:from:to:cc:subject:date:message-id:reply-to;
 bh=UPOxWnH7GPdiWHkoZhy3sXLH36VMLfaipfQizCu4cIk=;
 b=rx7jQZIsgNDQnpJJxYCOwP+sy0fna/RAVnxcZHxxocJRMItJBZI1nQZBZN1yNw+Syo
 3eZfm/b6Z33gh5YGXH+vCiyuYWUlg+TAw7eNDoaHVHTDsC/mYMkpwkEW0rmT0o5KG21y
 hl1ZKhF01sqXfdI0+8dmzA6pZFZWDX7btSje28hkLpBEo2MU62ioDsvU4X71iRzQPY+1
 lJA5VFWnWjwmPkiK0t9QpqkcDOUnGfh8hHjaTAek2tUSmAOyR50BFViNWY1gtSZXbMl3
 /oxituQx44zPTtOJ+fKCCm95zZ9Mx2om3pO5JW4gH4ZDwrkx5n2P2+wl9p4FWVnD2Rm2
 xuRA==
X-Gm-Message-State: AOJu0Yxi0rZk3g7vkCbew/7Z3yeqZaoIHa+43GNF2z+FAZjuUrABflAB
 APrvYEQksWX4pPlM/FIuQ8vZclS+m2XU6krTArSYuKohivhDvMe4bJ32dfpz3E1IYxy5LcPq03L
 DHU0NPOSVcxe6yGE7enbQrlzGig18/CM2uSX6o+yL
X-Gm-Gg: ASbGncsIicBFhcx7nw3yBuFyWgRh8IwkUeWy0fcpk2qSsMWVHS6tWENUcMenkKTW06P
 hHLpWJ+LKE9uR0gvq4uxXrcEiYbIrFDaad96AkJP93vnEeiD12Z3K2+y/xADsPxa9FCBMJ2ADRL
 WvJ5SvotGtszQglL9HAiG33eVaHHSilq20EI518Kh+iddfjzaj1cWw3oOf+xUR3HupPRY/2Iyhf
 nrqNakFEQ3T0h9Ie0AkHbOHjN+xsYDOT31NVAXJ3BN3s9uBWcIqilLKSidcLqB+ovxfmBx4/BzQ
 yXyTC5T0OtGo637pQSMntqgms7hGsGMjmRjg
X-Google-Smtp-Source: AGHT+IFngO1wz/UZeE/Neq68wPSNzQYQ9eziPuljKAfqprGcEcWgJI/3YWFAZpHapuspGrt9YEX0nguZzj6+
X-Received: by 2002:a05:6a00:3d02:b0:736:48d1:57f7 with SMTP id
 d2e1a72fcca58-73dc14a364emr18778062b3a.7.1745316419511; 
 Tue, 22 Apr 2025 03:06:59 -0700 (PDT)
Received: from postal.iol.unh.edu (postal.iol.unh.edu. [132.177.123.84])
 by smtp-relay.gmail.com with ESMTPS id
 d2e1a72fcca58-73dbf8e4aa3sm515771b3a.9.2025.04.22.03.06.59
 (version=TLS1_2 cipher=ECDHE-ECDSA-AES128-GCM-SHA256 bits=128/128);
 Tue, 22 Apr 2025 03:06:59 -0700 (PDT)
X-Relaying-Domain: iol.unh.edu
Date: Tue, 22 Apr 2025 03:06:59 -0700 (PDT)
Message-ID: <68076a43.050a0220.1122de.d343SMTPIN_ADDED_MISSING@mx.google.com>
Received: from [172.17.0.3] (unknown [172.18.0.217])
 by postal.iol.unh.edu (Postfix) with ESMTP id 9FB196052471;
 Tue, 22 Apr 2025 06:06:58 -0400 (EDT)
Subject: |SUCCESS| pw153068 [PATCH] ethdev: support RSS based on RoCEv2 heade
From: dpdklab@iol.unh.edu
To: Test Report <test-report@dpdk.org>
Cc: dpdk-test-reports@iol.unh.edu
In-Reply-To: <20250422051459.661395-1-kirankumark@marvell.com>
References: <20250422051459.661395-1-kirankumark@marvell.com>
Content-Type: text/plain
X-BeenThere: test-report@dpdk.org
X-Mailman-Version: 2.1.29
Precedence: list
List-Id: automatic DPDK test reports <test-report.dpdk.org>
List-Unsubscribe: <https://mails.dpdk.org/options/test-report>,
 <mailto:test-report-request@dpdk.org?subject=unsubscribe>
List-Archive: <http://mails.dpdk.org/archives/test-report/>
List-Post: <mailto:test-report@dpdk.org>
List-Help: <mailto:test-report-request@dpdk.org?subject=help>
List-Subscribe: <https://mails.dpdk.org/listinfo/test-report>,
 <mailto:test-report-request@dpdk.org?subject=subscribe>
Errors-To: test-report-bounces@dpdk.org

Test-Label: iol-unit-amd64-testing
Test-Status: SUCCESS
http://dpdk.org/patch/153068

_Testing PASS_

Submitter: Kiran Kumar Kokkilagadda <kirankumark@marvell.com>
Date: Tuesday, April 22 2025 05:14:59 
DPDK git baseline: Repo:dpdk
  Branch: master
  CommitID:e1079be7f8cd78c0952a2b52404814c926dde2a8

153068 --> testing pass

Upstream job id: Generic-VM-Unit-Test-DPDK#28108

Test environment and result as below:

+---------------------+----------------+
|     Environment     | dpdk_unit_test |
+=====================+================+
| Ubuntu 22.04        | PASS           |
+---------------------+----------------+
| Fedora 40 (Clang)   | PASS           |
+---------------------+----------------+
| Fedora 41 (Clang)   | PASS           |
+---------------------+----------------+
| CentOS Stream 9     | PASS           |
+---------------------+----------------+
| Debian 12           | PASS           |
+---------------------+----------------+
| CentOS Stream 10    | PASS           |
+---------------------+----------------+
| Fedora 40           | PASS           |
+---------------------+----------------+
| RHEL8               | PASS           |
+---------------------+----------------+
| Ubuntu 20.04        | PASS           |
+---------------------+----------------+
| Fedora 41           | PASS           |
+---------------------+----------------+
| Ubuntu 24.04        | PASS           |
+---------------------+----------------+
| RHEL9               | PASS           |
+---------------------+----------------+
| Windows Server 2022 | PASS           |
+---------------------+----------------+


Ubuntu 22.04
	Kernel: Depends on container host
	Compiler: gcc (Ubuntu 11.4.0-1ubuntu1~22.04) 11.4.0

Fedora 40 (Clang)
	Kernel: Depends on container host
	Compiler: clang 18.1.8 (Fedora 18.1.8-1.fc40)

Fedora 41 (Clang)
	Kernel: Depends on container host
	Compiler: clang 19.1.5 (Fedora 19.1.5-1.fc41)

CentOS Stream 9
	Kernel: Depends on container host
	Compiler: gcc 11.5.0 20240719 (Red Hat 11.5.0-2)

Debian 12
	Kernel: Depends on container host
	Compiler: gcc (Debian 12.2.0-14) 12.2.0

CentOS Stream 10
	Kernel: Depends on container host
	Compiler: gcc 14.2.1 20241104 (Red Hat 14.2.1-6)

Fedora 40
	Kernel: Depends on container host
	Compiler: gcc 14.2.1 20240912 (Red Hat 14.2.1-3)

RHEL8
	Kernel: Depends on container host
	Compiler: gcc 8.5.0 20210514 (Red Hat 8.5.0-22)

Ubuntu 20.04
	Kernel: Depends on container host
	Compiler: gcc (Ubuntu 9.4.0-1ubuntu1~20.04.2) 9.4.0

Fedora 41
	Kernel: Depends on container host
	Compiler: gcc 14.2.1 20240912 (Red Hat 14.2.1-3)

Ubuntu 24.04
	Kernel: Depends on container host
	Compiler: gcc (Ubuntu 13.3.0-6ubuntu2~24.04) 13.3.0

RHEL9
	Kernel: Depends on container host
	Compiler: gcc 11.5.0 20240719 (Red Hat 11.5.0-2)

Windows Server 2022
	Kernel: 10.0.20348.2031
	Compiler: clang 15.0.7, gcc 14.1.0 (MinGW), and MSVC VS 19.39.33521

To view detailed results, visit:
https://lab.dpdk.org/results/dashboard/patchsets/33045/

UNH-IOL DPDK Community Lab

To manage your email subscriptions, visit: 
https://lab.dpdk.org/results/dashboard/preferences/subscriptions/