From mboxrd@z Thu Jan 1 00:00:00 1970 Return-Path: Received: from mails.dpdk.org (mails.dpdk.org [217.70.189.124]) by inbox.dpdk.org (Postfix) with ESMTP id 7AF2E465F9 for ; Tue, 22 Apr 2025 12:56:36 +0200 (CEST) Received: from mails.dpdk.org (localhost [127.0.0.1]) by mails.dpdk.org (Postfix) with ESMTP id 567AD402E7; Tue, 22 Apr 2025 12:56:36 +0200 (CEST) Received: from mail-pl1-f226.google.com (mail-pl1-f226.google.com [209.85.214.226]) by mails.dpdk.org (Postfix) with ESMTP id 242EB402E6 for ; Tue, 22 Apr 2025 12:56:35 +0200 (CEST) Received: by mail-pl1-f226.google.com with SMTP id d9443c01a7336-223fd89d036so60423065ad.1 for ; Tue, 22 Apr 2025 03:56:35 -0700 (PDT) DKIM-Signature: v=1; a=rsa-sha256; c=relaxed/relaxed; d=iol.unh.edu; s=unh-iol; t=1745319394; x=1745924194; darn=dpdk.org; h=cc:to:from:subject:message-id:date:from:to:cc:subject:date :message-id:reply-to; bh=iNOhuECWjG8+grTtAgGQR/ozmryQpJRZq2qFR17fhIQ=; b=UCsdk9WdRnfFJBx0fqJpFVinA/bdIZS77LqBNtcB6TKYgMe6NPzPtpnxsI1pJn4Z03 JNKCfdQ5oNK7HhEKjshTsL8PnHgi1HT1wR8v5yQnm2V5UxNpkaQeowHiGPyIsyrF4s9b L8noByWrcTgo4BByt/bYaLtzQUsfnMDNX23Gc= X-Google-DKIM-Signature: v=1; a=rsa-sha256; c=relaxed/relaxed; d=1e100.net; s=20230601; t=1745319394; x=1745924194; h=cc:to:from:subject:message-id:date:x-gm-message-state:from:to:cc :subject:date:message-id:reply-to; bh=iNOhuECWjG8+grTtAgGQR/ozmryQpJRZq2qFR17fhIQ=; b=pJ7vhPtoyUebhbLNKgrgf3ZtEAaLJ9921fYy2P64iVDUatvoOEa/z52a1N9ND7ShKI KTfbMSZmWs1O3KY5c+pmgf1jFH2X8UarnqWRZfYPxA1JioX35kVfAlgqAGRDFJfFXis9 mNmwqk/iaS5Lam1UheZ6TavciV+GRcWVc9FUmOJz9271K6Xm4V6MC+81GdfIm2nWcMFZ CjgllyEsVTBYMqeln8LuoK8WS+/MsclC4M343abrDuY1oTRmdQamN4MHhNAj5OqpV2cq Uc/jJNZ2G+EAmE8RmLmJxo1X8ivFlVKo2JFv5wLHstEQM6XR3m6YZJ+he8Ouux7em9tT wdeA== X-Gm-Message-State: AOJu0YwPK5M/MOKGCIYAZ7abJ35TO3hd3P91ksjbw516/KgNVrA4hPGl f28Ke+0A7m28dG6RVEFtS3W6/9R/VzeTLS2y0JqOmQrBGwFL5on9fGTWFd0dx9vTge9l9TwFBnk qw++bMPfGRn+ybRW9s6S+FI9pX+TncCHk+Kzm256p X-Gm-Gg: ASbGncuPy+10pVb8mSJvlboS4JKpFPS1rzWTQLYWGizzgH3mISo5xGQA15keTSwWOEt 7f+N/+oO+GQ7VFtSZesK7+MDDw3DMZ3aYfDBlk66AKlOSwDGO6h0bjTWK4AVcLjARqJk0+Bkvsp 4Z3Jy1WOvBPGzDaMYOhi6Bib/we1WAB/rI2owfm7qHxuVogo7gtoMecUXFqX3n3dcY8AN2+D66K oP/m0ydxMClilEw4IH9FaFgqDfQaOHhJUFuWd0G7MT0EfxKMLO2VY5P3DQvjgQ/qBvtRyg49W+K eWeflCrmVdfLckCBQT9g5QN+mEoslNJr30HC X-Google-Smtp-Source: AGHT+IEB4NMciYtrmkQa47faZ0nYMu1QxIscvyFa99E9rHRaTlxx0vnW+zsFLb61zSh+rp5xezISa7S8W94s X-Received: by 2002:a17:903:98f:b0:224:f12:3746 with SMTP id d9443c01a7336-22c535aca10mr214858185ad.30.1745319394234; Tue, 22 Apr 2025 03:56:34 -0700 (PDT) Received: from postal.iol.unh.edu (postal.iol.unh.edu. [132.177.123.84]) by smtp-relay.gmail.com with ESMTPS id d9443c01a7336-22c50bd5eaasm4508525ad.15.2025.04.22.03.56.34 (version=TLS1_2 cipher=ECDHE-ECDSA-AES128-GCM-SHA256 bits=128/128); Tue, 22 Apr 2025 03:56:34 -0700 (PDT) X-Relaying-Domain: iol.unh.edu Date: Tue, 22 Apr 2025 03:56:34 -0700 (PDT) Message-ID: <680775e2.170a0220.3326b2.9e38SMTPIN_ADDED_MISSING@mx.google.com> Received: from [172.17.0.3] (unknown [172.18.0.217]) by postal.iol.unh.edu (Postfix) with ESMTP id 879436052471; Tue, 22 Apr 2025 06:56:33 -0400 (EDT) Subject: |SUCCESS| [GIT MASTER] e1079be7f8cd78c0952a2b52404814c926dde2a8 From: dpdklab@iol.unh.edu To: Test Report Cc: dpdk-test-reports@iol.unh.edu, Stephen Hemminger Content-Type: text/plain X-BeenThere: test-report@dpdk.org X-Mailman-Version: 2.1.29 Precedence: list List-Id: automatic DPDK test reports List-Unsubscribe: , List-Archive: List-Post: List-Help: List-Subscribe: , Errors-To: test-report-bounces@dpdk.org _Testing PASS_ Branch: dpdk-next-net e1079be7f8cd78c0952a2b52404814c926dde2a8 --> testing pass Upstream job id: Generic-Unit-Test-DPDK#332645 Test environment and result as below: +-----------------------------+----------------+--------------+------------------------------+---------------------------+ | Environment | dpdk_unit_test | lpm_autotest | cryptodev_sw_snow3g_autotest | cryptodev_sw_zuc_autotest | +=============================+================+==============+==============================+===========================+ | 32-bit Ubuntu 22.04.4 (ARM) | PASS | SKIPPED | SKIPPED | SKIPPED | +-----------------------------+----------------+--------------+------------------------------+---------------------------+ | CentOS Stream 9 (ARM) | PASS | SKIPPED | SKIPPED | SKIPPED | +-----------------------------+----------------+--------------+------------------------------+---------------------------+ | CentOS Stream 10 (ARM) | PASS | SKIPPED | SKIPPED | SKIPPED | +-----------------------------+----------------+--------------+------------------------------+---------------------------+ | Fedora 40 (ARM) | PASS | SKIPPED | SKIPPED | SKIPPED | +-----------------------------+----------------+--------------+------------------------------+---------------------------+ | Fedora 40 (ARM Clang) | PASS | SKIPPED | SKIPPED | SKIPPED | +-----------------------------+----------------+--------------+------------------------------+---------------------------+ | Debian 12 (arm) | PASS | SKIPPED | PASS | PASS | +-----------------------------+----------------+--------------+------------------------------+---------------------------+ | Ubuntu 20.04 (ARM) | PASS | SKIPPED | SKIPPED | SKIPPED | +-----------------------------+----------------+--------------+------------------------------+---------------------------+ | Fedora 41 (ARM) | PASS | SKIPPED | SKIPPED | SKIPPED | +-----------------------------+----------------+--------------+------------------------------+---------------------------+ | RHEL9 (ARM) | PASS | SKIPPED | SKIPPED | SKIPPED | +-----------------------------+----------------+--------------+------------------------------+---------------------------+ | Fedora 41 (ARM Clang) | PASS | SKIPPED | SKIPPED | SKIPPED | +-----------------------------+----------------+--------------+------------------------------+---------------------------+ | Ubuntu 24.04 (ARM) | PASS | SKIPPED | SKIPPED | SKIPPED | +-----------------------------+----------------+--------------+------------------------------+---------------------------+ | Ubuntu 22.04 (ARM) | PASS | SKIPPED | SKIPPED | SKIPPED | +-----------------------------+----------------+--------------+------------------------------+---------------------------+ | Ubuntu 20.04 ARM SVE | SKIPPED | PASS | SKIPPED | SKIPPED | +-----------------------------+----------------+--------------+------------------------------+---------------------------+ 32-bit Ubuntu 22.04.4 (ARM) Kernel: 5.15.83+ aarch64 Compiler: gcc (Ubuntu 11.4.0-1ubuntu1~22.04) 11.4.0 CentOS Stream 9 (ARM) Kernel: Depends on container host Compiler: gcc 11.5.0 20240719 (Red Hat 11.5.0-2) CentOS Stream 10 (ARM) Kernel: Depends on container host Compiler: gcc 14.2.1 20241104 (Red Hat 14.2.1-6) Fedora 40 (ARM) Kernel: Depends on container host Compiler: gcc 14.2.1 20240912 (Red Hat 14.2.1-3) Fedora 40 (ARM Clang) Kernel: Depends on container host Compiler: clang 18.1.8 (Fedora 18.1.8-1.fc40) Debian 12 (arm) Kernel: Depends on container host Compiler: gcc (Debian 12.2.0-14) 12.2.0 Ubuntu 20.04 (ARM) Kernel: Depends on container host Compiler: gcc (Ubuntu 9.4.0-1ubuntu1~20.04.2) 9.4.0 Fedora 41 (ARM) Kernel: Depends on container host Compiler: gcc 14.2.1 20240912 (Red Hat 14.2.1-3) RHEL9 (ARM) Kernel: Depends on container host Compiler: gcc 11.5.0 20240719 (Red Hat 11.5.0-2) Fedora 41 (ARM Clang) Kernel: Depends on container host Compiler: clang 19.1.5 (Fedora 19.1.5-1.fc41) Ubuntu 24.04 (ARM) Kernel: Depends on container host Compiler: gcc (Ubuntu 13.3.0-6ubuntu2~24.04) 13.3.0 Ubuntu 22.04 (ARM) Kernel: Depends on container host Compiler: gcc (Ubuntu 11.4.0-1ubuntu1~22.04) 11.4.0 Ubuntu 20.04 ARM SVE Kernel: Depends on container host Compiler: gcc (Ubuntu 10.5.0-1ubuntu1~20.04) 10.5.0 To view detailed results, visit: https://lab.dpdk.org/results/dashboard/tarballs/33322/ UNH-IOL DPDK Community Lab To manage your email subscriptions, visit: https://lab.dpdk.org/results/dashboard/preferences/subscriptions/